Workbook
Name \s: #REF!
Name \s: #REF!
Name \t: #REF!
Name \t: #REF!
Name __6Excel_BuiltIn_Print_Area_3_1_1_1_1_1: #REF!
Name __6Excel_BuiltIn_Print_Area_3_1_1_1_1_1: #REF!
Name _10Excel_BuiltIn_Print_Area_5_1: #REF!
Name _10Excel_BuiltIn_Print_Area_7_1: #REF!
Name _11Excel_BuiltIn_Print_Area_8_1: ([1]EMERGÊNCIA!$A$1:$N$213,[1]EMERGÊNCIA!$A$214:$N$290)
Name _12Excel_BuiltIn_Print_Area_6_1: #REF!
Name _12Excel_BuiltIn_Print_Area_9_1: #REF!
Name _13Excel_BuiltIn_Print_Titles_3_1: #REF!
Name _14Excel_BuiltIn_Print_Area_7_1: #REF!
Name _14Excel_BuiltIn_Print_Titles_4_1: #REF!
Name _15Excel_BuiltIn_Print_Area_8_1: ([1]EMERGÊNCIA!$A$1:$N$213,[1]EMERGÊNCIA!$A$214:$N$290)
Name _15Excel_BuiltIn_Print_Titles_5_1: #REF!
Name _16Excel_BuiltIn_Print_Titles_6_1: #REF!
Name _17Excel_BuiltIn_Print_Area_9_1: #REF!
Name _17Excel_BuiltIn_Print_Titles_7_1: #REF!
Name _18Excel_BuiltIn_Print_Titles_9_1: #REF!
Name _1Excel_BuiltIn__FilterDatabase_12_1: #REF!
Name _1Excel_BuiltIn_Print_Area_2_1: #REF!
Name _28Excel_BuiltIn_Print_Titles_3_1: #REF!
Name _2Excel_BuiltIn__FilterDatabase_12_1: #REF!
Name _2Excel_BuiltIn_Print_Area_1_1_1_1_1_1_1: #REF!
Name _2Excel_BuiltIn_Print_Area_3_1_1: #REF!
Name _39Excel_BuiltIn_Print_Titles_4_1: #REF!
Name _3Excel_BuiltIn_Print_Area_2_1: #REF!
Name _3Excel_BuiltIn_Print_Area_3_1_1_1_1_1: #REF!
Name _4Excel_BuiltIn_Print_Area_3_1: #REF!
Name _4Excel_BuiltIn_Print_Area_3_1_1_1_1_1: #REF!
Name _50Excel_BuiltIn_Print_Titles_5_1: #REF!
Name _5Excel_BuiltIn_Print_Area_3_1: #REF!
Name _61Excel_BuiltIn_Print_Titles_6_1: #REF!
Name _6Excel_BuiltIn_Print_Area_3_1_1_1_1_1: #REF!
Name _72Excel_BuiltIn_Print_Titles_7_1: #REF!
Name _7Excel_BuiltIn_Print_Area_4_1: #REF!
Name _83Excel_BuiltIn_Print_Titles_9_1: #REF!
Name _8Excel_BuiltIn_Print_Area_4_1: #REF!
Name _8Excel_BuiltIn_Print_Area_5_1: #REF!
Name _9Excel_BuiltIn_Print_Area_6_1: #REF!
Name _aaa1: #REF!
Name _aaa2: #REF!
Name _For01: #REF!
Name _For01: #REF!
Name _int01: #REF!
Name _int01: #REF!
Name _int02: #REF!
Name _int02: #REF!
Name _int03: #REF!
Name _int04: #REF!
Name _int05: #REF!
Name _lim01: #REF!
Name _POS21: #REF!
Name _s: #REF!
Name _tot1: [2]PLANILHA!#REF!
Name _z: #REF!
Name _z: #REF!
Name AA: #REF!
Name AA: #REF!

Sheet 27ª MEDIÇÃO 
C1: GOVERNO DO ESTADO DO ESPÍRITO SANTO-POLÍCIA CIVIL
A2: Objeto: Contratação de empresa para execução da obra Reforma, Adequação e Ampliação da 1ª Delegacia Regional de Vitória/ES, com fornecimento de mão-de-obra e materiais.
A3: CONTRATADA: VILLA CONSTRUTORA LTDA
A4: E-DOCS 2022-Q4C3Z | H4: ORDEM DE SERVIÇO: 26/06/2023
A5: CONCORRÊNCIA Nº: 003/2022 | H5: PRAZO: 29 meses
A6: CONTRATO PCES: 009/2023 | H6: TÉRMINO: 26.11.2025
H7: ACUMULADO TOTAL | K7: À EXECUTAR
A8: REFERÊNCIA | B8: CÓDIGO | C8: DESCRIÇÃO | D8: UNIDADE | E8: PREÇO UNITÁRIO | F8: QUANTIDADE | G8: PREÇO TOTAL | H8: QUANT | I8: TOTAL | J8: % | K8: QUANT | L8: TOTAL | M8: %
A9: 01 | B9: SERVIÇOS PRELIMINARES | G9: =G10+G43+G45+G48 -> 276251.92 | H9: 0 | I9: 276252.8 | J9: =I9/$G9 -> 1.0000032 | K9: =F9-H9 -> 0 | L9: =L10+L43+L45+L48 -> 0 | M9: =L9/$G9 -> 0
A10: 0101 | B10: DEMOLIÇÕES E RETIRADAS | G10: =SUM(G11:G42) -> 182048.65 | H10: 0 | I10: 182049.19 | J10: =I10/$G10 -> 1.000003 | K10: =F10-H10 -> 0 | L10: =SUM(L11:L42) -> 0 | M10: =L10/$G10 -> 0
A11: '010101 | B11: LABOR - 010209 - 1 | C11: Demolição de alvenaria | D11: m3 | E11: 62.73 | F11: =95.05+21.39 -> 116.44 | G11: =F11*$E11 -> 7304.2812 | H11: 116.44 | I11: 7304.2812 | J11: =IF(H11=0,"",H11/$F11) -> 1 | K11: =F11-H11 -> 0 | L11: =K11*$E11 -> 0 | M11: =IF(K11=0,"",K11/$F11) | N11: =F11-H11 -> 0
A12: '010102 | B12: COMPOSIÇÃO - 2018.000001 | C12: Retirada de paredes divisórias de painel e em gesso acartonado, sem reaproveitamento | D12: m2 | E12: 27.99 | F12: 406.26 | G12: =F12*$E12 -> 11371.217 | H12: 406.26 | I12: 11371.217 | J12: =IF(H12=0,"",H12/$F12) -> 1 | K12: =F12-H12 -> 0 | L12: =K12*$E12 -> 0 | M12: =IF(K12=0,"",K12/$F12) | N12: =F12-H12 -> 0
A13: '010103 | B13: LABOR - 010224 - 1 | C13: Retirada de grades, gradis, alambrados, cercas e portões | D13: m2 | E13: 18.42 | F13: 123.33 | G13: =F13*$E13 -> 2271.7386 | H13: 123.33 | I13: 2271.7386 | J13: =IF(H13=0,"",H13/$F13) -> 1 | K13: =F13-H13 -> 0 | L13: =K13*$E13 -> 0 | M13: =IF(K13=0,"",K13/$F13) | N13: =F13-H13 -> 0
A14: '010104 | B14: COMPOSIÇÃO - 2018.000240 | C14: Retirada de vidros das esquadrias | D14: m2 | E14: 3.69 | F14: 74.81 | G14: =F14*$E14 -> 276.0489 | H14: 74.81 | I14: 276.0489 | J14: =IF(H14=0,"",H14/$F14) -> 1 | K14: =F14-H14 -> 0 | L14: =K14*$E14 -> 0 | M14: =IF(K14=0,"",K14/$F14) | N14: =F14-H14 -> 0
A15: '010105 | B15: LABOR - 010219 - 1 | C15: Demolição manual de concreto armado (EMOP 05.001.033) | D15: m3 | E15: 345.47 | F15: =36.16+25.54 -> 61.7 | G15: =F15*$E15 -> 21315.499 | H15: 61.7 | I15: 21315.499 | J15: =IF(H15=0,"",H15/$F15) -> 1 | K15: =F15-H15 -> 0 | L15: =K15*$E15 -> 0 | M15: =IF(K15=0,"",K15/$F15) | N15: =F15-H15 -> 0
A16: '010106 | B16: LABOR - 010211 - 1 | C16: Demolição de concreto armado, com utilização de rompedor pneumático | D16: m3 | E16: 996.93 | F16: 74.31 | G16: =F16*$E16 -> 74081.868 | H16: 74.31 | I16: 74081.868 | J16: =IF(H16=0,"",H16/$F16) -> 1 | K16: =F16-H16 -> 0 | L16: =K16*$E16 -> 0 | M16: =IF(K16=0,"",K16/$F16) | N16: =F16-H16 -> 0
A17: '010107 | B17: LABOR - 010216 - 1 | C17: Retirada de meio-fio de concreto | D17: m | E17: 1.46 | F17: 98.85 | G17: =F17*$E17 -> 144.321 | H17: 98.85 | I17: 144.321 | J17: =IF(H17=0,"",H17/$F17) -> 1 | K17: =F17-H17 -> 0 | L17: =K17*$E17 -> 0 | M17: =IF(K17=0,"",K17/$F17) | N17: =F17-H17 -> 0
A18: '010108 | B18: LABOR - 010201 - 1 | C18: Demolição de piso cimentado inclusive lastro de concreto | D18: m2 | E18: 27.18 | F18: 261.5 | G18: =F18*$E18 -> 7107.57 | H18: 261.5 | I18: 7107.57 | J18: =IF(H18=0,"",H18/$F18) -> 1 | K18: =F18-H18 -> 0 | L18: =K18*$E18 -> 0 | M18: =IF(K18=0,"",K18/$F18) | N18: =F18-H18 -> 0
A19: '010109 | B19: LABOR - 010223 - 1 | C19: Retirada de aparelhos sanitários | D19: und | E19: 21.63 | F19: 12 | G19: =F19*$E19 -> 259.56 | H19: 12 | I19: 259.56 | J19: =IF(H19=0,"",H19/$F19) -> 1 | K19: =F19-H19 -> 0 | L19: =K19*$E19 -> 0 | M19: =IF(K19=0,"",K19/$F19) | N19: =F19-H19 -> 0
A20: '010110 | B20: LABOR - 010225 - 1 | C20: Retirada de bancada de pia | D20: m2 | E20: 25.96 | F20: 8.49 | G20: =F20*$E20 -> 220.4004 | H20: 8.49 | I20: 220.4004 | J20: =IF(H20=0,"",H20/$F20) -> 1 | K20: =F20-H20 -> 0 | L20: =K20*$E20 -> 0 | M20: =IF(K20=0,"",K20/$F20) | N20: =F20-H20 -> 0
A21: '010111 | B21: COMPOSIÇÃO - 2018.000244 | C21: Remoção de armários sob bancada, incl. elementos p/ fixação | D21: m2 | E21: 4.33 | F21: 29.67 | G21: =F21*$E21 -> 128.4711 | H21: 29.67 | I21: 128.4711 | J21: =IF(H21=0,"",H21/$F21) -> 1 | K21: =F21-H21 -> 0 | L21: =K21*$E21 -> 0 | M21: =IF(K21=0,"",K21/$F21) | N21: =F21-H21 -> 0
A22: '010112 | B22: LABOR - 010286 - 1 | C22: Demolição de divisória de granito | D22: m2 | E22: 15.47 | F22: 2.97 | G22: =F22*$E22 -> 45.9459 | H22: 2.97 | I22: 45.9459 | J22: =IF(H22=0,"",H22/$F22) -> 1 | K22: =F22-H22 -> 0 | L22: =K22*$E22 -> 0 | M22: =IF(K22=0,"",K22/$F22) | N22: =F22-H22 -> 0
A23: '010113 | B23: LABOR - 010215 - 1 | C23: Retirada de esquadrias metálicas | D23: m2 | E23: 1.46 | F23: 71.84 | G23: =F23*$E23 -> 104.8864 | H23: 71.84 | I23: 104.8864 | J23: =IF(H23=0,"",H23/$F23) -> 1 | K23: =F23-H23 -> 0 | L23: =K23*$E23 -> 0 | M23: =IF(K23=0,"",K23/$F23) | N23: =F23-H23 -> 0
A24: '010114 | B24: COMPOSIÇÃO - 2018.000241 | C24: Retirada de persianas | D24: m2 | E24: 4.61 | F24: 49.95 | G24: =F24*$E24 -> 230.2695 | H24: 49.95 | I24: 230.2695 | J24: =IF(H24=0,"",H24/$F24) -> 1 | K24: =F24-H24 -> 0 | L24: =K24*$E24 -> 0 | M24: =IF(K24=0,"",K24/$F24) | N24: =F24-H24 -> 0
A25: '010115 | B25: LABOR - 010214 - 1 | C25: Retirada de portas e janelas de madeira, inclusive batentes | D25: m2 | E25: 16.72 | F25: 53.55 | G25: =F25*$E25 -> 895.356 | H25: 53.55 | I25: 895.356 | J25: =IF(H25=0,"",H25/$F25) -> 1 | K25: =F25-H25 -> 0 | L25: =K25*$E25 -> 0 | M25: =IF(K25=0,"",K25/$F25) | N25: =F25-H25 -> 0
A26: '010116 | B26: LABOR - 010280 - 1 | C26: Remoção de cobertura em telha metálica, exclusive estrutura | D26: m2 | E26: 9.08 | F26: 408.64 | G26: =F26*$E26 -> 3710.4512 | H26: 408.64 | I26: 3710.4512 | J26: =IF(H26=0,"",H26/$F26) -> 1 | K26: =F26-H26 -> 0 | L26: =K26*$E26 -> 0 | M26: =IF(K26=0,"",K26/$F26) | N26: =F26-H26 -> 0
A27: '010117 | B27: COMPOSIÇÃO - 2018.000242 | C27: Remoção de estrutura metálica para telhado com retirada de solda e corte de peças por meio de lixadeira, sem reaproveitamento | D27: m2 | E27: 9.41 | F27: 408.64 | G27: =F27*$E27 -> 3845.3024 | H27: 408.7 | I27: 3845.867 | J27: =IF(H27=0,"",H27/$F27) -> 1.0001468 | K27: 0 | L27: =K27*$E27 -> 0 | M27: =IF(K27=0,"",K27/$F27) | N27: =F27-H27 -> -0.06
A28: '010118 | B28: LABOR - 010264 - 1 | C28: Demolição de piso granilite(Incluindo contrapiso) | D28: m2 | E28: 29.01 | F28: 158.78 | G28: =F28*$E28 -> 4606.2078 | H28: 158.78 | I28: 4606.2078 | J28: =IF(H28=0,"",H28/$F28) -> 1 | K28: =F28-H28 -> 0 | L28: =K28*$E28 -> 0 | M28: =IF(K28=0,"",K28/$F28) | N28: =F28-H28 -> 0
A29: '010119 | B29: LABOR - 010331 - 1 | C29: Demolição de piso, soleira, peitoris e escadas em mármore ou granito, exclusive regularização | D29: m2 | E29: 11.2 | F29: 114.02 | G29: =F29*$E29 -> 1277.024 | H29: 114.02 | I29: 1277.024 | J29: =IF(H29=0,"",H29/$F29) -> 1 | K29: =F29-H29 -> 0 | L29: =K29*$E29 -> 0 | M29: =IF(K29=0,"",K29/$F29) | N29: =F29-H29 -> 0
A30: '010120 | B30: LABOR - 010202 - 1 | C30: Demolição de piso revestido com cerâmica (Incluindo contrapiso) | D30: m2 | E30: 14.63 | F30: 406.93 | G30: =F30*$E30 -> 5953.3859 | H30: 406.93 | I30: 5953.3859 | J30: =IF(H30=0,"",H30/$F30) -> 1 | K30: =F30-H30 -> 0 | L30: =K30*$E30 -> 0 | M30: =IF(K30=0,"",K30/$F30) | N30: =F30-H30 -> 0
A31: '010121 | B31: LABOR - 010404 - 1 | C31: Corte e destocamento de árvores com diâmetro superior a 30 cm | D31: und | E31: 137.44 | F31: 1 | G31: =F31*$E31 -> 137.44 | H31: 1 | I31: 137.44 | J31: =IF(H31=0,"",H31/$F31) -> 1 | K31: =F31-H31 -> 0 | L31: =K31*$E31 -> 0 | M31: =IF(K31=0,"",K31/$F31) | N31: =F31-H31 -> 0
A32: '010122 | B32: COMPOSIÇÃO - 2018.000002 | C32: Corte e destocamento de árvores com diâmetro superior a 30 cm | D32: m | E32: 19.48 | F32: 7.8 | G32: =F32*$E32 -> 151.944 | H32: 7.8 | I32: 151.944 | J32: =IF(H32=0,"",H32/$F32) -> 1 | K32: =F32-H32 -> 0 | L32: =K32*$E32 -> 0 | M32: =IF(K32=0,"",K32/$F32) | N32: =F32-H32 -> 0
A33: '010123 | B33: COMPOSIÇÃO - 2018.000003 | C33: Retirada de corrimão, guarda-corpo e tubos metálicos, chumbados e/ou fixados em estrutura | D33: m | E33: 13.19 | F33: 15.6 | G33: =F33*$E33 -> 205.764 | H33: 15.6 | I33: 205.764 | J33: =IF(H33=0,"",H33/$F33) -> 1 | K33: =F33-H33 -> 0 | L33: =K33*$E33 -> 0 | M33: =IF(K33=0,"",K33/$F33) | N33: =F33-H33 -> 0
A34: '010124 | B34: COMPOSIÇÃO - 2018.000243 | C34: Remoção de caixa d´água de polietileno, inclusive tubulação de ligação | D34: und | E34: 297.25 | F34: 2 | G34: =F34*$E34 -> 594.5 | H34: 2 | I34: 594.5 | J34: =IF(H34=0,"",H34/$F34) -> 1 | K34: =F34-H34 -> 0 | L34: =K34*$E34 -> 0 | M34: =IF(K34=0,"",K34/$F34) | N34: =F34-H34 -> 0
A35: '010125 | B35: COMPOSIÇÃO - 2018.000245 | C35: Remoção de ar condicionado tipo Split (condensadoras, evaporadoras, rede frigorígena, recolhimento do gás com destinação adequada) | D35: und | E35: 42.25 | F35: 16 | G35: =F35*$E35 -> 676 | H35: 16 | I35: 676 | J35: =IF(H35=0,"",H35/$F35) -> 1 | K35: =F35-H35 -> 0 | L35: =K35*$E35 -> 0 | M35: =IF(K35=0,"",K35/$F35) | N35: =F35-H35 -> 0
A36: '010126 | B36: COMPOSIÇÃO - 2018.000259 | C36: Retirada de ventilador de teto | D36: und | E36: 45.8 | F36: 2 | G36: =F36*$E36 -> 91.6 | H36: 2 | I36: 91.6 | J36: =IF(H36=0,"",H36/$F36) -> 1 | K36: =F36-H36 -> 0 | L36: =K36*$E36 -> 0 | M36: =IF(K36=0,"",K36/$F36) | N36: =F36-H36 -> 0
A37: '010127 | B37: LABOR - 010266 - 1 | C37: Remoção de forro de gesso | D37: m2 | E37: 1.83 | F37: 351.35 | G37: =F37*$E37 -> 642.9705 | H37: 351.35 | I37: 642.9705 | J37: =IF(H37=0,"",H37/$F37) -> 1 | K37: =F37-H37 -> 0 | L37: =K37*$E37 -> 0 | M37: =IF(K37=0,"",K37/$F37) | N37: =F37-H37 -> 0
A38: 010128 | B38: LABOR - 010230 - 1 | C38: Retirada de pintura antiga a base de PVA | D38: m2 | E38: 6.72 | F38: 566.15 | G38: =F38*$E38 -> 3804.528 | H38: 566.146 | I38: 3804.5011 | J38: =IF(H38=0,"",H38/$F38) -> 0.99999293 | K38: =F38-H38 -> 0.004 | L38: 0 | M38: =IF(K38=0,"",K38/$F38) -> 7.0652654e-06 | N38: =F38-H38 -> 0.004
A39: '010129 | B39: LABOR - 010206 - 1 | C39: Demolição de revestimento com azulejos (Incluindo emboço) | D39: m2 | E39: 52.27 | F39: 466.23 | G39: =F39*$E39 -> 24369.842 | H39: 466.23 | I39: 24369.842 | J39: =IF(H39=0,"",H39/$F39) -> 1 | K39: =F39-H39 -> 0 | L39: =K39*$E39 -> 0 | M39: =IF(K39=0,"",K39/$F39) | N39: =F39-H39 -> 0
A40: '010130 | B40: SINAPI - 97640 - 50 | C40: Remoção de forros de drywall, pvc e fibromineral, de forma manual, sem reaproveitamento. af_12/2017 | D40: m2 | E40: 2.07 | F40: 135.77 | G40: =F40*$E40 -> 281.0439 | H40: 135.77 | I40: 281.0439 | J40: =IF(H40=0,"",H40/$F40) -> 1 | K40: =F40-H40 -> 0 | L40: =K40*$E40 -> 0 | M40: =IF(K40=0,"",K40/$F40) | N40: =F40-H40 -> 0
...

Sheet MEMÓRIA 27ª medição
A1: MEMÓRIA DE CÁLCULO
A3: REFORMA, ADEQUAÇÃO E AMPLIAÇÃO DA 1ª DELEGACIA REGIONAL DE VITORIA/ES
A5: Vitória, 05 de Junho de 2024.
A6: Cliente | B6: Valor atual | C6: Base | D6: Municipio | E6: Tipo de Obra | F6: Mês | G6: Med | H6: Contratada | J6: Contrato | K6: O/S | L6: Data Início | M6: Término | N6: Prazo
A7: PC-ES | B7: 4627849.6 | C7: 44593 | D7: Vitória | E7: Reforma | F7: 01/12/2024 - 31/12/2024 | G7: 17ª | H7: VILLA CONSTRUTORA | J7: 009/2023 | K7: 008/2023 | L7: 45103 | M7: =L7+N7 -> 45523 | N7: =14*30 -> 420
A8: ITEM | B8: DESCRIÇÃO | K8: UND | L8: Quant. Contratada | N8: Saldo atual
A10: PLANILHA
A12: 010101 | B12: Demolição de alvenaria | K12: m³ | L12: =95.05+21.39 -> 116.44 | N12: 0
D13: x | E13: y | F13: z | G13: w | H13: TOTAL
D14: Comp. (m) | E14: Altura (m) | F14: Larg ( m) | G14: Qtd ( unid)
A15: 1ª medição | B15: 1º Pavimento:
B16: Repouso | D16: 15.49 | E16: 2.7 | F16: 0.15 | G16: 1 | H16: =D16*E16*G16*F16 -> 6.27345
B17: Sala detentos/armários circulação | D17: 16.89 | E17: 2.7 | F17: 0.15 | G17: 1 | H17: =D17*E17*G17*F17 -> 6.84045
B18: Apoio/ Circulação | D18: 1.5 | E18: 2.7 | F18: 0.15 | G18: 1 | H18: =D18*E18*G18*F18 -> 0.6075
B19: Apoio/ Vestiário/sala delegado | D19: 12.74 | E19: 2.7 | F19: 0.15 | G19: 1 | H19: =D19*E19*G19*F19 -> 5.1597
B20: Vestiário/fachada | D20: 1.5 | E20: 2.7 | F20: 0.25 | G20: 1 | H20: =D20*E20*G20*F20 -> 1.0125
D21: 1.3 | E21: 2.7 | F21: 0.15 | G21: 1 | H21: =D21*E21*G21*F21 -> 0.5265
B22: Recepção/patio coberto / circulação | D22: 4.77 | E22: 2.7 | F22: 0.15 | G22: 1 | H22: =D22*E22*G22*F22 -> 1.93185
B23: Recepção/balcão | D23: 7.4 | E23: 1.1 | F23: 0.15 | G23: 1 | H23: =D23*E23*G23*F23 -> 1.221
B24: 2º Pavimento:
B25: Salas 01/escada | D25: 3.12 | E25: 1.2 | F25: 0.15 | G25: 1 | H25: =D25*E25*G25*F25 -> 0.5616
B26: Salas 01/Fachada frontal | D26: 2.22 | E26: 1.2 | F26: 0.15 | G26: 1 | H26: =D26*E26*G26*F26 -> 0.3996
B27: Copa /Circulação | D27: 1.4 | E27: 2.7 | F27: 0.3 | G27: 1 | H27: =D27*E27*G27*F27 -> 1.134
B28: Copa/vestiários / sala 9 | D28: 4.14 | E28: 2.7 | F28: 0.15 | G28: 1 | H28: =D28*E28*G28*F28 -> 1.6767
B29: Circulação/sala 09 | D29: 0.6 | E29: 2.7 | F29: 0.15 | G29: 1 | H29: =D29*E29*G29*F29 -> 0.243
B30: WC Masc/Fem com cicrlações e sala 03 | D30: 8.72 | E30: 2.7 | F30: 0.2 | G30: 1 | H30: =D30*E30*G30*F30 -> 4.7088
B31: WC x sala 08 x tanque | D31: 6.15 | E31: 2.7 | F31: 0.15 | G31: 1 | H31: =D31*E31*G31*F31 -> 2.49075
B32: Vazio x novas básculas | D32: 0.9 | E32: 0.7 | F32: 0.15 | G32: 1 | H32: =D32*E32*G32*F32 -> 0.0945
B33: Cobertura:
B34: Platibanda telhado (hmédia = 1,85m) - Lado direito | D34: =2.83+0.5+12.39+7.95 -> 23.67 | E34: 1.85 | F34: 0.15 | G34: 1 | H34: =D34*E34*G34*F34 -> 6.568425
A36: 2ª medição | B36: Muro/Divisa fundos e lado direito do predio de 1 pavimento
B37: Demolição de muro existente | D37: 26.8 | E37: 5.83 | F37: 0.15 | G37: 1 | H37: =D37*E37*F37*G37 -> 23.4366
B38: 1º Pavimento:
B39: Lixo | D39: 3.17 | E39: 3 | F39: 0.15 | G39: 1 | H39: =D39*E39*F39*G39 -> 1.4265
B40: WC FEM / Circulação | D40: 6.39 | E40: 2.7 | F40: 0.15 | G40: 1 | H40: =D40*E40*F40*G40 -> 2.58795
B41: 2º Pavimento:
B42: Platibanda telhado (hmédia = 1,85m) | D42: 65.85 | E42: 1.85 | F42: 0.15 | G42: 1 | H42: =D42*E42*F42*G42 -> 18.273375
B43: Caixa d'água | D43: 20.2 | E43: 3.1 | F43: 0.15 | G43: 1 | H43: =D43*E43*F43*G43 -> 9.393
D44: 12.4 | E44: 1.5 | F44: 0.3 | G44: 1 | H44: =D44*E44*F44*G44 -> 5.58
A45: 19ª medição | B45: Térreo
...

Sheet Planilha1
A1: ITEM | B1: MEDIÇÃO | C1: VALOR A ESTORNAR | D1: REAJUSTE FINANCEIRO
A2: 10117 | B2: 1 | C2: 0.57 | D2: =C2*0.0863 -> 0.049191 | E2: 0.0863
A3: 150217 | B3: 8 | C3: 194.96 | D3: =C3*0.1231 -> 23.999576 | E3: 0.1231
A4: 10401 | B4: 13 | C4: 0.12 | D4: =C4*0.1231 -> 0.014772 | E4: 0.1231
A5: 10401 | B5: 19 | C5: 0.12 | D5: =C5*0.2065 -> 0.02478 | E5: 0.2065
A6: 70301 | B6: 20 | C6: 28.3 | D6: =C6*0.2065 -> 5.84395 | E6: 0.2065
A7: 50201 | B7: 20 | C7: 2017.42 | D7: =C7*0.2065 -> 416.59723 | E7: 0.2065
A8: 10401 | B8: 21 | C8: 0.12 | D8: =C8*0.2065 -> 0.02478 | E8: 0.2065
A9: 40101 | B9: 21 | C9: 1768.86 | D9: =C9*0.2065 -> 365.26959 | E9: 0.2065
A10: 40102 | B10: 21 | C10: 153.57 | D10: =C10*0.2065 -> 31.712205 | E10: 0.2065
A11: 40103 | B11: 21 | C11: 2836.15 | D11: =C11*0.2065 -> 585.66498 | E11: 0.2065
A12: 30101 | B12: 22 | C12: 465.87 | D12: =C12*0.2065 -> 96.202155 | E12: 0.2065
A13: 141104 | B13: 22 | C13: 2.45 | D13: =C13*0.2065 -> 0.505925 | E13: 0.2065
A14: 141105 | B14: 22 | C14: 7.84 | D14: =C14*0.2065 -> 1.61896 | E14: 0.2065
A15: 141106 | B15: 22 | C15: 10.01 | D15: =C15*0.2065 -> 2.067065 | E15: 0.2065
B16: TOTAL | C16: =SUM(C3:C15)+C2 -> 7486.36 | D16: =SUM(D3:D15)+D2 -> 1529.5952
B17: TOTAL VA+R | D17: =C16+D16 -> 9015.9552
A19: 20208 | B19: 2 | C19: 2989.2 | D19: ESTORNADO NA 4ª MEDIÇÃO

Sheet Planilha2
A9: SERVIÇOS PREVISTOS | I9: ACUMULADO ANTERIOR | K9: MEDIÇÃO 01 | M9: MEDIÇÃO 02 | O9: MEDIÇÃO 03 | Q9: MEDIÇÃO 04 | S9: MEDIÇÃO 05 | U9: MEDIÇÃO 06 | W9: MEDIÇÃO 07 | Y9: MEDIÇÃO 08 | AA9: MEDIÇÃO 09 | AC9: MEDIÇÃO 10 | AE9: ACUMULADO TOTAL | AG9: À EXECUTAR | AM9: SERVIÇOS PREVISTOS
B10: REFERÊNCIA | C10: CÓDIGO | D10: DESCRIÇÃO | E10: UNIDADE | F10: PREÇO UNITÁRIO | G10: QUANTIDADE | H10: PREÇO TOTAL | I10: QUANT | J10: TOTAL | K10: QUANT | L10: TOTAL | M10: QUANT | N10: TOTAL | O10: QUANT | P10: TOTAL | Q10: QUANT | R10: TOTAL | S10: QUANT | T10: TOTAL | U10: QUANT | V10: TOTAL | W10: QUANT | X10: TOTAL | Y10: QUANT | Z10: TOTAL | AA10: QUANT | AB10: TOTAL | AC10: QUANT | AD10: TOTAL | AE10: QUANT | AF10: TOTAL | AG10: QUANT | AH10: TOTAL | AK10: REFERÊNCIA | AL10: CÓDIGO | AM10: DESCRIÇÃO | AN10: UNIDADE | AO10: PREÇO UNITÁRIO | AP10: QUANTIDADE | AQ10: PREÇO TOTAL
A11: 1.1.1 | B11: SESP | C11: LABOR - 010202 - 1 | D11: Demolição de piso revestido com cerâmica | E11: m2 | F11: 10.14 | G11: 28 | H11: =G11*F11 -> 283.92 | AJ11: 1.1.1 | AK11: SESP | AL11: LABOR - 010202 - 1 | AM11: Demolição de piso revestido com cerâmica | AN11: m2 | AO11: 10.14 | AP11: 28 | AQ11: =AP11*AO11 -> 283.92
A12: 1.1.2 | B12: SESP | C12: LABOR - 010206 - 1 | D12: Demolição de revestimento com azulejos | E12: m2 | F12: 36.24 | G12: 73.92 | H12: =G12*F12 -> 2678.8608 | AJ12: 1.1.2 | AK12: SESP | AL12: LABOR - 010206 - 1 | AM12: Demolição de revestimento com azulejos | AN12: m2 | AO12: 36.24 | AP12: 73.92 | AQ12: =AP12*AO12 -> 2678.8608
A13: 1.1.3 | B13: SESP | C13: LABOR - 010208 - 1 | D13: Retirada de revestimento antigo em reboco | E13: m2 | F13: 7.25 | G13: 89 | H13: =G13*F13 -> 645.25 | AJ13: 1.1.3 | AK13: SESP | AL13: LABOR - 010208 - 1 | AM13: Retirada de revestimento antigo em reboco | AN13: m2 | AO13: 7.25 | AP13: 89 | AQ13: =AP13*AO13 -> 645.25
A14: 1.1.4 | B14: SESP | C14: LABOR - 010214 - 1 | D14: Retirada de portas e janelas de madeira, inclusive batentes | E14: m2 | F14: 11.6 | G14: 24.3 | H14: =G14*F14 -> 281.88 | AJ14: 1.1.4 | AK14: SESP | AL14: LABOR - 010214 - 1 | AM14: Retirada de portas e janelas de madeira, inclusive batentes | AN14: m2 | AO14: 11.6 | AP14: 24.3 | AQ14: =AP14*AO14 -> 281.88
A15: 1.1.5 | B15: SESP | C15: LABOR - 010215 - 1 | D15: Retirada de esquadrias metálicas | E15: m2 | F15: 7.25 | G15: 7.5 | H15: =G15*F15 -> 54.375 | AJ15: 1.1.5 | AK15: SESP | AL15: LABOR - 010215 - 1 | AM15: Retirada de esquadrias metálicas | AN15: m2 | AO15: 7.25 | AP15: 7.5 | AQ15: =AP15*AO15 -> 54.375
A16: 1.1.6 | B16: SESP | C16: LABOR - 010218 - 1 | D16: Remoção de pintura antiga a óleo ou esmalte | E16: m2 | F16: 9.35 | G16: 14 | H16: =G16*F16 -> 130.9 | AJ16: 1.1.6 | AK16: SESP | AL16: LABOR - 010218 - 1 | AM16: Remoção de pintura antiga a óleo ou esmalte | AN16: m2 | AO16: 9.35 | AP16: 14 | AQ16: =AP16*AO16 -> 130.9
A17: 1.1.7 | B17: SESP | C17: LABOR - 010223 - 1 | D17: Retirada de aparelhos sanitários | E17: und | F17: 15.07 | G17: 2 | H17: =G17*F17 -> 30.14 | AJ17: 1.1.7 | AK17: SESP | AL17: LABOR - 010223 - 1 | AM17: Retirada de aparelhos sanitários | AN17: und | AO17: 15.07 | AP17: 2 | AQ17: =AP17*AO17 -> 30.14
A18: 1.1.8 | B18: SESP | C18: LABOR - 010226 - 1 | D18: Retirada de tanque de cimento | E18: und | F18: 18.07 | G18: 1 | H18: =G18*F18 -> 18.07 | AJ18: 1.1.8 | AK18: SESP | AL18: LABOR - 010226 - 1 | AM18: Retirada de tanque de cimento | AN18: und | AO18: 18.07 | AP18: 1 | AQ18: =AP18*AO18 -> 18.07
A19: 1.1.9 | B19: SESP | C19: LABOR - 010225 - 1 | D19: Retirada de bancada de pia | E19: m2 | F19: 18.07 | G19: 1 | H19: =G19*F19 -> 18.07 | AJ19: 1.1.9 | AK19: SESP | AL19: LABOR - 010225 - 1 | AM19: Retirada de bancada de pia | AN19: m2 | AO19: 18.07 | AP19: 1 | AQ19: =AP19*AO19 -> 18.07
A20: 1.1.10 | B20: SESP | C20: LABOR - 010240 - 1 | D20: Retirada de pontos elétricos (luminárias, interruptores e tomadas) | E20: und | F20: 8 | G20: 60 | H20: =G20*F20 -> 480 | AJ20: 1.1.10 | AK20: SESP | AL20: LABOR - 010240 - 1 | AM20: Retirada de pontos elétricos (luminárias, interruptores e tomadas) | AN20: und | AO20: 8 | AP20: 60 | AQ20: =AP20*AO20 -> 480
A21: 1.1.11 | B21: SESP | C21: LABOR - 010256 - 1 | D21: Remoção de telha ondulada de fibrocimento, inclusive cumeeira | E21: m2 | F21: 5.56 | G21: 28 | H21: =G21*F21 -> 155.68 | AJ21: 1.1.11 | AK21: SESP | AL21: LABOR - 010256 - 1 | AM21: Remoção de telha ondulada de fibrocimento, inclusive cumeeira | AN21: m2 | AO21: 5.56 | AP21: 28 | AQ21: =AP21*AO21 -> 155.68
A22: 1.1.12 | B22: SESP | C22: LABOR - 010259 - 1 | D22: Retirada de rodapé de madeira ou cerâmica | E22: m | F22: 1.68 | G22: 110 | H22: =G22*F22 -> 184.8 | AJ22: 1.1.12 | AK22: SESP | AL22: LABOR - 010259 - 1 | AM22: Retirada de rodapé de madeira ou cerâmica | AN22: m | AO22: 1.68 | AP22: 110 | AQ22: =AP22*AO22 -> 184.8
... A163: 11.5.1 | B163: SESP | C163: LABOR - 210210 - 2 | D163: Prateleiras em granito cinza andorinha, esp. 2cm | E163: m2 | F163: 296.3 | G163: 44 | H163: =G163*F163 -> 13037.2 | AJ163: 11.5.1 | AK163: SESP | AL163: LABOR - 210210 - 2 | AM163: Prateleiras em granito cinza andorinha, esp. 2cm | AN163: m2 | AO163: 296.3 | AP163: 44 | AQ163: =AP163*AO163 -> 13037.2
AP165: VALOR TOTAL
AP166: =SUM(AQ11:AQ163) -> 332138.21

Sheet Planilha3
A8: 1.1.1 | B8: SESP | C8: LABOR - 010202 - 1 | D8: Demolição de piso revestido com cerâmica | E8: m2 | F8: 10.14 | G8: 20.48 | H8: =G8*F8 -> 207.6672
A9: 1.1.2 | B9: SESP | C9: LABOR - 010206 - 1 | D9: Demolição de revestimento com azulejos | E9: m2 | F9: 36.24 | G9: 238.4 | H9: =G9*F9 -> 8639.616
A10: 1.1.3 | B10: SESP | C10: LABOR - 010208 - 1 | D10: Retirada de revestimento antigo em reboco | E10: m2 | F10: 7.25 | G10: 219.25 | H10: =G10*F10 -> 1589.5625
A11: 1.1.4 | B11: SESP | C11: LABOR - 010214 - 1 | D11: Retirada de portas e janelas de madeira, inclusive batentes | E11: m2 | F11: 11.6 | G11: 26.88 | H11: =G11*F11 -> 311.808
A12: 1.1.5 | B12: SESP | C12: LABOR - 010215 - 1 | D12: Retirada de esquadrias metálicas | E12: m2 | F12: 7.25 | G12: 30 | H12: =G12*F12 -> 217.5
A13: 1.1.6 | B13: SESP | C13: LABOR - 010218 - 1 | D13: Remoção de pintura antiga a óleo ou esmalte | E13: m2 | F13: 9.35 | G13: 30 | H13: =G13*F13 -> 280.5
A14: 1.1.7 | B14: SESP | C14: LABOR - 010223 - 1 | D14: Retirada de aparelhos sanitários | E14: und | F14: 15.07 | G14: 8 | H14: =G14*F14 -> 120.56
A15: 1.1.8 | B15: SESP | C15: LABOR - 010226 - 1 | D15: Retirada de tanque de cimento | E15: und | F15: 18.07 | G15: 1 | H15: =G15*F15 -> 18.07
A16: 1.1.9 | B16: SESP | C16: LABOR - 010225 - 1 | D16: Retirada de bancada de pia | E16: m2 | F16: 18.07 | G16: 2 | H16: =G16*F16 -> 36.14
A17: 1.1.10 | B17: SESP | C17: LABOR - 010240 - 1 | D17: Retirada de pontos elétricos (luminárias, interruptores e tomadas) | E17: und | F17: 8 | G17: 78 | H17: =G17*F17 -> 624
A18: 1.1.11 | B18: SESP | C18: LABOR - 010256 - 1 | D18: Remoção de telha ondulada de fibrocimento, inclusive cumeeira | E18: m2 | F18: 5.56 | G18: 160.9 | H18: =G18*F18 -> 894.604
A19: 1.1.12 | B19: SESP | C19: LABOR - 010259 - 1 | D19: Retirada de rodapé de madeira ou cerâmica | E19: m | F19: 1.68 | G19: 99.69 | H19: =G19*F19 -> 167.4792
... A166: 11.6.3 | B166: SESP | C166: LABOR - 200206 - 1 | D166: Blocos pré-moldados de concreto tipo pavi-s ou equivalente, espessura de 8 cm e resistência a compressão mínima de 35MPa, assentados sobre colchão de pó de pedra na espessura de 10 cm | E166: m2 | F166: 65.77 | G166: 160 | H166: =G166*F166 -> 10523.2

Sheet Planilha1 (2)
A1: POLÍCIA CIVIL DO ESTADO DO ESPÍRITO SANTO Superintendência de Apoio Logístico e Engenharia Divisão de Engenharia e Manutenção Predial
A3: PLANILHA DE MEDIÇÃO
A4: Cliente: POLÍCIA CIVIL DO ESTADO DO ESPIRITO SANTO | E4: E-DOCS 2022-Q4C3Z | I4: MEDIÇÃO:03 - PERÍODO 01/09/2023 a 30/09/2023 | AR4: ORDEM DE SERVIÇO: 26/06/2023
A5: Obra: REFORMA, ADEQUAÇÃO e AMPLIAÇÃO DA 1ª DELEGACIA REGIONAL DE VITORIA/ES- End.: Rua Construtor Camilo Gianórdoli, nº 553, Horto, Vitória / ES- - CEP - 29.306-500 500. | E5: CONCORRÊNCIA Nº: 003/2022 | AR5: PRAZO: 14 meses
A6: Contratado: VILLA CONSTRUTORA LTDA | E6: CONTRATO PCES: 009/2023 | AR6: TÉRMINO: 26/08/2024
A7: SERVIÇOS PREVISTOS | I7: ACUMULADO ANTERIOR | L7: MEDIÇÃO 01 | O7: MEDIÇÃO 02 | R7: MEDIÇÃO 03 | U7: MEDIÇÃO 04 | X7: MEDIÇÃO 05 | AA7: MEDIÇÃO 06 | AD7: MEDIÇÃO 07 | AG7: MEDIÇÃO 08 | AJ7: MEDIÇÃO 09 | AM7: MEDIÇÃO 10 | AP7: ACUMULADO TOTAL | AS7: À EXECUTAR
B8: REFERÊNCIA | C8: CÓDIGO | D8: DESCRIÇÃO | E8: UNIDADE | F8: PREÇO UNITÁRIO | G8: QUANTIDADE | H8: PREÇO TOTAL | I8: QUANT | J8: TOTAL | K8: % | L8: QUANT | M8: TOTAL | N8: % | O8: QUANT | P8: TOTAL | Q8: % | R8: QUANT | S8: TOTAL | T8: % | U8: QUANT | V8: TOTAL | W8: % | X8: QUANT | Y8: TOTAL | Z8: % | AA8: QUANT | AB8: TOTAL | AC8: % | AD8: QUANT | AE8: TOTAL | AF8: % | AG8: QUANT | AH8: TOTAL | AI8: % | AJ8: QUANT | AK8: TOTAL | AL8: % | AM8: QUANT | AN8: TOTAL | AO8: % | AP8: QUANT | AQ8: TOTAL | AR8: % | AS8: QUANT | AT8: TOTAL | AU8: %
B9: 01 | C9: SERVIÇOS PRELIMINARES | H9: =H10+H43+H45+H48 -> 263137.12 | J9: =J10+J43+J45+J48 -> 224530.33 | K9: =J9/$H9 -> 0.8532826 | M9: =M10+M43+M45+M48 -> 96037.197 | N9: =M9/$H9 -> 0.36497016 | P9: =P10+P43+P45+P48 -> 128493.13 | Q9: =P9/$H9 -> 0.48831245 | S9: =S10+S43+S45+S48 -> 23221.448 | T9: =S9/$H9 -> 0.088248466 | V9: =V10+V43+V45+V48 -> 0 | W9: =V9/$H9 -> 0 | Y9: =Y10+Y43+Y45+Y48 -> 0 | Z9: =Y9/$H9 -> 0 | AB9: =AB10+AB43+AB45+AB48 -> 0 | AC9: =AB9/$H9 -> 0 | AE9: =AE10+AE43+AE45+AE48 -> 0 | AF9: =AE9/$H9 -> 0 | AH9: =AH10+AH43+AH45+AH48 -> 0 | AI9: =AH9/$H9 -> 0 | AK9: =AK10+AK43+AK45+AK48 -> 0 | AL9: =AK9/$H9 -> 0 | AN9: =AN10+AN43+AN45+AN48 -> 0 | AO9: =AN9/$H9 -> 0 | AP9: =AM9+AJ9+AG9+AD9+AA9+X9+U9+R9+O9+L9 -> 0 | AQ9: =AQ10+AQ43+AQ45+AQ48 -> 247751.78 | AR9: =AQ9/$H9 -> 0.94153107 | AS9: =G9-AP9 -> 0 | AT9: =AT10+AT43+AT45+AT48 -> 15385.346 | AU9: =AT9/$H9 -> 0.058468929
B10: 0101 | C10: DEMOLIÇÕES E RETIRADAS | H10: =SUM(H11:H42) -> 171883.55 | J10: =SUM(J11:J42) -> 163113.46 | K10: =J10/$H10 -> 0.94897655 | M10: =SUM(M11:M42) -> 66001.325 | N10: =M10/$H10 -> 0.38398861 | P10: =SUM(P11:P42) -> 97112.132 | Q10: =P10/$H10 -> 0.56498794 | S10: =SUM(S11:S42) -> 137.44 | T10: =S10/$H10 -> 0.00079961114 | V10: =SUM(V11:V42) -> 0 | W10: =V10/$H10 -> 0 | Y10: =SUM(Y11:Y42) -> 0 | Z10: =Y10/$H10 -> 0 | AB10: =SUM(AB11:AB42) -> 0 | AC10: =AB10/$H10 -> 0 | AE10: =SUM(AE11:AE42) -> 0 | AF10: =AE10/$H10 -> 0 | AH10: =SUM(AH11:AH42) -> 0 | AI10: =AH10/$H10 -> 0 | AK10: =SUM(AK11:AK42) -> 0 | AL10: =AK10/$H10 -> 0 | AN10: =SUM(AN11:AN42) -> 0 | AO10: =AN10/$H10 -> 0 | AP10: =AM10+AJ10+AG10+AD10+AA10+X10+U10+R10+O10+L10 -> 0 | AQ10: =SUM(AQ11:AQ42) -> 163250.9 | AR10: =AQ10/$H10 -> 0.94977616 | AS10: =G10-AP10 -> 0 | AT10: =SUM(AT11:AT42) -> 8632.652 | AU10: =AT10/$H10 -> 0.050223841
B11: '010101 | C11: LABOR - 010209 - 1 | D11: Demolição de alvenaria | E11: m3 | F11: 62.73 | G11: 95.05 | H11: =G11*$F11 -> 5962.4865 | I11: =L11+O11 -> 95.05 | J11: =I11*$F11 -> 5962.4865 | K11: =IF(I11=0,"",I11/$G11) -> 1 | L11: 41.45 | M11: =L11*$F11 -> 2600.1585 | N11: =IF(L11=0,"",L11/$G11) -> 0.43608627 | O11: 53.6 | P11: =O11*$F11 -> 3362.328 | Q11: =IF(O11=0,"",O11/$G11) -> 0.56391373 | S11: =R11*$F11 -> 0 | T11: =IF(R11=0,"",R11/$G11) | V11: =U11*$F11 -> 0 | W11: =IF(U11=0,"",U11/$G11) | Y11: =X11*$F11 -> 0 | Z11: =IF(X11=0,"",X11/$G11) | AB11: =AA11*$F11 -> 0 | AC11: =IF(AA11=0,"",AA11/$G11) | AE11: =AD11*$F11 -> 0 | AF11: =IF(AD11=0,"",AD11/$G11) | AH11: =AG11*$F11 -> 0 | AI11: =IF(AG11=0,"",AG11/$G11) | AK11: =AJ11*$F11 -> 0 | AL11: =IF(AJ11=0,"",AJ11/$G11) | AN11: =AM11*$F11 -> 0 | AO11: =IF(AM11=0,"",AM11/$G11) | AP11: =AM11+AJ11+AG11+AD11+AA11+X11+U11+R11+O11+L11 -> 95.05 | AQ11: =AP11*$F11 -> 5962.4865 | AR11: =IF(AP11=0,"",AP11/$G11) -> 1 | AS11: =G11-AP11 -> 0 | AT11: =AS11*$F11 -> 0 | AU11: =IF(AS11=0,"",AS11/$G11)
B12: '010102 | C12: COMPOSIÇÃO - 2018.000001 | D12: Retirada de paredes divisórias de painel e em gesso acartonado, sem reaproveitamento | E12: m2 | F12: 27.99 | G12: 406.26 | H12: =G12*$F12 -> 11371.217 | I12: =L12+O12 -> 406.26 | J12: =I12*$F12 -> 11371.217 | K12: =IF(I12=0,"",I12/$G12) -> 1 | L12: 406.26 | M12: =L12*$F12 -> 11371.217 | N12: =IF(L12=0,"",L12/$G12) -> 1 | P12: =O12*$F12 -> 0 | Q12: =IF(O12=0,"",O12/$G12) | S12: =R12*$F12 -> 0 | T12: =IF(R12=0,"",R12/$G12) | V12: =U12*$F12 -> 0 | W12: =IF(U12=0,"",U12/$G12) | Y12: =X12*$F12 -> 0 | Z12: =IF(X12=0,"",X12/$G12) | AB12: =AA12*$F12 -> 0 | AC12: =IF(AA12=0,"",AA12/$G12) | AE12: =AD12*$F12 -> 0 | AF12: =IF(AD12=0,"",AD12/$G12) | AH12: =AG12*$F12 -> 0 | AI12: =IF(AG12=0,"",AG12/$G12) | AK12: =AJ12*$F12 -> 0 | AL12: =IF(AJ12=0,"",AJ12/$G12) | AN12: =AM12*$F12 -> 0 | AO12: =IF(AM12=0,"",AM12/$G12) | AP12: =AM12+AJ12+AG12+AD12+AA12+X12+U12+R12+O12+L12 -> 406.26 | AQ12: =AP12*$F12 -> 11371.217 | AR12: =IF(AP12=0,"",AP12/$G12) -> 1 | AS12: =G12-AP12 -> 0 | AT12: =AS12*$F12 -> 0 | AU12: =IF(AS12=0,"",AS12/$G12)
B13: '010103 | C13: LABOR - 010224 - 1 | D13: Retirada de grades, gradis, alambrados, cercas e portões | E13: m2 | F13: 18.42 | G13: 123.33 | H13: =G13*$F13 -> 2271.7386 | I13: =L13+O13 -> 123.33 | J13: =I13*$F13 -> 2271.7386 | K13: =IF(I13=0,"",I13/$G13) -> 1 | L13: 122.48 | M13: =L13*$F13 -> 2256.0816 | N13: =IF(L13=0,"",L13/$G13) -> 0.99310792 | O13: 0.85 | P13: =O13*$F13 -> 15.657 | Q13: =IF(O13=0,"",O13/$G13) -> 0.0068920782 | S13: =R13*$F13 -> 0 | T13: =IF(R13=0,"",R13/$G13) | V13: =U13*$F13 -> 0 | W13: =IF(U13=0,"",U13/$G13) | Y13: =X13*$F13 -> 0 | Z13: =IF(X13=0,"",X13/$G13) | AB13: =AA13*$F13 -> 0 | AC13: =IF(AA13=0,"",AA13/$G13) | AE13: =AD13*$F13 -> 0 | AF13: =IF(AD13=0,"",AD13/$G13) | AH13: =AG13*$F13 -> 0 | AI13: =IF(AG13=0,"",AG13/$G13) | AK13: =AJ13*$F13 -> 0 | AL13: =IF(AJ13=0,"",AJ13/$G13) | AN13: =AM13*$F13 -> 0 | AO13: =IF(AM13=0,"",AM13/$G13) | AP13: =AM13+AJ13+AG13+AD13+AA13+X13+U13+R13+O13+L13 -> 123.33 | AQ13: =AP13*$F13 -> 2271.7386 | AR13: =IF(AP13=0,"",AP13/$G13) -> 1 | AS13: =G13-AP13 -> 0 | AT13: =AS13*$F13 -> 0 | AU13: =IF(AS13=0,"",AS13/$G13)
B14: '010104 | C14: COMPOSIÇÃO - 2018.000240 | D14: Retirada de vidros das esquadrias | E14: m2 | F14: 3.69 | G14: 74.81 | H14: =G14*$F14 -> 276.0489 | I14: =L14+O14 -> 74.81 | J14: =I14*$F14 -> 276.0489 | K14: =IF(I14=0,"",I14/$G14) -> 1 | L14: 74.81 | M14: =L14*$F14 -> 276.0489 | N14: =IF(L14=0,"",L14/$G14) -> 1 | P14: =O14*$F14 -> 0 | Q14: =IF(O14=0,"",O14/$G14) | S14: =R14*$F14 -> 0 | T14: =IF(R14=0,"",R14/$G14) | V14: =U14*$F14 -> 0 | W14: =IF(U14=0,"",U14/$G14) | Y14: =X14*$F14 -> 0 | Z14: =IF(X14=0,"",X14/$G14) | AB14: =AA14*$F14 -> 0 | AC14: =IF(AA14=0,"",AA14/$G14) | AE14: =AD14*$F14 -> 0 | AF14: =IF(AD14=0,"",AD14/$G14) | AH14: =AG14*$F14 -> 0 | AI14: =IF(AG14=0,"",AG14/$G14) | AK14: =AJ14*$F14 -> 0 | AL14: =IF(AJ14=0,"",AJ14/$G14) | AN14: =AM14*$F14 -> 0 | AO14: =IF(AM14=0,"",AM14/$G14) | AP14: =AM14+AJ14+AG14+AD14+AA14+X14+U14+R14+O14+L14 -> 74.81 | AQ14: =AP14*$F14 -> 276.0489 | AR14: =IF(AP14=0,"",AP14/$G14) -> 1 | AS14: =G14-AP14 -> 0 | AT14: =AS14*$F14 -> 0 | AU14: =IF(AS14=0,"",AS14/$G14)
B15: '010105 | C15: LABOR - 010219 - 1 | D15: Demolição manual de concreto armado (EMOP 05.001.033) | E15: m3 | F15: 345.47 | G15: 36.16 | H15: =G15*$F15 -> 12492.195 | I15: =L15+O15 -> 36.16 | J15: =I15*$F15 -> 12492.195 | K15: =IF(I15=0,"",I15/$G15) -> 1 | M15: =L15*$F15 -> 0 | N15: =IF(L15=0,"",L15/$G15) | O15: 36.16 | P15: =O15*$F15 -> 12492.195 | Q15: =IF(O15=0,"",O15/$G15) -> 1 | S15: =R15*$F15 -> 0 | T15: =IF(R15=0,"",R15/$G15) | V15: =U15*$F15 -> 0 | W15: =IF(U15=0,"",U15/$G15) | Y15: =X15*$F15 -> 0 | Z15: =IF(X15=0,"",X15/$G15) | AB15: =AA15*$F15 -> 0 | AC15: =IF(AA15=0,"",AA15/$G15) | AE15: =AD15*$F15 -> 0 | AF15: =IF(AD15=0,"",AD15/$G15) | AH15: =AG15*$F15 -> 0 | AI15: =IF(AG15=0,"",AG15/$G15) | AK15: =AJ15*$F15 -> 0 | AL15: =IF(AJ15=0,"",AJ15/$G15) | AN15: =AM15*$F15 -> 0 | AO15: =IF(AM15=0,"",AM15/$G15) | AP15: =AM15+AJ15+AG15+AD15+AA15+X15+U15+R15+O15+L15 -> 36.16 | AQ15: =AP15*$F15 -> 12492.195 | AR15: =IF(AP15=0,"",AP15/$G15) -> 1 | AS15: =G15-AP15 -> 0 | AT15: =AS15*$F15 -> 0 | AU15: =IF(AS15=0,"",AS15/$G15)
B16: '010106 | C16: LABOR - 010211 - 1 | D16: Demolição de concreto armado, com utilização de rompedor pneumático | E16: m3 | F16: 996.93 | G16: 74.31 | H16: =G16*$F16 -> 74081.868 | I16: =L16+O16 -> 74.31 | J16: =I16*$F16 -> 74081.868 | K16: =IF(I16=0,"",I16/$G16) -> 1 | M16: =L16*$F16 -> 0 | N16: =IF(L16=0,"",L16/$G16) | O16: 74.31 | P16: =O16*$F16 -> 74081.868 | Q16: =IF(O16=0,"",O16/$G16) -> 1 | S16: =R16*$F16 -> 0 | T16: =IF(R16=0,"",R16/$G16) | V16: =U16*$F16 -> 0 | W16: =IF(U16=0,"",U16/$G16) | Y16: =X16*$F16 -> 0 | Z16: =IF(X16=0,"",X16/$G16) | AB16: =AA16*$F16 -> 0 | AC16: =IF(AA16=0,"",AA16/$G16) | AE16: =AD16*$F16 -> 0 | AF16: =IF(AD16=0,"",AD16/$G16) | AH16: =AG16*$F16 -> 0 | AI16: =IF(AG16=0,"",AG16/$G16) | AK16: =AJ16*$F16 -> 0 | AL16: =IF(AJ16=0,"",AJ16/$G16) | AN16: =AM16*$F16 -> 0 | AO16: =IF(AM16=0,"",AM16/$G16) | AP16: =AM16+AJ16+AG16+AD16+AA16+X16+U16+R16+O16+L16 -> 74.31 | AQ16: =AP16*$F16 -> 74081.868 | AR16: =IF(AP16=0,"",AP16/$G16) -> 1 | AS16: =G16-AP16 -> 0 | AT16: =AS16*$F16 -> 0 | AU16: =IF(AS16=0,"",AS16/$G16)
B17: '010107 | C17: LABOR - 010216 - 1 | D17: Retirada de meio-fio de concreto | E17: m | F17: 1.46 | G17: 98.85 | H17: =G17*$F17 -> 144.321 | I17: =L17+O17 -> 29.3 | J17: =I17*$F17 -> 42.778 | K17: =IF(I17=0,"",I17/$G17) -> 0.2964087 | L17: 17.3 | M17: =L17*$F17 -> 25.258 | N17: =IF(L17=0,"",L17/$G17) -> 0.17501265 | O17: 12 | P17: =O17*$F17 -> 17.52 | Q17: =IF(O17=0,"",O17/$G17) -> 0.12139605 | S17: =R17*$F17 -> 0 | T17: =IF(R17=0,"",R17/$G17) | V17: =U17*$F17 -> 0 | W17: =IF(U17=0,"",U17/$G17) | Y17: =X17*$F17 -> 0 | Z17: =IF(X17=0,"",X17/$G17) | AB17: =AA17*$F17 -> 0 | AC17: =IF(AA17=0,"",AA17/$G17) | AE17: =AD17*$F17 -> 0 | AF17: =IF(AD17=0,"",AD17/$G17) | AH17: =AG17*$F17 -> 0 | AI17: =IF(AG17=0,"",AG17/$G17) | AK17: =AJ17*$F17 -> 0 | AL17: =IF(AJ17=0,"",AJ17/$G17) | AN17: =AM17*$F17 -> 0 | AO17: =IF(AM17=0,"",AM17/$G17) | AP17: =AM17+AJ17+AG17+AD17+AA17+X17+U17+R17+O17+L17 -> 29.3 | AQ17: =AP17*$F17 -> 42.778 | AR17: =IF(AP17=0,"",AP17/$G17) -> 0.2964087 | AS17: =G17-AP17 -> 69.55 | AT17: =AS17*$F17 -> 101.543 | AU17: =IF(AS17=0,"",AS17/$G17) -> 0.7035913
B18: '010108 | C18: LABOR - 010201 - 1 | D18: Demolição de piso cimentado inclusive lastro de concreto | E18: m2 | F18: 27.18 | G18: 261.5 | H18: =G18*$F18 -> 7107.57 | I18: =L18+O18 -> 87.58 | J18: =I18*$F18 -> 2380.4244 | K18: =IF(I18=0,"",I18/$G18) -> 0.33491396 | L18: 46.38 | M18: =L18*$F18 -> 1260.6084 | N18: =IF(L18=0,"",L18/$G18) -> 0.17736138 | O18: 41.2 | P18: =O18*$F18 -> 1119.816 | Q18: =IF(O18=0,"",O18/$G18) -> 0.15755258 | S18: =R18*$F18 -> 0 | T18: =IF(R18=0,"",R18/$G18) | V18: =U18*$F18 -> 0 | W18: =IF(U18=0,"",U18/$G18) | Y18: =X18*$F18 -> 0 | Z18: =IF(X18=0,"",X18/$G18) | AB18: =AA18*$F18 -> 0 | AC18: =IF(AA18=0,"",AA18/$G18) | AE18: =AD18*$F18 -> 0 | AF18: =IF(AD18=0,"",AD18/$G18) | AH18: =AG18*$F18 -> 0 | AI18: =IF(AG18=0,"",AG18/$G18) | AK18: =AJ18*$F18 -> 0 | AL18: =IF(AJ18=0,"",AJ18/$G18) | AN18: =AM18*$F18 -> 0 | AO18: =IF(AM18=0,"",AM18/$G18) | AP18: =AM18+AJ18+AG18+AD18+AA18+X18+U18+R18+O18+L18 -> 87.58 | AQ18: =AP18*$F18 -> 2380.4244 | AR18: =IF(AP18=0,"",AP18/$G18) -> 0.33491396 | AS18: =G18-AP18 -> 173.92 | AT18: =AS18*$F18 -> 4727.1456 | AU18: =IF(AS18=0,"",AS18/$G18) -> 0.66508604
B19: '010109 | C19: LABOR - 010223 - 1 | D19: Retirada de aparelhos sanitários | E19: und | F19: 21.63 | G19: 12 | H19: =G19*$F19 -> 259.56 | I19: =L19+O19 -> 12 | J19: =I19*$F19 -> 259.56 | K19: =IF(I19=0,"",I19/$G19) -> 1 | L19: 10 | M19: =L19*$F19 -> 216.3 | N19: =IF(L19=0,"",L19/$G19) -> 0.83333333 | O19: 2 | P19: =O19*$F19 -> 43.26 | Q19: =IF(O19=0,"",O19/$G19) -> 0.16666667 | S19: =R19*$F19 -> 0 | T19: =IF(R19=0,"",R19/$G19) | V19: =U19*$F19 -> 0 | W19: =IF(U19=0,"",U19/$G19) | Y19: =X19*$F19 -> 0 | Z19: =IF(X19=0,"",X19/$G19) | AB19: =AA19*$F19 -> 0 | AC19: =IF(AA19=0,"",AA19/$G19) | AE19: =AD19*$F19 -> 0 | AF19: =IF(AD19=0,"",AD19/$G19) | AH19: =AG19*$F19 -> 0 | AI19: =IF(AG19=0,"",AG19/$G19) | AK19: =AJ19*$F19 -> 0 | AL19: =IF(AJ19=0,"",AJ19/$G19) | AN19: =AM19*$F19 -> 0 | AO19: =IF(AM19=0,"",AM19/$G19) | AP19: =AM19+AJ19+AG19+AD19+AA19+X19+U19+R19+O19+L19 -> 12 | AQ19: =AP19*$F19 -> 259.56 | AR19: =IF(AP19=0,"",AP19/$G19) -> 1 | AS19: =G19-AP19 -> 0 | AT19: =AS19*$F19 -> 0 | AU19: =IF(AS19=0,"",AS19/$G19)
B20: '010110 | C20: LABOR - 010225 - 1 | D20: Retirada de bancada de pia | E20: m2 | F20: 25.96 | G20: 8.49 | H20: =G20*$F20 -> 220.4004 | I20: =L20+O20 -> 8.49 | J20: =I20*$F20 -> 220.4004 | K20: =IF(I20=0,"",I20/$G20) -> 1 | L20: 6.81 | M20: =L20*$F20 -> 176.7876 | N20: =IF(L20=0,"",L20/$G20) -> 0.80212014 | O20: 1.68 | P20: =O20*$F20 -> 43.6128 | Q20: =IF(O20=0,"",O20/$G20) -> 0.19787986 | S20: =R20*$F20 -> 0 | T20: =IF(R20=0,"",R20/$G20) | V20: =U20*$F20 -> 0 | W20: =IF(U20=0,"",U20/$G20) | Y20: =X20*$F20 -> 0 | Z20: =IF(X20=0,"",X20/$G20) | AB20: =AA20*$F20 -> 0 | AC20: =IF(AA20=0,"",AA20/$G20) | AE20: =AD20*$F20 -> 0 | AF20: =IF(AD20=0,"",AD20/$G20) | AH20: =AG20*$F20 -> 0 | AI20: =IF(AG20=0,"",AG20/$G20) | AK20: =AJ20*$F20 -> 0 | AL20: =IF(AJ20=0,"",AJ20/$G20) | AN20: =AM20*$F20 -> 0 | AO20: =IF(AM20=0,"",AM20/$G20) | AP20: =AM20+AJ20+AG20+AD20+AA20+X20+U20+R20+O20+L20 -> 8.49 | AQ20: =AP20*$F20 -> 220.4004 | AR20: =IF(AP20=0,"",AP20/$G20) -> 1 | AS20: =G20-AP20 -> 0 | AT20: =AS20*$F20 -> 0 | AU20: =IF(AS20=0,"",AS20/$G20)
B21: '010111 | C21: COMPOSIÇÃO - 2018.000244 | D21: Remoção de armários sob bancada, incl. elementos p/ fixação | E21: m2 | F21: 4.33 | G21: 29.67 | H21: =G21*$F21 -> 128.4711 | I21: =L21+O21 -> 29.67 | J21: =I21*$F21 -> 128.4711 | K21: =IF(I21=0,"",I21/$G21) -> 1 | L21: 29.67 | M21: =L21*$F21 -> 128.4711 | N21: =IF(L21=0,"",L21/$G21) -> 1 | P21: =O21*$F21 -> 0 | Q21: =IF(O21=0,"",O21/$G21) | S21: =R21*$F21 -> 0 | T21: =IF(R21=0,"",R21/$G21) | V21: =U21*$F21 -> 0 | W21: =IF(U21=0,"",U21/$G21) | Y21: =X21*$F21 -> 0 | Z21: =IF(X21=0,"",X21/$G21) | AB21: =AA21*$F21 -> 0 | AC21: =IF(AA21=0,"",AA21/$G21) | AE21: =AD21*$F21 -> 0 | AF21: =IF(AD21=0,"",AD21/$G21) | AH21: =AG21*$F21 -> 0 | AI21: =IF(AG21=0,"",AG21/$G21) | AK21: =AJ21*$F21 -> 0 | AL21: =IF(AJ21=0,"",AJ21/$G21) | AN21: =AM21*$F21 -> 0 | AO21: =IF(AM21=0,"",AM21/$G21) | AP21: =AM21+AJ21+AG21+AD21+AA21+X21+U21+R21+O21+L21 -> 29.67 | AQ21: =AP21*$F21 -> 128.4711 | AR21: =IF(AP21=0,"",AP21/$G21) -> 1 | AS21: =G21-AP21 -> 0 | AT21: =AS21*$F21 -> 0 | AU21: =IF(AS21=0,"",AS21/$G21)
B22: '010112 | C22: LABOR - 010286 - 1 | D22: Demolição de divisória de granito | E22: m2 | F22: 15.47 | G22: 2.97 | H22: =G22*$F22 -> 45.9459 | I22: =L22+O22 -> 2.97 | J22: =I22*$F22 -> 45.9459 | K22: =IF(I22=0,"",I22/$G22) -> 1 | L22: 2.97 | M22: =L22*$F22 -> 45.9459 | N22: =IF(L22=0,"",L22/$G22) -> 1 | P22: =O22*$F22 -> 0 | Q22: =IF(O22=0,"",O22/$G22) | S22: =R22*$F22 -> 0 | T22: =IF(R22=0,"",R22/$G22) | V22: =U22*$F22 -> 0 | W22: =IF(U22=0,"",U22/$G22) | Y22: =X22*$F22 -> 0 | Z22: =IF(X22=0,"",X22/$G22) | AB22: =AA22*$F22 -> 0 | AC22: =IF(AA22=0,"",AA22/$G22) | AE22: =AD22*$F22 -> 0 | AF22: =IF(AD22=0,"",AD22/$G22) | AH22: =AG22*$F22 -> 0 | AI22: =IF(AG22=0,"",AG22/$G22) | AK22: =AJ22*$F22 -> 0 | AL22: =IF(AJ22=0,"",AJ22/$G22) | AN22: =AM22*$F22 -> 0 | AO22: =IF(AM22=0,"",AM22/$G22) | AP22: =AM22+AJ22+AG22+AD22+AA22+X22+U22+R22+O22+L22 -> 2.97 | AQ22: =AP22*$F22 -> 45.9459 | AR22: =IF(AP22=0,"",AP22/$G22) -> 1 | AS22: =G22-AP22 -> 0 | AT22: =AS22*$F22 -> 0 | AU22: =IF(AS22=0,"",AS22/$G22)
B23: '010113 | C23: LABOR - 010215 - 1 | D23: Retirada de esquadrias metálicas | E23: m2 | F23: 1.46 | G23: 71.84 | H23: =G23*$F23 -> 104.8864 | I23: =L23+O23 -> 71.84 | J23: =I23*$F23 -> 104.8864 | K23: =IF(I23=0,"",I23/$G23) -> 1 | L23: 71.84 | M23: =L23*$F23 -> 104.8864 | N23: =IF(L23=0,"",L23/$G23) -> 1 | P23: =O23*$F23 -> 0 | Q23: =IF(O23=0,"",O23/$G23) | S23: =R23*$F23 -> 0 | T23: =IF(R23=0,"",R23/$G23) | V23: =U23*$F23 -> 0 | W23: =IF(U23=0,"",U23/$G23) | Y23: =X23*$F23 -> 0 | Z23: =IF(X23=0,"",X23/$G23) | AB23: =AA23*$F23 -> 0 | AC23: =IF(AA23=0,"",AA23/$G23) | AE23: =AD23*$F23 -> 0 | AF23: =IF(AD23=0,"",AD23/$G23) | AH23: =AG23*$F23 -> 0 | AI23: =IF(AG23=0,"",AG23/$G23) | AK23: =AJ23*$F23 -> 0 | AL23: =IF(AJ23=0,"",AJ23/$G23) | AN23: =AM23*$F23 -> 0 | AO23: =IF(AM23=0,"",AM23/$G23) | AP23: =AM23+AJ23+AG23+AD23+AA23+X23+U23+R23+O23+L23 -> 71.84 | AQ23: =AP23*$F23 -> 104.8864 | AR23: =IF(AP23=0,"",AP23/$G23) -> 1 | AS23: =G23-AP23 -> 0 | AT23: =AS23*$F23 -> 0 | AU23: =IF(AS23=0,"",AS23/$G23)
B24: '010114 | C24: COMPOSIÇÃO - 2018.000241 | D24: Retirada de persianas | E24: m2 | F24: 4.61 | G24: 49.95 | H24: =G24*$F24 -> 230.2695 | I24: =L24+O24 -> 49.95 | J24: =I24*$F24 -> 230.2695 | K24: =IF(I24=0,"",I24/$G24) -> 1 | L24: 49.95 | M24: =L24*$F24 -> 230.2695 | N24: =IF(L24=0,"",L24/$G24) -> 1 | P24: =O24*$F24 -> 0 | Q24: =IF(O24=0,"",O24/$G24) | S24: =R24*$F24 -> 0 | T24: =IF(R24=0,"",R24/$G24) | V24: =U24*$F24 -> 0 | W24: =IF(U24=0,"",U24/$G24) | Y24: =X24*$F24 -> 0 | Z24: =IF(X24=0,"",X24/$G24) | AB24: =AA24*$F24 -> 0 | AC24: =IF(AA24=0,"",AA24/$G24) | AE24: =AD24*$F24 -> 0 | AF24: =IF(AD24=0,"",AD24/$G24) | AH24: =AG24*$F24 -> 0 | AI24: =IF(AG24=0,"",AG24/$G24) | AK24: =AJ24*$F24 -> 0 | AL24: =IF(AJ24=0,"",AJ24/$G24) | AN24: =AM24*$F24 -> 0 | AO24: =IF(AM24=0,"",AM24/$G24) | AP24: =AM24+AJ24+AG24+AD24+AA24+X24+U24+R24+O24+L24 -> 49.95 | AQ24: =AP24*$F24 -> 230.2695 | AR24: =IF(AP24=0,"",AP24/$G24) -> 1 | AS24: =G24-AP24 -> 0 | AT24: =AS24*$F24 -> 0 | AU24: =IF(AS24=0,"",AS24/$G24)
B25: '010115 | C25: LABOR - 010214 - 1 | D25: Retirada de portas e janelas de madeira, inclusive batentes | E25: m2 | F25: 16.72 | G25: 53.55 | H25: =G25*$F25 -> 895.356 | I25: =L25+O25 -> 53.55 | J25: =I25*$F25 -> 895.356 | K25: =IF(I25=0,"",I25/$G25) -> 1 | L25: 50.19 | M25: =L25*$F25 -> 839.1768 | N25: =IF(L25=0,"",L25/$G25) -> 0.9372549 | O25: 3.36 | P25: =O25*$F25 -> 56.1792 | Q25: =IF(O25=0,"",O25/$G25) -> 0.062745098 | S25: =R25*$F25 -> 0 | T25: =IF(R25=0,"",R25/$G25) | V25: =U25*$F25 -> 0 | W25: =IF(U25=0,"",U25/$G25) | Y25: =X25*$F25 -> 0 | Z25: =IF(X25=0,"",X25/$G25) | AB25: =AA25*$F25 -> 0 | AC25: =IF(AA25=0,"",AA25/$G25) | AE25: =AD25*$F25 -> 0 | AF25: =IF(AD25=0,"",AD25/$G25) | AH25: =AG25*$F25 -> 0 | AI25: =IF(AG25=0,"",AG25/$G25) | AK25: =AJ25*$F25 -> 0 | AL25: =IF(AJ25=0,"",AJ25/$G25) | AN25: =AM25*$F25 -> 0 | AO25: =IF(AM25=0,"",AM25/$G25) | AP25: =AM25+AJ25+AG25+AD25+AA25+X25+U25+R25+O25+L25 -> 53.55 | AQ25: =AP25*$F25 -> 895.356 | AR25: =IF(AP25=0,"",AP25/$G25) -> 1 | AS25: =G25-AP25 -> 0 | AT25: =AS25*$F25 -> 0 | AU25: =IF(AS25=0,"",AS25/$G25)
B26: '010116 | C26: LABOR - 010280 - 1 | D26: Remoção de cobertura em telha metálica, exclusive estrutura | E26: m2 | F26: 9.08 | G26: 408.64 | H26: =G26*$F26 -> 3710.4512 | I26: =L26+O26 -> 408.64 | J26: =I26*$F26 -> 3710.4512 | K26: =IF(I26=0,"",I26/$G26) -> 1 | L26: 408.64 | M26: =L26*$F26 -> 3710.4512 | N26: =IF(L26=0,"",L26/$G26) -> 1 | P26: =O26*$F26 -> 0 | Q26: =IF(O26=0,"",O26/$G26) | S26: =R26*$F26 -> 0 | T26: =IF(R26=0,"",R26/$G26) | V26: =U26*$F26 -> 0 | W26: =IF(U26=0,"",U26/$G26) | Y26: =X26*$F26 -> 0 | Z26: =IF(X26=0,"",X26/$G26) | AB26: =AA26*$F26 -> 0 | AC26: =IF(AA26=0,"",AA26/$G26) | AE26: =AD26*$F26 -> 0 | AF26: =IF(AD26=0,"",AD26/$G26) | AH26: =AG26*$F26 -> 0 | AI26: =IF(AG26=0,"",AG26/$G26) | AK26: =AJ26*$F26 -> 0 | AL26: =IF(AJ26=0,"",AJ26/$G26) | AN26: =AM26*$F26 -> 0 | AO26: =IF(AM26=0,"",AM26/$G26) | AP26: =AM26+AJ26+AG26+AD26+AA26+X26+U26+R26+O26+L26 -> 408.64 | AQ26: =AP26*$F26 -> 3710.4512 | AR26: =IF(AP26=0,"",AP26/$G26) -> 1 | AS26: =G26-AP26 -> 0 | AT26: =AS26*$F26 -> 0 | AU26: =IF(AS26=0,"",AS26/$G26)
B27: '010117 | C27: COMPOSIÇÃO - 2018.000242 | D27: Remoção de estrutura metálica para telhado com retirada de solda e corte de peças por meio de lixadeira, sem reaproveitamento | E27: m2 | F27: 9.41 | G27: 408.64 | H27: =G27*$F27 -> 3845.3024 | I27: =L27+O27 -> 408.7 | J27: =I27*$F27 -> 3845.867 | K27: =IF(I27=0,"",I27/$G27) -> 1.0001468 | L27: 408.7 | M27: =L27*$F27 -> 3845.867 | N27: =IF(L27=0,"",L27/$G27) -> 1.0001468 | P27: =O27*$F27 -> 0 | Q27: =IF(O27=0,"",O27/$G27) | S27: =R27*$F27 -> 0 | T27: =IF(R27=0,"",R27/$G27) | V27: =U27*$F27 -> 0 | W27: =IF(U27=0,"",U27/$G27) | Y27: =X27*$F27 -> 0 | Z27: =IF(X27=0,"",X27/$G27) | AB27: =AA27*$F27 -> 0 | AC27: =IF(AA27=0,"",AA27/$G27) | AE27: =AD27*$F27 -> 0 | AF27: =IF(AD27=0,"",AD27/$G27) | AH27: =AG27*$F27 -> 0 | AI27: =IF(AG27=0,"",AG27/$G27) | AK27: =AJ27*$F27 -> 0 | AL27: =IF(AJ27=0,"",AJ27/$G27) | AN27: =AM27*$F27 -> 0 | AO27: =IF(AM27=0,"",AM27/$G27) | AP27: =AM27+AJ27+AG27+AD27+AA27+X27+U27+R27+O27+L27 -> 408.7 | AQ27: =AP27*$F27 -> 3845.867 | AR27: =IF(AP27=0,"",AP27/$G27) -> 1.0001468 | AS27: =G27-AP27 -> -0.06 | AT27: =AS27*$F27 -> -0.5646 | AU27: =IF(AS27=0,"",AS27/$G27) -> -0.0001468285
B28: '010118 | C28: LABOR - 010264 - 1 | D28: Demolição de piso granilite(Incluindo contrapiso) | E28: m2 | F28: 29.01 | G28: 158.78 | H28: =G28*$F28 -> 4606.2078 | I28: =L28+O28 -> 158.78 | J28: =I28*$F28 -> 4606.2078 | K28: =IF(I28=0,"",I28/$G28) -> 1 | M28: =L28*$F28 -> 0 | N28: =IF(L28=0,"",L28/$G28) | O28: 158.78 | P28: =O28*$F28 -> 4606.2078 | Q28: =IF(O28=0,"",O28/$G28) -> 1 | S28: =R28*$F28 -> 0 | T28: =IF(R28=0,"",R28/$G28) | V28: =U28*$F28 -> 0 | W28: =IF(U28=0,"",U28/$G28) | Y28: =X28*$F28 -> 0 | Z28: =IF(X28=0,"",X28/$G28) | AB28: =AA28*$F28 -> 0 | AC28: =IF(AA28=0,"",AA28/$G28) | AE28: =AD28*$F28 -> 0 | AF28: =IF(AD28=0,"",AD28/$G28) | AH28: =AG28*$F28 -> 0 | AI28: =IF(AG28=0,"",AG28/$G28) | AK28: =AJ28*$F28 -> 0 | AL28: =IF(AJ28=0,"",AJ28/$G28) | AN28: =AM28*$F28 -> 0 | AO28: =IF(AM28=0,"",AM28/$G28) | AP28: =AM28+AJ28+AG28+AD28+AA28+X28+U28+R28+O28+L28 -> 158.78 | AQ28: =AP28*$F28 -> 4606.2078 | AR28: =IF(AP28=0,"",AP28/$G28) -> 1 | AS28: =G28-AP28 -> 0 | AT28: =AS28*$F28 -> 0 | AU28: =IF(AS28=0,"",AS28/$G28)
B29: '010119 | C29: LABOR - 010331 - 1 | D29: Demolição de piso, soleira, peitoris e escadas em mármore ou granito, exclusive regularização | E29: m2 | F29: 11.2 | G29: 114.02 | H29: =G29*$F29 -> 1277.024 | I29: =L29+O29 -> 114.02 | J29: =I29*$F29 -> 1277.024 | K29: =IF(I29=0,"",I29/$G29) -> 1 | L29: 114.02 | M29: =L29*$F29 -> 1277.024 | N29: =IF(L29=0,"",L29/$G29) -> 1 | P29: =O29*$F29 -> 0 | Q29: =IF(O29=0,"",O29/$G29) | S29: =R29*$F29 -> 0 | T29: =IF(R29=0,"",R29/$G29) | V29: =U29*$F29 -> 0 | W29: =IF(U29=0,"",U29/$G29) | Y29: =X29*$F29 -> 0 | Z29: =IF(X29=0,"",X29/$G29) | AB29: =AA29*$F29 -> 0 | AC29: =IF(AA29=0,"",AA29/$G29) | AE29: =AD29*$F29 -> 0 | AF29: =IF(AD29=0,"",AD29/$G29) | AH29: =AG29*$F29 -> 0 | AI29: =IF(AG29=0,"",AG29/$G29) | AK29: =AJ29*$F29 -> 0 | AL29: =IF(AJ29=0,"",AJ29/$G29) | AN29: =AM29*$F29 -> 0 | AO29: =IF(AM29=0,"",AM29/$G29) | AP29: =AM29+AJ29+AG29+AD29+AA29+X29+U29+R29+O29+L29 -> 114.02 | AQ29: =AP29*$F29 -> 1277.024 | AR29: =IF(AP29=0,"",AP29/$G29) -> 1 | AS29: =G29-AP29 -> 0 | AT29: =AS29*$F29 -> 0 | AU29: =IF(AS29=0,"",AS29/$G29)
B30: '010120 | C30: LABOR - 010202 - 1 | D30: Demolição de piso revestido com cerâmica (Incluindo contrapiso) | E30: m2 | F30: 14.63 | G30: 406.93 | H30: =G30*$F30 -> 5953.3859 | I30: =L30+O30 -> 406.93 | J30: =I30*$F30 -> 5953.3859 | K30: =IF(I30=0,"",I30/$G30) -> 1 | L30: 406.93 | M30: =L30*$F30 -> 5953.3859 | N30: =IF(L30=0,"",L30/$G30) -> 1 | P30: =O30*$F30 -> 0 | Q30: =IF(O30=0,"",O30/$G30) | S30: =R30*$F30 -> 0 | T30: =IF(R30=0,"",R30/$G30) | V30: =U30*$F30 -> 0 | W30: =IF(U30=0,"",U30/$G30) | Y30: =X30*$F30 -> 0 | Z30: =IF(X30=0,"",X30/$G30) | AB30: =AA30*$F30 -> 0 | AC30: =IF(AA30=0,"",AA30/$G30) | AE30: =AD30*$F30 -> 0 | AF30: =IF(AD30=0,"",AD30/$G30) | AH30: =AG30*$F30 -> 0 | AI30: =IF(AG30=0,"",AG30/$G30) | AK30: =AJ30*$F30 -> 0 | AL30: =IF(AJ30=0,"",AJ30/$G30) | AN30: =AM30*$F30 -> 0 | AO30: =IF(AM30=0,"",AM30/$G30) | AP30: =AM30+AJ30+AG30+AD30+AA30+X30+U30+R30+O30+L30 -> 406.93 | AQ30: =AP30*$F30 -> 5953.3859 | AR30: =IF(AP30=0,"",AP30/$G30) -> 1 | AS30: =G30-AP30 -> 0 | AT30: =AS30*$F30 -> 0 | AU30: =IF(AS30=0,"",AS30/$G30)
B31: '010121 | C31: LABOR - 010404 - 1 | D31: Corte e destocamento de árvores com diâmetro superior a 30 cm | E31: und | F31: 137.44 | G31: 1 | H31: =G31*$F31 -> 137.44 | I31: =L31+O31 -> 0 | J31: =I31*$F31 -> 0 | K31: =IF(I31=0,"",I31/$G31) | M31: =L31*$F31 -> 0 | N31: =IF(L31=0,"",L31/$G31) | P31: =O31*$F31 -> 0 | Q31: =IF(O31=0,"",O31/$G31) | R31: 1 | S31: =R31*$F31 -> 137.44 | T31: =IF(R31=0,"",R31/$G31) -> 1 | V31: =U31*$F31 -> 0 | W31: =IF(U31=0,"",U31/$G31) | Y31: =X31*$F31 -> 0 | Z31: =IF(X31=0,"",X31/$G31) | AB31: =AA31*$F31 -> 0 | AC31: =IF(AA31=0,"",AA31/$G31) | AE31: =AD31*$F31 -> 0 | AF31: =IF(AD31=0,"",AD31/$G31) | AH31: =AG31*$F31 -> 0 | AI31: =IF(AG31=0,"",AG31/$G31) | AK31: =AJ31*$F31 -> 0 | AL31: =IF(AJ31=0,"",AJ31/$G31) | AN31: =AM31*$F31 -> 0 | AO31: =IF(AM31=0,"",AM31/$G31) | AP31: =AM31+AJ31+AG31+AD31+AA31+X31+U31+R31+O31+L31 -> 1 | AQ31: =AP31*$F31 -> 137.44 | AR31: =IF(AP31=0,"",AP31/$G31) -> 1 | AS31: =G31-AP31 -> 0 | AT31: =AS31*$F31 -> 0 | AU31: =IF(AS31=0,"",AS31/$G31)
B32: '010122 | C32: COMPOSIÇÃO - 2018.000002 | D32: Demolição de bicicletário em tubo de ferro galvanizado 1" e ferro liso 1/2" | E32: m | F32: 19.48 | G32: 7.8 | H32: =G32*$F32 -> 151.944 | I32: =L32+O32 -> 7.8 | J32: =I32*$F32 -> 151.944 | K32: =IF(I32=0,"",I32/$G32) -> 1 | L32: 7.8 | M32: =L32*$F32 -> 151.944 | N32: =IF(L32=0,"",L32/$G32) -> 1 | P32: =O32*$F32 -> 0 | Q32: =IF(O32=0,"",O32/$G32) | S32: =R32*$F32 -> 0 | T32: =IF(R32=0,"",R32/$G32) | V32: =U32*$F32 -> 0 | W32: =IF(U32=0,"",U32/$G32) | Y32: =X32*$F32 -> 0 | Z32: =IF(X32=0,"",X32/$G32) | AB32: =AA32*$F32 -> 0 | AC32: =IF(AA32=0,"",AA32/$G32) | AE32: =AD32*$F32 -> 0 | AF32: =IF(AD32=0,"",AD32/$G32) | AH32: =AG32*$F32 -> 0 | AI32: =IF(AG32=0,"",AG32/$G32) | AK32: =AJ32*$F32 -> 0 | AL32: =IF(AJ32=0,"",AJ32/$G32) | AN32: =AM32*$F32 -> 0 | AO32: =IF(AM32=0,"",AM32/$G32) | AP32: =AM32+AJ32+AG32+AD32+AA32+X32+U32+R32+O32+L32 -> 7.8 | AQ32: =AP32*$F32 -> 151.944 | AR32: =IF(AP32=0,"",AP32/$G32) -> 1 | AS32: =G32-AP32 -> 0 | AT32: =AS32*$F32 -> 0 | AU32: =IF(AS32=0,"",AS32/$G32)
B33: '010123 | C33: COMPOSIÇÃO - 2018.000003 | D33: Retirada de corrimão, guarda-corpo e tubos metálicos, chumbados e/ou fixados em estrutura | E33: m | F33: 13.19 | G33: 15.6 | H33: =G33*$F33 -> 205.764 | I33: =L33+O33 -> 15.6 | J33: =I33*$F33 -> 205.764 | K33: =IF(I33=0,"",I33/$G33) -> 1 | L33: 15.6 | M33: =L33*$F33 -> 205.764 | N33: =IF(L33=0,"",L33/$G33) -> 1 | P33: =O33*$F33 -> 0 | Q33: =IF(O33=0,"",O33/$G33) | S33: =R33*$F33 -> 0 | T33: =IF(R33=0,"",R33/$G33) | V33: =U33*$F33 -> 0 | W33: =IF(U33=0,"",U33/$G33) | Y33: =X33*$F33 -> 0 | Z33: =IF(X33=0,"",X33/$G33) | AB33: =AA33*$F33 -> 0 | AC33: =IF(AA33=0,"",AA33/$G33) | AE33: =AD33*$F33 -> 0 | AF33: =IF(AD33=0,"",AD33/$G33) | AH33: =AG33*$F33 -> 0 | AI33: =IF(AG33=0,"",AG33/$G33) | AK33: =AJ33*$F33 -> 0 | AL33: =IF(AJ33=0,"",AJ33/$G33) | AN33: =AM33*$F33 -> 0 | AO33: =IF(AM33=0,"",AM33/$G33) | AP33: =AM33+AJ33+AG33+AD33+AA33+X33+U33+R33+O33+L33 -> 15.6 | AQ33: =AP33*$F33 -> 205.764 | AR33: =IF(AP33=0,"",AP33/$G33) -> 1 | AS33: =G33-AP33 -> 0 | AT33: =AS33*$F33 -> 0 | AU33: =IF(AS33=0,"",AS33/$G33)
B34: '010124 | C34: COMPOSIÇÃO - 2018.000243 | D34: Remoção de caixa d´água de polietileno, inclusive tubulação de ligação | E34: und | F34: 297.25 | G34: 2 | H34: =G34*$F34 -> 594.5 | I34: =L34+O34 -> 2 | J34: =I34*$F34 -> 594.5 | K34: =IF(I34=0,"",I34/$G34) -> 1 | M34: =L34*$F34 -> 0 | N34: =IF(L34=0,"",L34/$G34) | O34: 2 | P34: =O34*$F34 -> 594.5 | Q34: =IF(O34=0,"",O34/$G34) -> 1 | S34: =R34*$F34 -> 0 | T34: =IF(R34=0,"",R34/$G34) | V34: =U34*$F34 -> 0 | W34: =IF(U34=0,"",U34/$G34) | Y34: =X34*$F34 -> 0 | Z34: =IF(X34=0,"",X34/$G34) | AB34: =AA34*$F34 -> 0 | AC34: =IF(AA34=0,"",AA34/$G34) | AE34: =AD34*$F34 -> 0 | AF34: =IF(AD34=0,"",AD34/$G34) | AH34: =AG34*$F34 -> 0 | AI34: =IF(AG34=0,"",AG34/$G34) | AK34: =AJ34*$F34 -> 0 | AL34: =IF(AJ34=0,"",AJ34/$G34) | AN34: =AM34*$F34 -> 0 | AO34: =IF(AM34=0,"",AM34/$G34) | AP34: =AM34+AJ34+AG34+AD34+AA34+X34+U34+R34+O34+L34 -> 2 | AQ34: =AP34*$F34 -> 594.5 | AR34: =IF(AP34=0,"",AP34/$G34) -> 1 | AS34: =G34-AP34 -> 0 | AT34: =AS34*$F34 -> 0 | AU34: =IF(AS34=0,"",AS34/$G34)
B35: '010125 | C35: COMPOSIÇÃO - 2018.000245 | D35: Remoção de ar condicionado tipo Split (condensadoras, evaporadoras, rede frigorígena, recolhimento do gás com destinação adequada) | E35: und | F35: 42.25 | G35: 16 | H35: =G35*$F35 -> 676 | I35: =L35+O35 -> 16 | J35: =I35*$F35 -> 676 | K35: =IF(I35=0,"",I35/$G35) -> 1 | L35: 16 | M35: =L35*$F35 -> 676 | N35: =IF(L35=0,"",L35/$G35) -> 1 | P35: =O35*$F35 -> 0 | Q35: =IF(O35=0,"",O35/$G35) | S35: =R35*$F35 -> 0 | T35: =IF(R35=0,"",R35/$G35) | V35: =U35*$F35 -> 0 | W35: =IF(U35=0,"",U35/$G35) | Y35: =X35*$F35 -> 0 | Z35: =IF(X35=0,"",X35/$G35) | AB35: =AA35*$F35 -> 0 | AC35: =IF(AA35=0,"",AA35/$G35) | AE35: =AD35*$F35 -> 0 | AF35: =IF(AD35=0,"",AD35/$G35) | AH35: =AG35*$F35 -> 0 | AI35: =IF(AG35=0,"",AG35/$G35) | AK35: =AJ35*$F35 -> 0 | AL35: =IF(AJ35=0,"",AJ35/$G35) | AN35: =AM35*$F35 -> 0 | AO35: =IF(AM35=0,"",AM35/$G35) | AP35: =AM35+AJ35+AG35+AD35+AA35+X35+U35+R35+O35+L35 -> 16 | AQ35: =AP35*$F35 -> 676 | AR35: =IF(AP35=0,"",AP35/$G35) -> 1 | AS35: =G35-AP35 -> 0 | AT35: =AS35*$F35 -> 0 | AU35: =IF(AS35=0,"",AS35/$G35)
B36: '010126 | C36: COMPOSIÇÃO - 2018.000259 | D36: Retirada de ventilador de teto | E36: und | F36: 45.8 | G36: 2 | H36: =G36*$F36 -> 91.6 | I36: =L36+O36 -> 2 | J36: =I36*$F36 -> 91.6 | K36: =IF(I36=0,"",I36/$G36) -> 1 | L36: 2 | M36: =L36*$F36 -> 91.6 | N36: =IF(L36=0,"",L36/$G36) -> 1 | P36: =O36*$F36 -> 0 | Q36: =IF(O36=0,"",O36/$G36) | S36: =R36*$F36 -> 0 | T36: =IF(R36=0,"",R36/$G36) | V36: =U36*$F36 -> 0 | W36: =IF(U36=0,"",U36/$G36) | Y36: =X36*$F36 -> 0 | Z36: =IF(X36=0,"",X36/$G36) | AB36: =AA36*$F36 -> 0 | AC36: =IF(AA36=0,"",AA36/$G36) | AE36: =AD36*$F36 -> 0 | AF36: =IF(AD36=0,"",AD36/$G36) | AH36: =AG36*$F36 -> 0 | AI36: =IF(AG36=0,"",AG36/$G36) | AK36: =AJ36*$F36 -> 0 | AL36: =IF(AJ36=0,"",AJ36/$G36) | AN36: =AM36*$F36 -> 0 | AO36: =IF(AM36=0,"",AM36/$G36) | AP36: =AM36+AJ36+AG36+AD36+AA36+X36+U36+R36+O36+L36 -> 2 | AQ36: =AP36*$F36 -> 91.6 | AR36: =IF(AP36=0,"",AP36/$G36) -> 1 | AS36: =G36-AP36 -> 0 | AT36: =AS36*$F36 -> 0 | AU36: =IF(AS36=0,"",AS36/$G36)
B37: '010127 | C37: LABOR - 010266 - 1 | D37: Remoção de forro de gesso | E37: m2 | F37: 1.83 | G37: 351.35 | H37: =G37*$F37 -> 642.9705 | I37: =L37+O37 -> 351.35 | J37: =I37*$F37 -> 642.9705 | K37: =IF(I37=0,"",I37/$G37) -> 1 | L37: 351.35 | M37: =L37*$F37 -> 642.9705 | N37: =IF(L37=0,"",L37/$G37) -> 1 | P37: =O37*$F37 -> 0 | Q37: =IF(O37=0,"",O37/$G37) | S37: =R37*$F37 -> 0 | T37: =IF(R37=0,"",R37/$G37) | V37: =U37*$F37 -> 0 | W37: =IF(U37=0,"",U37/$G37) | Y37: =X37*$F37 -> 0 | Z37: =IF(X37=0,"",X37/$G37) | AB37: =AA37*$F37 -> 0 | AC37: =IF(AA37=0,"",AA37/$G37) | AE37: =AD37*$F37 -> 0 | AF37: =IF(AD37=0,"",AD37/$G37) | AH37: =AG37*$F37 -> 0 | AI37: =IF(AG37=0,"",AG37/$G37) | AK37: =AJ37*$F37 -> 0 | AL37: =IF(AJ37=0,"",AJ37/$G37) | AN37: =AM37*$F37 -> 0 | AO37: =IF(AM37=0,"",AM37/$G37) | AP37: =AM37+AJ37+AG37+AD37+AA37+X37+U37+R37+O37+L37 -> 351.35 | AQ37: =AP37*$F37 -> 642.9705 | AR37: =IF(AP37=0,"",AP37/$G37) -> 1 | AS37: =G37-AP37 -> 0 | AT37: =AS37*$F37 -> 0 | AU37: =IF(AS37=0,"",AS37/$G37)
B38: '010128 | C38: LABOR - 010230 - 1 | D38: Retirada de pintura antiga a base de PVA | E38: m2 | F38: 6.72 | G38: 566.15 | H38: =G38*$F38 -> 3804.528 | I38: =L38+O38 -> 0 | J38: =I38*$F38 -> 0 | K38: =IF(I38=0,"",I38/$G38) | M38: =L38*$F38 -> 0 | N38: =IF(L38=0,"",L38/$G38) | P38: =O38*$F38 -> 0 | Q38: =IF(O38=0,"",O38/$G38) | S38: =R38*$F38 -> 0 | T38: =IF(R38=0,"",R38/$G38) | V38: =U38*$F38 -> 0 | W38: =IF(U38=0,"",U38/$G38) | Y38: =X38*$F38 -> 0 | Z38: =IF(X38=0,"",X38/$G38) | AB38: =AA38*$F38 -> 0 | AC38: =IF(AA38=0,"",AA38/$G38) | AE38: =AD38*$F38 -> 0 | AF38: =IF(AD38=0,"",AD38/$G38) | AH38: =AG38*$F38 -> 0 | AI38: =IF(AG38=0,"",AG38/$G38) | AK38: =AJ38*$F38 -> 0 | AL38: =IF(AJ38=0,"",AJ38/$G38) | AN38: =AM38*$F38 -> 0 | AO38: =IF(AM38=0,"",AM38/$G38) | AP38: =AM38+AJ38+AG38+AD38+AA38+X38+U38+R38+O38+L38 -> 0 | AQ38: =AP38*$F38 -> 0 | AR38: =IF(AP38=0,"",AP38/$G38) | AS38: =G38-AP38 -> 566.15 | AT38: =AS38*$F38 -> 3804.528 | AU38: =IF(AS38=0,"",AS38/$G38) -> 1
B39: '010129 | C39: LABOR - 010206 - 1 | D39: Demolição de revestimento com azulejos (Incluindo emboço) | E39: m2 | F39: 52.27 | G39: 466.23 | H39: =G39*$F39 -> 24369.842 | I39: =L39+O39 -> 466.23 | J39: =I39*$F39 -> 24369.842 | K39: =IF(I39=0,"",I39/$G39) -> 1 | L39: 453.24 | M39: =L39*$F39 -> 23690.855 | N39: =IF(L39=0,"",L39/$G39) -> 0.97213822 | O39: 12.99 | P39: =O39*$F39 -> 678.9873 | Q39: =IF(O39=0,"",O39/$G39) -> 0.027861785 | S39: =R39*$F39 -> 0 | T39: =IF(R39=0,"",R39/$G39) | V39: =U39*$F39 -> 0 | W39: =IF(U39=0,"",U39/$G39) | Y39: =X39*$F39 -> 0 | Z39: =IF(X39=0,"",X39/$G39) | AB39: =AA39*$F39 -> 0 | AC39: =IF(AA39=0,"",AA39/$G39) | AE39: =AD39*$F39 -> 0 | AF39: =IF(AD39=0,"",AD39/$G39) | AH39: =AG39*$F39 -> 0 | AI39: =IF(AG39=0,"",AG39/$G39) | AK39: =AJ39*$F39 -> 0 | AL39: =IF(AJ39=0,"",AJ39/$G39) | AN39: =AM39*$F39 -> 0 | AO39: =IF(AM39=0,"",AM39/$G39) | AP39: =AM39+AJ39+AG39+AD39+AA39+X39+U39+R39+O39+L39 -> 466.23 | AQ39: =AP39*$F39 -> 24369.842 | AR39: =IF(AP39=0,"",AP39/$G39) -> 1 | AS39: =G39-AP39 -> 0 | AT39: =AS39*$F39 -> 0 | AU39: =IF(AS39=0,"",AS39/$G39)
