Workbook

Sheet 4º MEDIÇÃO
A1: POLÍCIA CIVIL DO ESTADO DO ESPÍRITO SANTO Superintendência de Apoio Logístico e Engenharia Divisão de Engenharia e Manutenção Predial
A3: PLANILHA DE MEDIÇÃO
A4: CLIENTE: POLÍCIA CIVIL DO ESTADO DO ESPIRITO SANTO | E4: TOMADA DE PREÇO: nº01/2023 | K4: ORDEM DE SERVIÇO: 22/06/2023
A5: OBRA: CONTRATAÇÃO DE EMPRESA PARA EXECUÇÃO DA OBRA DE SERVIÇOS DE REFORMA E ADEQUAÇÕES PREDIAIS DO 9º DISTRITO POLICIAL DE COBILÂNDIA - PCES | E5: CONTRATO: nº 085/2023 | K5: PRAZO: 12 MESES
A6: CONTRATADA: VX ENGENHARIA | E6: E-DOCS 2022-N45T1 | K6: TÉRMINO PREVISTO: 22/06/2024 | RESCISÃO CONTRATUAL: 19/03/2024
A7: SERVIÇOS PREVISTOS | I7: ACUMULADO TOTAL | L7: À EXECUTAR
B8: REFERÊNCIA | C8: CÓDIGO | D8: DESCRIÇÃO | E8: UNIDADE | F8: QUANTIDADE | G8: PREÇO UNITÁRIO | H8: PREÇO TOTAL | I8: QUANT | J8: TOTAL | K8: % | L8: QUANT | M8: TOTAL | N8: %
C9: 1 | D9: SERVIÇOS PRELIMINARES | H9: =H10+H12 -> 74930.815 | I9: 0 | J9: 57289.135 | K9: 0.76456041 | L9: 0 | M9: 17641.68 | N9: 0.23543959
C10: 101 | D10: SERVIÇOS AUXILIARES, ADMINISTRATIVOS E TÉCNICOS | H10: =H11 -> 1357.968 | I10: 0 | J10: 1357.968 | K10: 1 | L10: 0 | M10: 0 | N10: 0
C11: 10101 | D11: Projeto hidrossanitário e drenagem do ar condicionado | E11: m2 | F11: 178.68 | G11: 7.6 | H11: =F11*G11 -> 1357.968 | I11: 178.68 | J11: 1357.968 | K11: 1 | L11: 0 | M11: 0
C12: 102 | D12: DEMOLIÇÕES E RETIRADAS | H12: =SUM(H13:H43) -> 73572.847 | I12: 0 | J12: 55931.167 | K12: 0.76021479 | L12: 0 | M12: 17641.68 | N12: 0.23978521
C13: 10201 | D13: Demolição de piso cimentado inclusive lastro de concreto | E13: m2 | F13: 12.15 | G13: 23 | H13: =F13*G13 -> 279.45 | I13: 12.15 | J13: 279.45 | K13: 1 | L13: 0 | M13: 0
C14: 10202 | D14: Demolição de piso revestido com cerâmica inclusive lastro de concreto | E14: m2 | F14: 166.82 | G14: 24.5 | H14: =F14*G14 -> 4087.09 | I14: 146.2218 | J14: 3582.4341 | K14: 0.8765244 | L14: 20.5982 | M14: 504.6559 | N14: 0.1234756
C15: 10203 | D15: Demolição de revestimento com azulejos | E15: m2 | F15: 176.05 | G15: 40 | H15: =F15*G15 -> 7042 | I15: 145.1815 | J15: 5807.26 | K15: 0.82466061 | L15: 30.8685 | M15: 1234.74 | N15: 0.17533939
C16: 10204 | D16: Retirada de revestimento antigo em reboco | E16: m2 | F16: 794.34 | G16: 8.8 | H16: =F16*G16 -> 6990.192 | I16: 476.03 | J16: 4189.064 | K16: 0.59927739 | L16: 318.31 | M16: 2801.128 | N16: 0.40072261
C17: 10205 | D17: Demolição de alvenaria | E17: m3 | F17: 7.38 | G17: 53 | H17: =F17*G17 -> 391.14 | I17: 7.3795 | J17: 391.1135 | K17: 0.99993225 | L17: 0.0005 | M17: 0.0265 | N17: 6.7750678e-05
C18: 10206 | D18: Demolição manual de concreto simples (EMOP 05.001.001) | E18: m3 | F18: 1.55 | G18: 250 | H18: =F18*G18 -> 387.5 | I18: 1.54202 | J18: 385.505 | K18: 0.99485161 | L18: 0.00798 | M18: 1.995 | N18: 0.0051483871
C19: 10207 | D19: Retirada manual de blocos pré-moldados de concreto (Blokret), inclusive empilhamento para reaproveitamento | E19: m2 | F19: 528.2 | G19: 12 | H19: =F19*G19 -> 6338.4 | I19: 400 | J19: 4800 | K19: 0.75728891 | L19: 128.2 | M19: 1538.4 | N19: 0.24271109
C20: 10208 | D20: Retirada de portas e janelas de madeira, inclusive batentes | E20: m2 | F20: 24.36 | G20: 14 | H20: =F20*G20 -> 341.04 | I20: 21.21 | J20: 296.94 | K20: 0.87068966 | L20: 3.15 | M20: 44.1 | N20: 0.12931034
C21: 10209 | D21: Retirada de esquadrias metálicas | E21: m2 | F21: 23 | G21: 9 | H21: =F21*G21 -> 207 | I21: 17 | J21: 153 | K21: 0.73913043 | L21: 6 | M21: 54 | N21: 0.26086957
C22: 10210 | D22: Retirada de meio-fio de concreto | E22: m | F22: 25.5 | G22: 9 | H22: =F22*G22 -> 229.5 | I22: 25.5 | J22: 229.5 | K22: 1 | L22: 0 | M22: 0
C23: 10211 | D23: Demolição de concreto armado, com utilização de rompedor pneumático | E23: m3 | F23: 18.04 | G23: 800 | H23: =F23*G23 -> 14432 | I23: 16.35 | J23: 13080 | K23: 0.90631929 | L23: 1.69 | M23: 1352 | N23: 0.09368071
C24: 10212 | D24: Demolição de elementos vazados cerâmicos ou de concreto | E24: m2 | F24: 3 | G24: 19 | H24: =F24*G24 -> 57 | I24: 3 | J24: 57 | K24: 1 | L24: 0 | M24: 0
C25: 10213 | D25: Retirada de aparelhos sanitários | E25: und | F25: 22 | G25: 18 | H25: =F25*G25 -> 396 | I25: 20 | J25: 360 | K25: 0.90909091 | L25: 2 | M25: 36 | N25: 0.090909091
C26: 10214 | D26: Retirada de grades, gradis, alambrados, cercas e portões | E26: m2 | F26: 92.42 | G26: 15 | H26: =F26*G26 -> 1386.3 | I26: 59.57 | J26: 893.55 | K26: 0.64455746 | L26: 32.85 | M26: 492.75 | N26: 0.35544254
C27: 10215 | D27: Retirada de bancada de pia | E27: m2 | F27: 0.63 | G27: 22 | H27: =F27*G27 -> 13.86 | I27: 0.63 | J27: 13.86 | K27: 1 | L27: 0 | M27: 0
C28: 10216 | D28: Retirada de caixa d'água, inclusive tubulação de ligação | E28: und | F28: 1 | G28: 40 | H28: =F28*G28 -> 40 | I28: 1 | J28: 40 | K28: 1 | L28: 0 | M28: 0
C29: 10217 | D29: Demolição manual de concreto armado (EMOP 05.001.033) | E29: m3 | F29: 3.4 | G29: 290 | H29: =F29*G29 -> 986 | I29: 3.4 | J29: 986 | K29: 1 | L29: 0 | M29: 0
C30: 10218 | D30: Remoção de telha ondulada de fibrocimento, inclusive cumeeira | E30: m2 | F30: 350 | G30: 6 | H30: =F30*G30 -> 2100 | I30: 341.5 | J30: 2049 | K30: 0.97571429 | L30: 8.5 | M30: 51 | N30: 0.024285714
C31: 10219 | D31: Retirada de rodapé de madeira ou cerâmica | E31: m | F31: 166.46 | G31: 2 | H31: =F31*G31 -> 332.92 | I31: 153.08 | J31: 306.16 | K31: 0.91962033 | L31: 13.38 | M31: 26.76 | N31: 0.080379671
C32: 10220 | D32: Retirada de caixa de ar refrigerado, em concreto | E32: und | F32: 6 | G32: 22 | H32: =F32*G32 -> 132 | I32: 6 | J32: 132 | K32: 1 | L32: 0 | M32: 0
C33: 10221 | D33: Retirada de armário de madeira, sem reaproveitamento | E33: m2 | F33: 7 | G33: 26 | H33: =F33*G33 -> 182 | I33: 7 | J33: 182 | K33: 1 | L33: 0 | M33: 0
C34: 10222 | D34: Demolição de muro em alvenaria, inclusive estrutura em concreto armado (pilares cintas e vigas) | E34: m3 | F34: 24.15 | G34: 600 | H34: =F34*G34 -> 14490 | I34: 13.53 | J34: 8118 | K34: 0.56024845 | L34: 10.62 | M34: 6372 | N34: 0.43975155
C35: 10223 | D35: Retirada de torneiras e registros | E35: und | F35: 16 | G35: 9 | H35: =F35*G35 -> 144 | I35: 16 | J35: 144 | K35: 1 | L35: 0 | M35: 0
C36: 10224 | D36: Demolição de estrutura de madeira para telhado | E36: m2 | F36: 350 | G36: 25 | H36: =F36*G36 -> 8750 | I36: 225 | J36: 5625 | K36: 0.64285714 | L36: 125 | M36: 3125 | N36: 0.35714286
C37: 10225 | D37: Demolição de piso, soleira, peitoris e escadas em mármore ou granito, exclusive regularização | E37: m2 | F37: 5.89 | G37: 9.5 | H37: =F37*G37 -> 55.955 | I37: 5.14 | J37: 48.83 | K37: 0.87266553 | L37: 0.75 | M37: 7.125 | N37: 0.12733447
C38: 10226 | D38: Demolições e retiradas de eletrocalhas, pontos elétricos em geral, instalações elétricas, para-raios, telecomunicações e retirada de entulho (01 caçamba estacionária). | E38: cj | F38: 1 | G38: 2000 | H38: =F38*G38 -> 2000 | I38: 1 | J38: 2000 | K38: 1 | L38: 0 | M38: 0
C39: 10227 | D39: Remoção de instalações hidrossanitárias e pluviais em geral incluindo prumadas, caixas de passagem, caixas de esgoto e retirada de entulho (01 caçamba estacionária). | E39: cj | F39: 1 | G39: 1300 | H39: =F39*G39 -> 1300 | I39: 1 | J39: 1300 | K39: 1 | L39: 0 | M39: 0
C40: 10228 | D40: Remoção de ar condicionado tipo Split (condensadoras, evaporadoras, | E40: und | F40: 7 | G40: 37 | H40: =F40*G40 -> 259 | I40: 7 | J40: 259 | K40: 1 | L40: 0 | M40: 0
C41: 10229 | D41: Remoção de ventilador de teto | E41: und | F41: 2 | G41: 5 | H41: =F41*G41 -> 10 | I41: 2 | J41: 10 | K41: 1 | L41: 0 | M41: 0
...

Sheet Planilha2
B2: MEMÓRIA DE CÁLCULO MED03 DA DELEGACIA DE POLÍCIA CIVIL DE COBILÂNDIA - VILA VELHA ES
B3: ITEM | C3: DECRIÇÃO | G3: UNID | H3: QTD CONTRATADA | I3: SALDO | J3: QTD MEDIDA ANTERIORME. | K3: QTD MEDIDA NESTA MEDIÇÃO | L3: VALOR UNIT. CONTRATADO | M3: VALOR MEDIDO | N3: ADITIVO
B4: 1 | C4: SERVIÇOS PRELIMINARES | M4: =M5 -> #REF!
B5: 102 | C5: =[1]MEDIÇÃO!D12 -> DEMOLIÇÕES E RETIRADAS | M5: =SUM(M6,M16,#REF!,M32) -> #REF!
B6: ='4º MEDIÇÃO'!C21 -> 10209 | C6: ='4º MEDIÇÃO'!D21 -> Retirada de esquadrias metálicas | G6: m² | H6: 23 | I6: 23 | J6: 0 | K6: =M13 -> 17 | L6: 9 | M6: =K6*L6 -> 153
C7: LOCAL | G7: QTD | H7: COMP. (m) | I7: LARG. (m) | J7: ESP. (m) | L7: VOLUME (m³) | M7: ÁREA (m²)
C8: Janela antiga sala investigador | G8: 1 | H8: 4 | I8: 1 | M8: =G8*H8*I8 -> 4
C9: Janela recepção | G9: 1 | H9: 4 | I9: 1 | M9: =G9*H9*I9 -> 4
C10: Janela antigo cartório 01 | G10: 1 | H10: 3 | I10: 1 | M10: =G10*H10*I10 -> 3
C11: Janela antigo cartório 02 | G11: 1 | H11: 3 | I11: 1 | M11: =G11*H11*I11 -> 3
C12: Janela sala de material apreendido | G12: 1 | H12: 3 | I12: 1 | M12: =G12*H12*I12 -> 3
L13: TOTAL | M13: =SUM(M8:M12) -> 17
B16: ='4º MEDIÇÃO'!C26 -> 10214 | C16: ='4º MEDIÇÃO'!D26 -> Retirada de grades, gradis, alambrados, cercas e portões | G16: m² | H16: 92.42 | I16: =H16-J16 -> 71.7 | J16: 20.72 | K16: =M29 -> 38.85 | L16: 15 | M16: =K16*L16 -> 582.75
C17: LOCAL | G17: QTD | H17: COMP. (m) | I17: LARG. (m) | J17: ESP. (m) | L17: VOLUME (m³) | M17: ÁREA (m²)
C18: Janela antiga sala investigador | G18: 1 | H18: 4.2 | I18: 1.2 | M18: =G18*H18*I18 -> 5.04
C19: Janela recepção | G19: 1 | H19: 4.2 | I19: 1.2 | M19: =G19*H19*I19 -> 5.04
C20: Janela antigo cartório 01 | G20: 1 | H20: 3.2 | I20: 1.2 | M20: =G20*H20*I20 -> 3.84
C21: Janela antigo cartório 02 | G21: 1 | H21: 3.2 | I21: 1.2 | M21: =G21*H21*I21 -> 3.84
C22: Janela sala de material apreendido | G22: 1 | H22: 3.2 | I22: 1.2 | M22: =G22*H22*I22 -> 3.84
C23: Portão cela | G23: 1 | H23: 2.5 | I23: 0.9 | M23: =G23*H23*I23 -> 2.25
C24: Grade janela depósito | G24: 1 | H24: 3 | I24: 1.2 | M24: =G24*H24*I24 -> 3.6
C25: Grade lateral PM | G25: 2 | H25: 1.2 | I25: 1.2 | M25: =G25*H25*I25 -> 2.88
C26: Grade condensadora sitema antigo | G26: 5 | H26: 1 | I26: 1 | M26: =G26*H26*I26 -> 5
C27: Grade Porta cartório 03 | G27: 1 | H27: 2.2 | I27: 0.8 | M27: =G27*H27*I27 -> 1.76
C28: Grade Porta antiga sala investigador | G28: 1 | H28: 2.2 | I28: 0.8 | M28: =G28*H28*I28 -> 1.76
L29: TOTAL | M29: =SUM(M18:M28) -> 38.85
B32: ='4º MEDIÇÃO'!C42 -> 10230 | C32: ='4º MEDIÇÃO'!D42 -> Retirada de persianas | G32: m² | H32: 9.44 | I32: =H32-J32 -> 3.04 | J32: 6.4 | K32: =M35 -> 3.08 | L32: 5 | M32: =K32*L32 -> 15.4
C33: LOCAL | G33: QTD | H33: COMP. (m) | I33: LARG. (m) | J33: ESP. (m) | L33: VOLUME (m³) | M33: ÁREA (m²)
C34: Janela depósito | G34: 1 | H34: 2.8 | I34: 1.1 | M34: =G34*H34*I34 -> 3.08
L35: TOTAL | M35: =SUM(M34) -> 3.08
B37: ='4º MEDIÇÃO'!C44 -> 2 | C37: INSTALAÇÃO DO CANTEIRO DE OBRAS | M37: =M38 -> 1105.75
B38: ='4º MEDIÇÃO'!C45 -> 201 | C38: TAPUMES, BARRACÕES E COBERTURAS | M38: =SUM(M39,M44) -> 1105.75
B39: ='4º MEDIÇÃO'!C50 -> 20105 | C39: ='4º MEDIÇÃO'!D50 -> Locação de andaime metálico para fachada - tipo torre (aluguel mensal) | G39: m | H39: 316 | I39: =H39-J39 -> 25 | J39: 291 | K39: 25 | L39: 15.43 | M39: =K39*L39 -> 385.75
C40: LOCAL | G40: QTD | H40: COMP. (m) | I40: LARG. (m) | J40: ESP. (m) | L40: VOLUME (m³) | M40: TOTAL (m)
C41: Necessário para fazer a redução dos vão das janelas | G41: 25 | H41: 1 | M41: =G41*H41 -> 25
L42: TOTAL | M42: =SUM(M41) -> 25
B44: ='4º MEDIÇÃO'!C52 -> 20107 | C44: ='4º MEDIÇÃO'!D52 -> Aluguel mensal container para escritório, dim. 6.00x2.40m, c/ banheiro (vaso+lavat+chuveiro e básc), incl. porta, 2 janelas, abert p/ ar cond., 2 pt iluminação, 2 tom. elét. e 1 tom.telef. Isolam.térmico(teto e paredes), piso em | G44: ms | H44: 12 | I44: =H44-J44 -> 9 | J44: 3 | K44: =M47 -> 1 | L44: 720 | M44: =K44*L44 -> 720
C45: LOCAL | G45: QTD | H45: COMP. (m) | I45: LARG. (m) | J45: ESP. (m) | L45: VOLUME (m³) | M45: TOTAL (m)
C46: canteiro de obra | G46: 1 | M46: =G46 -> 1
L47: TOTAL | M47: =SUM(M46) -> 1
...
