Workbook

Sheet Planilha de Medição
A1: POLÍCIA CIVIL DO ESTADO DO ESPÍRITO SANTO – Superintendência de Apoio Logístico e Engenharia – Divisão de Engenharia e Manutenção Predial
A2: PLANILHA DE MEDIÇÃO – Construção da NOVA SEDE DA DP IBIRAÇU-ES (Avenida Getúlio Vargas)
A3: Contratante: Polícia Civil do Estado do Espírito Santo | Contratado: PRIVATE CONSTRUTORA LTDA – CNPJ 10.616.350/0001-30
A4: E-Docs 2021-2GZ1S | Concorrência nº 002/2023 | Contrato PCES nº 179/2023 | Ordem de serviço: 16/04/2024 | Prazo de execução: 30 meses | Término: 16/10/2026
A5: Medição: executado até 31/05/2026. Valores transcritos do documento original. Linhas em cinza estavam em cinza no original.
D7: CONTRATO ORIGINAL | G7: 2º ADITIVO (APÓS REPLANILHAMENTO) | I7: EXECUTADO ATÉ 31/05/2026 | L7: À EXECUTAR
A8: Código | B8: Descrição | C8: Unid. | D8: Quant. | E8: Preço unitário (R$) | F8: Preço total (R$) | G8: Quant. após replan. | H8: Valor após replan. (R$) | I8: Quant. | J8: Total (R$) | K8: % | L8: Quant. | M8: Total (R$) | N8: %
A9: 01 | B9: SERVIÇOS PRELIMINARES | F9: 31513.73 | H9: 37572.09 | J9: 37572.09 | K9: 1 | M9: 0 | N9: 0
A10: 0101 | B10: DEMOLIÇÕES E RETIRADAS | F10: 21305.76 | H10: 27076.85 | J10: 27076.85 | M10: 0
A11: 010101 | B11: Demolição de edificação existente inclusive carga, manobra e descarga do material proveniente da demolição da edificação (hora de máquina - pá carregadeira) | C11: h | D11: 88 | E11: 240.46 | F11: 21160.66 | G11: 112 | H11: 26931.74 | I11: 112 | J11: 26931.74 | K11: 1 | L11: 0 | M11: 0
A12: 010102 | B12: Retirada de aparelhos sanitários | C12: und | D12: 5 | E12: 21.75 | F12: 108.77 | G12: 5 | H12: 108.77 | I12: 5 | J12: 108.77 | K12: 1 | L12: 0 | M12: 0
A13: 010103 | B13: Retirada de vidros quebrados | C13: m2 | D13: 9.8 | E13: 3.71 | F13: 36.34 | G13: 9.8 | H13: 36.34 | I13: 9.8 | J13: 36.34 | K13: 1 | L13: 0 | M13: 0
A14: 0102 | B14: LIMPEZA DO TERRENO | F14: 1465.78 | H14: 1465.78 | J14: 1465.78 | M14: 0
A15: 010201 | B15: Limpeza manual de vegetação em terreno com enxada | C15: m2 | D15: 469.35 | E15: 3.12 | F15: 1465.78 | G15: 469.35 | H15: 1465.78 | I15: 469.35 | J15: 1465.78 | K15: 1 | L15: 0 | M15: 0
A16: 0103 | B16: LOCAÇÃO | F16: 8742.19 | H16: 9029.47 | J16: 9029.47 | M16: 0
A17: 010301 | B17: Locação de obra com gabarito de madeira | C17: m2 | D17: 313.27 | E17: 12.83 | F17: 4017.69 | G17: 335.67 | H17: 4304.97 | I17: 335.67 | J17: 4304.97 | K17: 1 | L17: 0 | M17: 0
A18: 010302 | B18: Equipe topográfica para serviços simples de locação e nivelamento (incluindo equipamento, transporte e profissionais nivel médio) | C18: mês | D18: 0.2 | E18: 23622.5 | F18: 4724.5 | G18: 0.2 | H18: 4724.5 | I18: 0.2 | J18: 4724.5 | K18: 1 | L18: 0 | M18: 0
A19: 02 | B19: INSTALAÇÃO DO CANTEIRO DE OBRAS | F19: 220296.98 | H19: 232412.24 | J19: 127644.04 | K19: 0.5492 | M19: 104768.2 | N19: 0.4508
A20: 0201 | B20: TAPUMES, BARRACÕES E COBERTURAS | F20: 220296.98 | H20: 232412.24 | J20: 127644.04 | K20: 0.5492 | M20: 104768.2 | N20: 0.4508
A21: 020101 | B21: Placa de obra nas dimensões de 2.0 x 4.0 m, padrão DER | C21: m2 | D21: 8 | E21: 283.14 | F21: 2265.12 | G21: 8 | H21: 2265.12 | I21: 8 | J21: 2265.12 | K21: 1 | L21: 0 | M21: 0 | N21: 0
A22: 020102 | B22: Tapume Telha Metálica Ondulada em aço galvalume 0,50mm Branca h=2,20m, incl. montagem estr. mad. 8"x8", c/adesivo "PC-ES" 60x60cm a cada 10m, incl. faixas pint. esmalte sint. h=40cm (Reaproveitamento 2x) | C22: m | D22: 20 | E22: 226.17 | F22: 4523.4 | G22: 20 | H22: 4523.4 | I22: 20 | J22: 4523.4 | K22: 1 | L22: 0 | M22: 0 | N22: 0
A23: 020103 | B23: Galpão de obra para serraria e carpintaria com área de 12.00 m2, de peças de madeira 8x8cm e contraventamento de 5x7cm, cobertura de telhas de fibrocimento de 6mm, inclusive ponto de luz de energia | C23: m2 | D23: 12 | E23: 214.51 | F23: 2574.07 | G23: 12 | H23: 2574.07 | I23: 12 | J23: 2574.07 | K23: 1 | L23: 0 | M23: 0 | N23: 0
A24: 020104 | B24: Galpão de obra para corte e armação com área de 6.00m2, de peças de madeira 8x8cm e cobertura de telhas de fibrocimento de 6mm, inclusive ponto de luz e de energia | C24: m2 | D24: 6 | E24: 231.4 | F24: 1388.39 | G24: 6 | H24: 1388.39 | I24: 6 | J24: 1388.39 | K24: 1 | L24: 0 | M24: 0 | N24: 0
A25: 020105 | B25: Barracão de obra para depósito de cimento com área de 9.00m2, de chapa de compensado resinado 10mm e cobertura de telhas de fibrocimento de 6mm, inclusive ponto de luz | C25: m2 | D25: 9 | E25: 668.06 | F25: 6012.55 | G25: 9 | H25: 6012.55 | I25: 9 | J25: 6012.55 | K25: 1 | L25: 0 | M25: 0 | N25: 0
A26: 020106 | B26: Reservatório de poliestileno de 1000 L, inclusive adaptadores com flanges de pvc e torneira de bóia de 3/4", elevado de 4m, de peças de madeira de 6x16 cm, travadas com peças de 5x7 cm | C26: und | D26: 1 | E26: 3321.01 | F26: 3321.01 | G26: 1 | H26: 3321.01 | I26: 1 | J26: 3321.01 | K26: 1 | L26: 0 | M26: 0 | N26: 0
A27: 020107 | B27: Rede de luz, inclusive padrão de entrada de energia elétrica trifásica, cabo de ligação até os barracões, chaves de força e iluminação externa | C27: m | D27: 20 | E27: 111.08 | F27: 2221.56 | G27: 20 | H27: 2221.56 | I27: 20 | J27: 2221.56 | K27: 1 | L27: 0 | M27: 0 | N27: 0
A28: 020108 | B28: Mobilização e desmobilização de conteiner locado para barracão de obra | C28: und | D28: 10 | E28: 1789.14 | F28: 17891.37 | G28: 10 | H28: 17891.37 | I28: 4 | J28: 7156.55 | K28: 0.4 | L28: 6 | M28: 10734.82 | N28: 0.6
A29: 020109 | B29: Aluguel mensal container para escritório, dim. 6.00x2.40m, c/ banheiro (vaso+lavat+chuveiro e básc), incl. porta, 2 janelas, abert p/ ar cond., 2 pt iluminação, 2 tom. elét. e 1 tom.telef. Isolam.térmico(teto e paredes), piso em | C29: ms | D29: 24 | E29: 1156.51 | F29: 27756.22 | G29: 24 | H29: 27756.22 | I29: 23 | J29: 26599.71 | K29: 0.9583 | L29: 1 | M29: 1156.51 | N29: 0.0417
A30: 020110 | B30: Aluguel mensal container para refeitorio, incl. porta, 2 janelas, abert p/ ar cond., 2 pt iluminação, 2 tomadas elét. e 1 tomada telef. Isolamento térmico (paredes e teto), piso em comp. Naval pintado, cert. NR18, incl. laudo des | C30: ms | D30: 24 | E30: 1042.79 | F30: 25026.84 | G30: 24 | H30: 25026.84 | I30: 0 | J30: 0 | K30: 0 | L30: 24 | M30: 25026.84 | N30: 1
A31: 020111 | B31: Aluguel mensal container para vestiário, incl. porta, venezianas de circulação, 1 pt iluminação, Isolamento térmico (teto), piso em comp. Naval pintado, cert. NR18, incl. laudo descontaminação. | C31: ms | D31: 24 | E31: 869.23 | F31: 20861.5 | G31: 24 | H31: 20861.5 | I31: 0 | J31: 0 | K31: 0 | L31: 24 | M31: 20861.5 | N31: 1
A32: 020112 | B32: Aluguel mensal container sanitário, incl porta, básc, 2 ptos luz, 1 pto aterram., 3vasos, 3lavatórios, calha mictório, 6 chuveiros (1 eletrico), torn.,registros, piso comp. Naval pintado, cert NR18 e laudo descontaminação | C32: ms | D32: 24 | E32: 1086.35 | F32: 26072.28 | G32: 24 | H32: 26072.28 | I32: 0 | J32: 0 | K32: 0 | L32: 24 | M32: 26072.28 | N32: 1
... A35: 020115 | B35: Fornecimento e instalação de proteção para andaime fachadeiro considerando plataforma, rodapé e guarda-corpo em madeira, inclusive entelamento, conforme NR-18 (medido por m2 de fachada) | C35: m2 | D35: 608 | E35: 29.92 | F35: 18188.93 | G35: 833.22 | H35: 24926.61 | I35: 833.22 | J35: 24926.61 | K35: 1 | L35: 0 | M35: 0 | N35: 0
A36: 03 | B36: MOVIMENTO DE TERRA | F36: 132223.35 | H36: 137899.92 | J36: 120404.58 | K36: 0.8731 | M36: 17495.35 | N36: 0.1269
A37: 0301 | B37: ESCAVAÇÕES | F37: 6503.19 | H37: 6503.19 | J37: 6503.19 | K37: 1 | M37: 0 | N37: 0
A38: 30101 | B38: Escavação manual em material de 1a. categoria, até 1.50 m de profundidade | C38: m3 | D38: 83.96 | E38: 60.24 | F38: 5057.5 | G38: 83.96 | H38: 5057.5 | I38: 83.96 | J38: 5057.5 | K38: 1 | L38: 0 | M38: 0 | N38: 0
A39: 030102 | B39: Escavação mecânica em material de 1a. categoria | C39: m3 | D39: 100.9 | E39: 14.33 | F39: 1445.7 | G39: 100.9 | H39: 1445.7 | I39: 100.9 | J39: 1445.7 | K39: 1 | L39: 0 | M39: 0 | N39: 0
A40: 0302 | B40: REATERRO E COMPACTAÇÃO | F40: 42500.89 | H40: 42500.89 | J40: 25005.56 | K40: 0.5884 | M40: 17495.33 | N40: 0.4116
A41: 030201 | B41: Reaterro apiloado de cavas de fundação, em camadas de 20 cm | C41: m3 | D41: 59.42 | E41: 64.88 | F41: 3855.23 | G41: 59.42 | H41: 3855.23 | I41: 59.36 | J41: 3851.37 | K41: 0.999 | L41: 0.06 | M41: 3.86 | N41: 0.001
A42: 030202 | B42: Aterro manual para regularização do terreno em areia, inclusive adensamento hidráulico e fornecimento do material (máximo de 100m3) | C42: m3 | D42: 94.06 | E42: 224.9 | F42: 21154.19 | G42: 94.06 | H42: 21154.19 | I42: 94.06 | J42: 21154.19 | K42: 1 | L42: 0 | M42: 0 | N42: 0
A43: 030203 | B43: Aterro com areia em áreas de calçada, inclusive fornecimento e adensamento | C43: m3 | D43: 3.95 | E43: 200.54 | F43: 792.13 | G43: 3.95 | H43: 792.13 | I43: 0 | J43: 0 | K43: 0 | L43: 3.95 | M43: 792.13 | N43: 1
...

Sheet Resumo por etapa
A1: Resumo por etapa – Nova sede da DP Ibiraçu (medição até 31/05/2026)
A3: Código | B3: Etapa | C3: Valor após replan. (R$) | D3: Executado (R$) | E3: % executado | F3: A executar (R$) | G3: % a executar
A4: ='Planilha de Medição'!A9 -> 01 | B4: ='Planilha de Medição'!B9 -> SERVIÇOS PRELIMINARES | C4: ='Planilha de Medição'!H9 -> 37572.09 | D4: ='Planilha de Medição'!J9 -> 37572.09 | E4: =IF(C4=0,0,D4/C4) -> 1 | F4: ='Planilha de Medição'!M9 -> 0 | G4: =IF(C4=0,0,F4/C4) -> 0
A5: ='Planilha de Medição'!A19 -> 02 | B5: ='Planilha de Medição'!B19 -> INSTALAÇÃO DO CANTEIRO DE OBRAS | C5: ='Planilha de Medição'!H19 -> 232412.24 | D5: ='Planilha de Medição'!J19 -> 127644.04 | E5: =IF(C5=0,0,D5/C5) -> 0.54921393 | F5: ='Planilha de Medição'!M19 -> 104768.2 | G5: =IF(C5=0,0,F5/C5) -> 0.45078607
A6: ='Planilha de Medição'!A36 -> 03 | B6: ='Planilha de Medição'!B36 -> MOVIMENTO DE TERRA | C6: ='Planilha de Medição'!H36 -> 137899.92 | D6: ='Planilha de Medição'!J36 -> 120404.58 | E6: =IF(C6=0,0,D6/C6) -> 0.87313017 | F6: ='Planilha de Medição'!M36 -> 17495.35 | G6: =IF(C6=0,0,F6/C6) -> 0.12686991
A7: ='Planilha de Medição'!A50 -> 04 | B7: ='Planilha de Medição'!B50 -> ESTRUTURAS | C7: ='Planilha de Medição'!H50 -> 967627.61 | D7: ='Planilha de Medição'!J50 -> 761139.26 | E7: =IF(C7=0,0,D7/C7) -> 0.7866035 | F7: ='Planilha de Medição'!M50 -> 206488.36 | G7: =IF(C7=0,0,F7/C7) -> 0.21339652
A8: ='Planilha de Medição'!A82 -> 05 | B8: ='Planilha de Medição'!B82 -> PAREDES E PAINÉIS | C8: ='Planilha de Medição'!H82 -> 171803.08 | D8: ='Planilha de Medição'!J82 -> 136127.89 | E8: =IF(C8=0,0,D8/C8) -> 0.79234837 | F8: ='Planilha de Medição'!M82 -> 35675.19 | G8: =IF(C8=0,0,F8/C8) -> 0.20765163
A9: ='Planilha de Medição'!A92 -> 06 | B9: ='Planilha de Medição'!B92 -> ESQUADRIAS DE MADEIRA | C9: ='Planilha de Medição'!H92 -> 39966.83 | D9: ='Planilha de Medição'!J92 -> 8175.6 | E9: =IF(C9=0,0,D9/C9) -> 0.20455963 | F9: ='Planilha de Medição'!M92 -> 31791.23 | G9: =IF(C9=0,0,F9/C9) -> 0.79544037
A10: ='Planilha de Medição'!A101 -> 07 | B10: ='Planilha de Medição'!B101 -> ESQUADRIAS METÁLICAS | C10: ='Planilha de Medição'!H101 -> 230917.62 | D10: ='Planilha de Medição'!J101 -> 6789.48 | E10: =IF(C10=0,0,D10/C10) -> 0.029402174 | F10: ='Planilha de Medição'!M101 -> 224128.13 | G10: =IF(C10=0,0,F10/C10) -> 0.97059778
A11: ='Planilha de Medição'!A113 -> 08 | B11: ='Planilha de Medição'!B113 -> VIDROS E ESPELHOS | C11: ='Planilha de Medição'!H113 -> 32725.83 | D11: ='Planilha de Medição'!J113 -> 0 | E11: =IF(C11=0,0,D11/C11) -> 0 | F11: ='Planilha de Medição'!M113 -> 32725.83 | G11: =IF(C11=0,0,F11/C11) -> 1
A12: ='Planilha de Medição'!A122 -> 09 | B12: ='Planilha de Medição'!B122 -> COBERTURA | C12: ='Planilha de Medição'!H122 -> 146466.75 | D12: ='Planilha de Medição'!J122 -> 133443.09 | E12: =IF(C12=0,0,D12/C12) -> 0.91108112 | F12: ='Planilha de Medição'!M122 -> 13023.66 | G12: =IF(C12=0,0,F12/C12) -> 0.088918884
A13: ='Planilha de Medição'!A133 -> 10 | B13: ='Planilha de Medição'!B133 -> IMPERMEABILIZAÇÃO | C13: ='Planilha de Medição'!H133 -> 93619.7 | D13: ='Planilha de Medição'!J133 -> 78292.17 | E13: =IF(C13=0,0,D13/C13) -> 0.8362788 | F13: ='Planilha de Medição'!M133 -> 15327.52 | G13: =IF(C13=0,0,F13/C13) -> 0.1637211
A14: ='Planilha de Medição'!A138 -> 11 | B14: ='Planilha de Medição'!B138 -> TETOS E FORROS | C14: ='Planilha de Medição'!H138 -> 75725.12 | D14: ='Planilha de Medição'!J138 -> 0 | E14: =IF(C14=0,0,D14/C14) -> 0 | F14: ='Planilha de Medição'!M138 -> 75725.12 | G14: =IF(C14=0,0,F14/C14) -> 1
A15: ='Planilha de Medição'!A147 -> 12 | B15: ='Planilha de Medição'!B147 -> REVESTIMENTO DE PAREDES | C15: ='Planilha de Medição'!H147 -> 360219.56 | D15: ='Planilha de Medição'!J147 -> 247052.91 | E15: =IF(C15=0,0,D15/C15) -> 0.6858398 | F15: ='Planilha de Medição'!M147 -> 113166.65 | G15: =IF(C15=0,0,F15/C15) -> 0.3141602
A16: ='Planilha de Medição'!A159 -> 13 | B16: ='Planilha de Medição'!B159 -> PISOS INTERNOS E EXTERNOS | C16: ='Planilha de Medição'!H159 -> 222403.36 | D16: ='Planilha de Medição'!J159 -> 58100.14 | E16: =IF(C16=0,0,D16/C16) -> 0.26123769 | F16: ='Planilha de Medição'!M159 -> 164303.22 | G16: =IF(C16=0,0,F16/C16) -> 0.73876231
A17: ='Planilha de Medição'!A173 -> 14 | B17: ='Planilha de Medição'!B173 -> INSTALAÇÕES HIDROSSANITÁRIAS | C17: ='Planilha de Medição'!H173 -> 69342.34 | D17: ='Planilha de Medição'!J173 -> 62938.89 | E17: =IF(C17=0,0,D17/C17) -> 0.90765454 | F17: ='Planilha de Medição'!M173 -> 6403.44 | G17: =IF(C17=0,0,F17/C17) -> 0.092345312
A18: ='Planilha de Medição'!A211 -> 15 | B18: ='Planilha de Medição'!B211 -> INSTALAÇÕES ELÉTRICAS | C18: ='Planilha de Medição'!H211 -> 194826.24 | D18: ='Planilha de Medição'!J211 -> 110414.84 | E18: =IF(C18=0,0,D18/C18) -> 0.56673495 | F18: ='Planilha de Medição'!M211 -> 84411.4 | G18: =IF(C18=0,0,F18/C18) -> 0.43326505
A19: ='Planilha de Medição'!A284 -> 16 | B19: ='Planilha de Medição'!B284 -> OUTRAS INSTALAÇÕES | C19: ='Planilha de Medição'!H284 -> 207949.64 | D19: ='Planilha de Medição'!J284 -> 79943.22 | E19: =IF(C19=0,0,D19/C19) -> 0.38443548 | F19: ='Planilha de Medição'!M284 -> 128006.42 | G19: =IF(C19=0,0,F19/C19) -> 0.61556452
A20: ='Planilha de Medição'!A364 -> 17 | B20: ='Planilha de Medição'!B364 -> APARELHOS HIDRO-SANITÁRIOS | C20: ='Planilha de Medição'!H364 -> 109639.65 | D20: ='Planilha de Medição'!J364 -> 21243.65 | E20: =IF(C20=0,0,D20/C20) -> 0.19375883 | F20: ='Planilha de Medição'!M364 -> 88396 | G20: =IF(C20=0,0,F20/C20) -> 0.80624117
A21: ='Planilha de Medição'!A399 -> 18 | B21: ='Planilha de Medição'!B399 -> APARELHOS ELÉTRICOS | C21: ='Planilha de Medição'!H399 -> 67450.02 | D21: ='Planilha de Medição'!J399 -> 0 | E21: =IF(C21=0,0,D21/C21) -> 0 | F21: ='Planilha de Medição'!M399 -> 67450.02 | G21: =IF(C21=0,0,F21/C21) -> 1
A22: ='Planilha de Medição'!A419 -> 19 | B22: ='Planilha de Medição'!B419 -> PINTURA | C22: ='Planilha de Medição'!H419 -> 159291.45 | D22: ='Planilha de Medição'!J419 -> 46873.11 | E22: =IF(C22=0,0,D22/C22) -> 0.29426005 | F22: ='Planilha de Medição'!M419 -> 112418.33 | G22: =IF(C22=0,0,F22/C22) -> 0.70573989
A23: ='Planilha de Medição'!A431 -> 20 | B23: ='Planilha de Medição'!B431 -> SERVIÇOS COMPLEMENTARES EXTERNOS | C23: ='Planilha de Medição'!H431 -> 478928.35 | D23: ='Planilha de Medição'!J431 -> 232836.82 | E23: =IF(C23=0,0,D23/C23) -> 0.48616212 | F23: ='Planilha de Medição'!M431 -> 257543.2 | G23: =IF(C23=0,0,F23/C23) -> 0.53774891
A24: ='Planilha de Medição'!A510 -> 21 | B24: ='Planilha de Medição'!B510 -> SERVIÇOS COMPLEMENTARES INTERNOS | C24: ='Planilha de Medição'!H510 -> 105157.28 | D24: ='Planilha de Medição'!J510 -> 76652.85 | E24: =IF(C24=0,0,D24/C24) -> 0.72893527 | F24: ='Planilha de Medição'!M510 -> 28504.43 | G24: =IF(C24=0,0,F24/C24) -> 0.27106473
A25: ='Planilha de Medição'!A521 -> 22 | B25: ='Planilha de Medição'!B521 -> ITENS NOVOS - ACRÉSCIMOS | C25: ='Planilha de Medição'!H521 -> 654231.78 | D25: ='Planilha de Medição'!J521 -> 558622.85 | E25: =IF(C25=0,0,D25/C25) -> 0.85386077 | F25: ='Planilha de Medição'!M521 -> 95608.93 | G25: =IF(C25=0,0,F25/C25) -> 0.14613923
B26: TOTAL (soma das etapas) | C26: =SUM(C4:C25) -> 4796176.5 | D26: =SUM(D4:D25) -> 2904267.5 | E26: =IF(C26=0,0,D26/C26) -> 0.60553808 | F26: =SUM(F4:F25) -> 1903360.6 | G26: =IF(C26=0,0,F26/C26) -> 0.39684958
