Workbook
Name \C: #REF!
Name \C: #REF!
Name \C: #REF!
Name \D: #REF!
Name \D: #REF!
Name \D: #REF!
Name \G: #REF!
Name \G: #REF!
Name \G: #REF!
Name \I: #REF!
Name \M: #REF!
Name \P: #REF!
Name \R: #REF!
Name \Y: #REF!
Name _: #REF!
Name ___________FOG50: #REF!
Name ___________FOG50: #REF!
Name ___________FOG50: #REF!
Name ___________FOG50: #REF!
Name ___________FOG50: #REF!
Name ___________PVC100: #REF!
Name ___________PVC100: #REF!
Name ___________PVC100: #REF!
Name ___________PVC100: #REF!
Name ___________PVC100: #REF!
Name ___________PVC150: #REF!
Name ___________PVC150: #REF!
Name ___________PVC150: #REF!
Name ___________PVC150: #REF!
Name ___________PVC150: #REF!
Name ___________PVC50: #REF!
Name ___________PVC50: #REF!
Name ___________PVC50: #REF!
Name ___________PVC50: #REF!
Name ___________PVC50: #REF!
Name ___________PVC75: #REF!
Name ___________PVC75: #REF!
Name ___________PVC75: #REF!
Name ___________PVC75: #REF!
Name ___________PVC75: #REF!
Name ___________VBF1: #REF!
Name ___________VBF1: #REF!
Name ___________VBF1: #REF!
Name ___________VBF1: #REF!
Name ___________VBF1: #REF!
Name ___________VE1: #REF!
Name ___________VE1: #REF!
Name ___________VE1: #REF!
Name ___________VE1: #REF!
Name ___________VE1: #REF!
Name ___________VO1: #REF!
Name ___________VO1: #REF!
Name ___________VO1: #REF!
Name ___________VO1: #REF!
Name ___________VO1: #REF!
Name ___________VR1: #REF!
Name ___________VR1: #REF!
Name ___________VR1: #REF!
Name ___________VR1: #REF!
Name ___________VR1: #REF!

Sheet PL ANALÍTICA OBSOLETA
D1: PREFEITURA MUNICIPAL DA SERRA | E1: OBRA: REFORMA DO CAMPO JARDIM CARAPINA | I1: 1.309 | K1: rever de acordo com novo projeto
D2: SECRETARIA DE OBRAS
D3: DEPARTAMENTO DE PROJETOS DE OBRAS PÚBLICAS
D4: PLANILHA ORÇAMENTÁRIA | E4: DATA BASE: OUTUBRO 2019 BDI: 30,90 % L.S. DESONERADAS: 128,33%
A5: ITEM | B5: ÓRGÃO | C5: CÓDIGO | D5: DESCRIÇÃO SERVIÇO | E5: UNID | F5: QUANT. | G5: PREÇOS R$
G6: UNIT. C/ BDI | H6: TOTAL
A7: 1 | D7: INSTALAÇÃO DO CANTEIRO DE OBRAS | H7: =SUM(H8:H11) -> #REF!
A8: 1.1 | B8: PMS | C8: C459 | D8: ALUGUEL/MANUTENÇÃO/DESMOBILIZAÇÃO BANHEIRO HIDRAULICO | E8: mês | F8: =#REF! -> #REF! | G8: 1763.44 | H8: =G8*F8 -> #REF!
A9: 1.2 | B9: IOPES | C9: 020305 | D9: Placa de obra nas dimensões de 2.0 x 4.0 m, padrão IOPES | E9: m² | F9: =#REF! -> #REF! | G9: 245.99 | H9: =G9*F9 -> #REF!
A10: 1.3 | B10: IOPES | C10: 020356 | D10: Aluguel mensal container para almoxarifado, incl. porta, 2 janelas, 1 pt iluminação, Isolamento térmico (teto), piso em comp. Naval pintado, cert. NR18, incl. laudo descontaminação. | E10: mês | F10: =#REF! -> #REF! | G10: 545.42 | H10: =G10*F10 -> #REF!
A11: 1.4 | B11: IOPES | C11: 020344 | D11: Mobilização e desmobilização de conteiner locado para barracão de obra | E11: und | F11: =#REF! -> #REF! | G11: 1145.38 | H11: =G11*F11 -> #REF!
A12: 2 | D12: SERVIÇOS PRELIMINARES | H12: =SUM(H13:H16) -> #REF!
A13: 2.1 | B13: PMS | C13: C2126 | D13: Retirada de grama sintética, inclusive carga, descarga e transporte a 30km | E13: m² | F13: =#REF! -> #REF! | G13: 7.31 | H13: =G13*F13 -> #REF!
A14: 2.2 | B14: IOPES | C14: 030101 | D14: Escavação manual em material de 1a. categoria, até 1.50 m de profundidade | E14: m³ | F14: =#REF! -> #REF! | G14: 47.99 | H14: =G14*F14 -> #REF!
A15: 2.3 | B15: IOPES | C15: 010210 | D15: Demolição manual de concreto simples (EMOP 05.001.001) | E15: m³ | F15: =#REF! -> #REF! | G15: 236.25 | H15: =G15*F15 -> #REF!
A16: 2.4 | B16: IOPES | C16: 030304 | D16: Índice de preço para remoção de entulho decorrente da execução de obras (Classe A CONAMA - NBR 10.004 - Classe II-B), incluindo aluguel da caçamba, carga, transporte e descarga em área licenciada | E16: m³ | F16: =#REF! -> #REF! | G16: 61.67 | H16: =G16*F16 -> #REF!
A17: 3 | D17: GRAMADO | H17: =SUM(H18:H23) -> #REF!
A18: 3.1 | B18: SINAPI | C18: 83729 | D18: Fornecimento/instalacao de manta bidim rt-31 | E18: m² | F18: =#REF! -> #REF! | G18: 28.64092 | H18: =G18*F18 -> #REF! | I18: 21.88
A19: 3.2 | B19: SINAPI | C19: 72961 | D19: Regularizacao e compactacao de subleito ate 20 cm de espessura | E19: m² | F19: =#REF! -> #REF! | G19: 1.7017 | H19: =G19*F19 -> #REF! | I19: 1.3
A20: 3.3 | B20: IOPES | C20: 200306 | D20: Fornecimento e espalhamento de brita 1 ou 2 | E20: m³ | F20: =#REF! -> #REF! | G20: 159.83 | H20: =G20*F20 -> #REF!
A21: 3.4 | B21: PMS | C21: C2325 | D21: CAMADA DRENANTE COM AREIA FINA | E21: m³ | F21: =#REF! -> #REF! | G21: 84.47 | H21: =G21*F21 -> #REF!
A22: 3.5 | B22: SINAPI | C22: 73817/001 | D22: Embasamento de material granular - Pó de pedra | E22: m³ | F22: =#REF! -> #REF! | G22: 118.84411 | H22: =G22*F22 -> #REF! | I22: 90.79
A23: 3.6 | B23: PMS | C23: C1343 | D23: Fornecimento e instalação de grama sintética de polietileno em monofilamento para a finalidade de futebol com altura mínima de 44,00 mm, decitex dos fios de 11.000 pontos por m² com estabilizantes de cor e proteção ultravioleta, inclusive grama branca para linhas demarcatórias | E23: m² | F23: =#REF! -> #REF! | G23: 129.59 | H23: =G23*F23 -> #REF!
A24: 4 | D24: ÁREA TÉCNICA - PISO | H24: =SUM(H25:H26) -> #REF!
A25: 4.1 | B25: SINAPI | C25: 72961 | D25: Regularizacao e compactacao de subleito ate 20 cm de espessura | E25: m² | F25: =#REF! -> #REF! | G25: 1.7017 | H25: =G25*F25 -> #REF! | I25: 1.3
A26: 4.2 | B26: IOPES | C26: 130112 | D26: Lastro de concreto não estrutural, espessura de 6 cm | E26: m² | F26: =#REF! -> #REF! | G26: 40.68 | H26: =G26*F26 -> #REF!
A27: 5 | D27: FECHAMENTO | H27: =SUM(H28:H37) -> #REF!
A28: 5.1 | B28: IOPES | C28: 030101 | D28: Escavação manual em material de 1a. categoria, até 1.50 m de profundidade | E28: m³ | F28: =#REF! -> #REF! | G28: 47.99 | H28: =G28*F28 -> #REF!
A29: 5.2 | B29: PMS | C29: C1702 | D29: Tubo PVC rígido para esgoto no diâmetro de 200mm incluindo escavação e aterro com areia | E29: m | F29: =#REF! -> #REF! | G29: 100.77 | H29: =G29*F29 -> #REF!
A30: 5.3 | B30: IOPES | C30: 030201 | D30: Reaterro apiloado de cavas de fundação, em camadas de 20 cm | E30: m³ | F30: =#REF! -> #REF! | G30: 51.68 | H30: =G30*F30 -> #REF!
A31: 5.4 | B31: IOPES | C31: 160716 | D31: Fornecimento, preparo e aplicação de concreto Fck=15 MPa (brita 1) - (5% de perdas já incluído no custo) | E31: m³ | F31: =#REF! -> #REF! | G31: 545.21 | H31: =G31*F31 -> #REF!
A32: 5.5 | B32: IOPES | C32: 050501 | D32: Alvenaria de blocos de concreto estrut. (14x19x39cm) cheios, c/ resist. mín. compr. 15MPa, assentados c/ arg. de cimento e areia no traço 1:4, esp. juntas 10mm e esp. da parede s/ revest. 14cm | E32: m² | F32: =#REF! -> #REF! | G32: 100.45 | H32: =G32*F32 -> #REF!
A33: 5.6 | B33: IOPES | C33: 120101 | D33: Chapisco de argamassa de cimento e areia média ou grossa lavada, no traço 1:3, espessura 5 mm | E33: m² | F33: =#REF! -> #REF! | G33: 5.8 | H33: =G33*F33 -> #REF!
A34: 5.7 | B34: IOPES | C34: 110301 | D34: Emboço de argamassa de cimento, cal hidratada CH1 e areia lavada traço 1:0.5:6, espessura 20 mm | E34: m² | F34: =#REF! -> #REF! | G34: 32.31 | H34: =G34*F34 -> #REF!
A35: 5.8 | B35: IOPES | C35: 110302 | D35: Reboco tipo paulista de argamassa de cimento, cal hidratada CH1 e areia lavada traço 1:0.5:6, espessura 25 mm | E35: m² | F35: =#REF! -> #REF! | G35: 55.91 | H35: =G35*F35 -> #REF!
A36: 5.9 | B36: IOPES | C36: 190106 | D36: Pintura com tinta acrílica, marcas de referência Suvinil, Coral ou Metalatex, inclusive selador acrílico, em paredes e forros, a três demãos | E36: m² | F36: =#REF! -> #REF! | G36: 22.91 | H36: =G36*F36 -> #REF!
A37: 5.10 | B37: IOPES | C37: 200101 | D37: Alambrado c/ tela losangular de arame fio 12 malha 2" revest. em PVC com tubo de ferro galvanizado vertical de 2 1/2" e horizontal de 1" incl. portão, pintados com esmalte sobre fundo anticorrosivo | E37: m² | F37: =#REF! -> #REF! | G37: 160 | H37: =G37*F37 -> #REF!
A38: 6 | D38: MOBILIÁRIO | H38: =SUM(H39:H39) -> 8704.44
A39: 6.1 | B39: PMS | C39: C2127 | D39: TRAVE PARA FUTEBOL SOCIETY EM TUBO DE AÇO GALVANIZADO 4" (100MM), MEDINDO 500X220CM, COM ACABAMENTO EM PINTURA ESMALTE NA COR BRANCA, SOBRE FUNDO ANTI-CORROSIVO, INCLUINDO FUNDAÇÃO + REDE EM FIO 4MM 100% NYLON COM PROTEÇÃO UV - PAR | E39: und | F39: 2 | G39: 4352.22 | H39: =G39*F39 -> 8704.44
A40: 7 | D40: LIMPEZA GERAL DA OBRA | H40: =H41 -> #REF!
...

Sheet C2119 - T100
A5: PREFEITURA DA SERRA
A6: SECRETARIA DE OBRAS
A7: DEPARTAMENTO DE PROJETOS DE OBRAS PÚBLICAS
A8: COMPOSIÇÃO ANALÍTICA DE PREÇO UNITÁRIO
A9: DESCRIÇÃO DO SERVIÇO | C9: ITEM | D9: UNIDADE | F9: DATA BASE
A10: TUBO PVC, SERIE R, DN 100 MM, PARA ESGOTO OU AGUAS PLUVIAIS PREDIAL | C10: C2119-T100 | D10: UNID | F10: MAIO/2021
A11: 1 - MÃO DE OBRA | B11: FONTE | C11: UNID | D11: COEFIC. | E11: PREÇOS | G11: TOTAL A
E12: UNITÁRIO | F12: TOTAL PARCIAL
A13: AUXILIAR DE ENCANADOR OU BOMBEIRO HIDRÁULICO COM ENCARGOS COMPLEMENTARES | B13: 88248 - SINAPI | C13: H | D13: 0.18 | E13: 16.31 | F13: =D13*E13 -> 2.9358
A14: ENCANADOR OU BOMBEIRO HIDRÁULICO COM ENCARGOS COMPLEMENTARES | B14: 88267 - SINAPI | C14: H | D14: 0.18 | E14: 20.98 | F14: =D14*E14 -> 3.7764
A16: TOTAL A | G16: =SUM(F13:F14) -> 6.7122
A17: 2 - MATERIAIS | B17: FONTE | C17: UNID | D17: COEFIC. | E17: PREÇOS | G17: TOTAL B
E18: UNITÁRIO | F18: TOTAL PARCIAL
A19: ADESIVO PLASTICO PARA PVC, FRASCO COM 850 GR | B19: 122 - SINAPI | C19: UNID | D19: =0.0062*2 -> 0.0124 | E19: 69.1 | F19: =D19*E19 -> 0.85684
A20: LIXA EM FOLHA PARA PAREDE OU MADEIRA, NUMERO 120 (COR VERMELHA) | B20: 3767 - SINAPI | C20: UNID | D20: =0.037*2 -> 0.074 | E20: 0.86 | F20: =D20*E20 -> 0.06364
A21: SOLUCAO LIMPADORA PARA PVC, FRASCO COM 1000 CM3 | B21: 20083 - SINAPI | C21: UNID | D21: =0.0102*2 -> 0.0204 | E21: 60.01 | F21: =D21*E21 -> 1.224204
A22: TUBO PVC, SERIE R, DN 100 MM, PARA ESGOTO OU AGUAS PLUVIAIS PREDIAL (NBR 5688) | B22: 9841 - SINAPI | C22: UNID | D22: 1.04 | E22: =H46 -> 28.014946 | F22: =D22*E22 -> 29.135544
A24: TOTAL B | G24: =SUM(F19:F22) -> 31.280228
A25: 3 - EQUIPAMENTOS | B25: FONTE | C25: UNID | D25: COEFIC. | E25: PREÇOS | F25: TOTAL PARCIAL | G25: TOTAL C
E26: UNITÁRIO
F27: -
A29: TOTAL C | G29: =F27 -> -
A30: 4 - RESUMO - DISCRIMINAÇÃO | D30: TAXA | E30: TOTAL S/ BDI | F30: BDI | G30: TOTAL
A31: MÃO DE OBRA - (TOTAL A) | E31: =G16 -> 6.7122
A32: ENCARGOS SOCIAIS - (S/ TOTAL A) % | D32: 1.1615 | E32: =(E31*D32) -> 7.7962203
A33: TOTAL MÃO OBRA | E33: =SUM(E31:E32) -> 14.50842 | F33: =E33*D38 -> 3.0467683 | G33: =E33+F33 -> 17.555189
A34: MATERIAIS - (TOTAL B) | E34: =G24 -> 31.280228
A35: EQUIPAMENTOS - (TOTAL C) | E35: =G29 -> -
A36: TOTAL MATERIAIS E EQUIPAMENTOS | E36: =SUM(E34:E35) -> 31.280228 | F36: =E36*D38 -> 6.5688479 | G36: =E36+F36 -> 37.849076
A37: TOTAL (MÃO DE OBRA + MATERIAIS + EQUIPAMENTOS) | E37: =E36+E33 -> 45.788648
A38: BDI | D38: 0.21 | E38: =E37*D38 -> 9.6156162
A39: TOTAL DO SERVIÇO | G39: =ROUND(G36+G33,2) -> 55.4
A41: COMPOSIÇÃO DE REFERENCIA: 9841 SINAPI
A44: DESCRIÇÃO | B44: TIPO DE REFERÊNCIA | C44: PREÇO UNITÁRIO | D44: UNIDADE | E44: ÍNDICE FGV - EDIFICAÇÕES (Col.35) | G44: CORREÇÃO | H44: PREÇO UNITÁRIO CORRIGIDO
E45: AGOSTO/2015 | F45: MAIO/2021
A46: TUBO PVC, SERIE R, DN 100 MM, PARA ESGOTO OU AGUAS PLUVIAIS PREDIAL (NBR 5688) | B46: SINAPI | C46: 19.83 | D46: UNID | E46: 642.644 | F46: 907.899 | G46: =F46/E46 -> 1.4127557 | H46: =C46*G46 -> 28.014946

Sheet C2119
A5: PREFEITURA DA SERRA
A6: SECRETARIA DE OBRAS
A7: DEPARTAMENTO DE PROJETOS DE OBRAS PÚBLICAS
A8: COMPOSIÇÃO ANALÍTICA DE PREÇO UNITÁRIO
A9: DESCRIÇÃO DO SERVIÇO | C9: ITEM | D9: UNIDADE | F9: DATA BASE
A10: TUBO PVC, SERIE R, DN 150 MM, PARA ESGOTO OU AGUAS PLUVIAIS PREDIAL | C10: C2119 | D10: UNID | F10: MAIO/2021
A11: 1 - MÃO DE OBRA | B11: FONTE | C11: UNID | D11: COEFIC. | E11: PREÇOS | G11: TOTAL A
E12: UNITÁRIO | F12: TOTAL PARCIAL
A13: AUXILIAR DE ENCANADOR OU BOMBEIRO HIDRÁULICO COM ENCARGOS COMPLEMENTARES | B13: 88248 - SINAPI | C13: H | D13: 0.18 | E13: 16.31 | F13: =D13*E13 -> 2.9358
A14: ENCANADOR OU BOMBEIRO HIDRÁULICO COM ENCARGOS COMPLEMENTARES | B14: 88267 - SINAPI | C14: H | D14: 0.18 | E14: 20.98 | F14: =D14*E14 -> 3.7764
A16: TOTAL A | G16: =SUM(F13:F14) -> 6.7122
A17: 2 - MATERIAIS | B17: FONTE | C17: UNID | D17: COEFIC. | E17: PREÇOS | G17: TOTAL B
E18: UNITÁRIO | F18: TOTAL PARCIAL
A19: ADESIVO PLASTICO PARA PVC, FRASCO COM 850 GR | B19: 122 - SINAPI | C19: UNID | D19: =0.0062*2 -> 0.0124 | E19: 69.1 | F19: =D19*E19 -> 0.85684
A20: LIXA EM FOLHA PARA PAREDE OU MADEIRA, NUMERO 120 (COR VERMELHA) | B20: 3767 - SINAPI | C20: UNID | D20: =0.037*2 -> 0.074 | E20: 0.86 | F20: =D20*E20 -> 0.06364
A21: SOLUCAO LIMPADORA PARA PVC, FRASCO COM 1000 CM3 | B21: 20083 - SINAPI | C21: UNID | D21: =0.0102*2 -> 0.0204 | E21: 60.01 | F21: =D21*E21 -> 1.224204
A22: TUBO PVC, SERIE R, DN 150 MM, PARA ESGOTO OU AGUAS PLUVIAIS PREDIAL (NBR 5688) | B22: 9840 - SINAPI | C22: UNID | D22: 1.04 | E22: =H46 -> 58.262047 | F22: =D22*E22 -> 60.592529
A24: TOTAL B | G24: =SUM(F19:F22) -> 62.737213
A25: 3 - EQUIPAMENTOS | B25: FONTE | C25: UNID | D25: COEFIC. | E25: PREÇOS | F25: TOTAL PARCIAL | G25: TOTAL C
E26: UNITÁRIO
F27: -
A29: TOTAL C | G29: =F27 -> -
A30: 4 - RESUMO - DISCRIMINAÇÃO | D30: TAXA | E30: TOTAL S/ BDI | F30: BDI | G30: TOTAL
A31: MÃO DE OBRA - (TOTAL A) | E31: =G16 -> 6.7122
A32: ENCARGOS SOCIAIS - (S/ TOTAL A) % | D32: 1.1615 | E32: =(E31*D32) -> 7.7962203
A33: TOTAL MÃO OBRA | E33: =SUM(E31:E32) -> 14.50842 | F33: =E33*D38 -> 3.0467683 | G33: =E33+F33 -> 17.555189
A34: MATERIAIS - (TOTAL B) | E34: =G24 -> 62.737213
A35: EQUIPAMENTOS - (TOTAL C) | E35: =G29 -> -
A36: TOTAL MATERIAIS E EQUIPAMENTOS | E36: =SUM(E34:E35) -> 62.737213 | F36: =E36*D38 -> 13.174815 | G36: =E36+F36 -> 75.912027
A37: TOTAL (MÃO DE OBRA + MATERIAIS + EQUIPAMENTOS) | E37: =E36+E33 -> 77.245633
A38: BDI | D38: 0.21 | E38: =E37*D38 -> 16.221583
A39: TOTAL DO SERVIÇO | G39: =ROUND(G36+G33,2) -> 93.47
A41: COMPOSIÇÃO DE REFERENCIA: 9840 SINAPI
A44: DESCRIÇÃO | B44: TIPO DE REFERÊNCIA | C44: PREÇO UNITÁRIO | D44: UNIDADE | E44: ÍNDICE FGV - EDIFICAÇÕES (Col.35) | G44: CORREÇÃO | H44: PREÇO UNITÁRIO CORRIGIDO
E45: AGOSTO/2015 | F45: MAIO/2021
A46: TUBO PVC, SERIE R, DN 150 MM, PARA ESGOTO OU AGUAS PLUVIAIS PREDIAL (NBR 5688) | B46: SINAPI | C46: 41.24 | D46: UNID | E46: 642.644 | F46: 907.899 | G46: =F46/E46 -> 1.4127557 | H46: =C46*G46 -> 58.262047

Sheet C459
H4: PREFEITURA DA SERRA | P4: PREFEITURA DA SERRA
H5: SECRETARIA DE OBRAS | P5: SECRETARIA DE OBRAS
H6: DEPARTAMENTO DE PROJETOS DE OBRAS PÚBLICAS | P6: DEPARTAMENTO DE PROJETOS DE OBRAS PÚBLICAS
H7: COMPOSIÇÃO ANALÍTICA DE PREÇO UNITÁRIO | P7: COMPOSIÇÃO ANALÍTICA DE PREÇO UNITÁRIO
B8: ITEM | C8: UNIDADE | E8: DATA BASE | H8: DESCRIÇÃO DO SERVIÇO | J8: ITEM | K8: UNIDADE | M8: DATA BASE | P8: DESCRIÇÃO DO SERVIÇO | R8: ITEM | S8: UNIDADE | V8: DATA BASE
B9: C459 | C9: MÊS | E9: FEVEREIRO/2016 | H9: ALUGUEL/MANUTENÇÃO/DESMOBILIZAÇÃO BANHEIRO HIDRAULICO | J9: C459 | K9: MÊS | M9: ABRIL/2016 | P9: ALUGUEL/MANUTENÇÃO/DESMOBILIZAÇÃO BANHEIRO HIDRAULICO | R9: C459 | S9: MÊS | V9: MAIO/2021
A10: FONTE | B10: UNID | C10: COEFIC. | D10: PREÇOS | F10: TOTAL A | H10: 1 - MÃO DE OBRA | I10: FONTE | J10: UNID | K10: COEFIC. | L10: PREÇOS | N10: TOTAL A | P10: 1 - MÃO DE OBRA | Q10: FONTE | R10: UNID | S10: COEFIC. | T10: PREÇOS | W10: TOTAL A
D11: UNITÁRIO | E11: TOTAL PARCIAL | L11: UNITÁRIO | M11: TOTAL PARCIAL | T11: UNITÁRIO | V11: TOTAL PARCIAL
F14: =SUM(E12:E12) -> 0 | H14: TOTAL A | N14: =SUM(M12:M12) -> 0 | P14: TOTAL A | W14: =SUM(V12:V12) -> 0
A15: FONTE | B15: UNID | C15: COEFIC. | D15: PREÇOS | F15: TOTAL B | H15: 2 - MATERIAIS | I15: FONTE | J15: UNID | K15: COEFIC. | L15: PREÇOS | N15: TOTAL B | P15: 2 - MATERIAIS | Q15: FONTE | R15: UNID | S15: COEFIC. | T15: PREÇOS | W15: TOTAL B
D16: UNITÁRIO | E16: TOTAL PARCIAL | L16: UNITÁRIO | M16: TOTAL PARCIAL | T16: UNITÁRIO | V16: TOTAL PARCIAL
A17: MERCADO | B17: UNID | C17: 1 | D17: =A35 -> #REF! | E17: =C17*D17 -> #REF! | H17: =H9 -> ALUGUEL/MANUTENÇÃO/DESMOBILIZAÇÃO BANHEIRO HIDRAULICO | I17: MERCADO | J17: UNID | K17: 1 | L17: =I35 -> #REF! | M17: =K17*L17 -> #REF! | P17: =P9 -> ALUGUEL/MANUTENÇÃO/DESMOBILIZAÇÃO BANHEIRO HIDRAULICO | Q17: MERCADO | R17: UNID | S17: 1 | T17: =X37 -> 1149.8742 | V17: =S17*T17 -> 1149.8742
F19: =SUM(E17:E18) -> #REF! | H19: TOTAL B | N19: =SUM(M17:M18) -> #REF! | P19: TOTAL B | W19: =SUM(V17:V18) -> 1149.8742
A20: FONTE | B20: UNID | C20: COEFIC. | D20: PREÇOS | F20: TOTAL C | H20: 3 - EQUIPAMENTOS | I20: FONTE | J20: UNID | K20: COEFIC. | L20: PREÇOS | N20: TOTAL C | P20: 3 - EQUIPAMENTOS | Q20: FONTE | R20: UNID | S20: COEFIC. | T20: PREÇOS | W20: TOTAL C
D21: UNITÁRIO | E21: TOTAL PARCIAL | L21: UNITÁRIO | M21: TOTAL PARCIAL | T21: UNITÁRIO | V21: TOTAL PARCIAL
F23: =SUM(E22:E22) -> 0 | H23: TOTAL C | N23: =SUM(M22:M22) -> 0 | P23: TOTAL C | W23: =SUM(V22:V22) -> 0
C24: TAXA | D24: TOTAL S/ BDI | E24: BDI | F24: TOTAL | H24: 4 - RESUMO - DISCRIMINAÇÃO | K24: TAXA | L24: TOTAL S/ BDI | M24: BDI | N24: TOTAL | P24: 4 - RESUMO - DISCRIMINAÇÃO | S24: TAXA | T24: TOTAL S/ BDI | V24: BDI | W24: TOTAL
D25: =F14 -> 0 | H25: MÃO DE OBRA - (TOTAL A) | L25: =N14 -> 0 | P25: MÃO DE OBRA - (TOTAL A) | T25: =W14 -> 0
D26: =(D25*C26) -> 0 | H26: ENCARGOS SOCIAIS - (S/ TOTAL A) % | L26: =(L25*K26) -> 0 | P26: ENCARGOS SOCIAIS - (S/ TOTAL A) % | S26: 1.1615 | T26: =(T25*S26) -> 0
D27: =SUM(D25:D26) -> 0 | E27: =D27*C32 -> 0 | F27: =D27+E27 -> 0 | H27: TOTAL MÃO OBRA | L27: =SUM(L25:L26) -> 0 | M27: =L27*K32 -> 0 | N27: =L27+M27 -> 0 | P27: TOTAL MÃO OBRA | T27: =SUM(T25:T26) -> 0 | V27: =T27*S32 -> 0 | W27: =T27+V27 -> 0
D28: =F19 -> #REF! | H28: MATERIAIS - (TOTAL B) | L28: =N19 -> #REF! | P28: MATERIAIS - (TOTAL B) | T28: =W19 -> 1149.8742
D29: =F23 -> 0 | H29: EQUIPAMENTOS - (TOTAL C) | L29: =N23 -> 0 | P29: EQUIPAMENTOS - (TOTAL C) | T29: =W23 -> 0
D30: =SUM(D28:D29) -> #REF! | E30: =D30*C32 -> #REF! | F30: =D30+E30 -> #REF! | H30: TOTAL MATERIAIS E EQUIPAMENTOS | L30: =SUM(L28:L29) -> #REF! | M30: =L30*K32 -> #REF! | N30: =L30+M30 -> #REF! | P30: TOTAL MATERIAIS E EQUIPAMENTOS | T30: =SUM(T28:T29) -> 1149.8742 | V30: =T30*S32 -> 241.47359 | W30: =T30+V30 -> 1391.3478
D31: =D30+D27 -> #REF! | H31: TOTAL (MÃO DE OBRA + MATERIAIS + EQUIPAMENTOS) | L31: =L30+L27 -> #REF! | P31: TOTAL (MÃO DE OBRA + MATERIAIS + EQUIPAMENTOS) | T31: =T30+T27 -> 1149.8742
C32: 0.309 | D32: =D31*C32 -> #REF! | H32: BDI | K32: 0.2963 | L32: =L31*K32 -> #REF! | P32: BDI | S32: 0.21 | T32: =T31*S32 -> 241.47359
F33: =ROUND(F30+F27,2) -> #REF! | H33: TOTAL DO SERVIÇO | N33: =ROUND(N30+N27,2) -> #REF! | P33: TOTAL DO SERVIÇO | W33: =ROUND(W30+W27,2) -> 1391.35
A35: =ROUND(((#REF!+#REF!)),2) -> #REF! | H35: PREÇO MÉDIO | I35: =ROUND(((#REF!+#REF!)),2)/2 -> #REF! | P35: FORNECEDOR/EMPRESA | Q35: PREÇO UNITÁRIO | R35: UNIDADE | S35: ÍNDICE FGV - EDIFICAÇÕES (Col.35) | V35: CORREÇÃO | W35: PREÇO UNITÁRIO CORRIGIDO | X35: PREÇO MÉDIO
S36: NOV/19 | T36: OUTUBRO/19 | U36: MAIO/2021
H37: FIBRALOC (27)3338-5815 CONTATO : JOAO BATISTA | P37: VISAUTO | Q37: 1430 | R37: MÊS | S37: 775.225 | T37: 774.939 | U37: 907.899 | V37: =U37/S37 -> 1.1711426 | W37: =Q37/V37 -> 1221.0298 | X37: =AVERAGE(W37:W39) -> 1149.8742
P38: FIBRALOC | Q38: 1510 | R38: MÊS | S38: 775.225 | T38: 774.939 | U38: 907.899 | V38: =U38/S38 -> 1.1711426 | W38: =Q38/V38 -> 1289.3392
H39: VISAUTO LOCAÇÃO (27)3244-6673 CONTATO: EDUARDO | P39: FIBRAVIT | Q39: 1100 | R39: MÊS | S39: 775.225 | T39: 774.939 | U39: 907.899 | V39: =U39/S39 -> 1.1711426 | W39: =Q39/V39 -> 939.25371

Sheet C2126
A4: PREFEITURA DA SERRA
A5: SECRETARIA DE OBRAS
A6: DEPARTAMENTO DE PROJETOS DE OBRAS PÚBLICAS
A7: COMPOSIÇÃO ANALÍTICA DE PREÇO UNITÁRIO
A8: DESCRIÇÃO DO SERVIÇO | C8: ITEM | D8: UNIDADE | H8: DATA BASE
A9: REMOÇÃO DE GRAMA SINTÉTICA, INCLUSIVE CARGA, DESCARGA E TRANSPORTE | C9: C2126 | D9: m² | H9: MAIO/2021
A10: 1 - MÃO DE OBRA | B10: FONTE | C10: UNID | D10: COEFIC. | E10: VALOR SINAPI COM LEIS SOCIAIS MARÇO/2021 | F10: L.S MARÇO 2021 | G10: PREÇOS | I10: TOTAL A
G11: UNITÁRIO SEM L.S | H11: TOTAL PARCIAL
A12: SERVENTE COM ENCARGOS COMPLEMENTARES | B12: 88316 - SINAPI | C12: H | D12: 0.35 | E12: 16.5 | F12: 1.1615 | G12: =E12/F12 -> 14.205768 | H12: =G12*D12 -> 4.9720189
A14: TOTAL A | I14: =SUM(H12:H12) -> 4.9720189
A15: 2 - MATERIAIS | B15: FONTE | C15: UNID | D15: COEFIC. | G15: PREÇOS | I15: TOTAL B
G16: UNITÁRIO | H16: TOTAL PARCIAL
A18: TOTAL B | I18: =I14+I17 -> 4.9720189
A19: 3 - EQUIPAMENTOS | B19: FONTE | C19: UNID | D19: COEFIC. | G19: PREÇOS | I19: TOTAL C
G20: UNITÁRIO | H20: TOTAL PARCIAL
A21: CARGA, MANOBRAS E DESCARGA DE MATERIAIS DIVERSOS, COM CAMINHAO CARROCERIA 9T (CARGA E DESCARGA MANUAIS) | B21: 72850 - SINAPI | C21: t | D21: 0.002 | G21: =H40 -> 10.439042 | H21: =G21*D21 -> 0.020878083
A22: TRANSPORTE COM CAMINHÃO BASCULANTE DE 6 M3, EM VIA URBANA PAVIMENTADA, DMT ATÉ 30 KM (UNIDADE: TXKM). AF_01/2018 | B22: 97918 - SINAPI | C22: txkm | D22: 0.06 | G22: 1.31 | H22: =G22*D22 -> 0.0786
A23: TOTAL C | I23: =SUM(H21:H22) -> 0.099478083
A24: 4 - RESUMO - DISCRIMINAÇÃO | D24: TAXA | G24: TOTAL S/ BDI | H24: BDI
A25: MÃO DE OBRA - (TOTAL A) | G25: =ROUND(I14,2) -> 4.97
A26: ENCARGOS SOCIAIS - (S/ TOTAL A) % | D26: 1.1615 | G26: =(G25*D26) -> 5.772655
A27: TOTAL MÃO OBRA | G27: =SUM(G25:G26) -> 10.742655 | H27: =ROUND(G27*D32,2) -> 2.26 | I27: =ROUND(G27+H27,2) -> 13
A28: MATERIAIS - (TOTAL B) | G28: =ROUND(I18,2) -> 4.97
A29: EQUIPAMENTOS - (TOTAL C) | G29: =I23 -> 0.099478083
A30: TOTAL MATERIAIS E EQUIPAMENTOS | G30: =SUM(G28:G29) -> 5.0694781 | H30: =ROUND(G30*D32,2) -> 1.06 | I30: =ROUND(G30+H30,2) -> 6.13
A31: TOTAL (MÃO DE OBRA + MATERIAIS + EQUIPAMENTOS) | G31: =ROUND(G30+G27,2) -> 15.81
A32: BDI | D32: 0.21
A33: TOTAL DO SERVIÇO | I33: =SUM(I30+I27) -> 19.13
A35: COMPOSIÇÃO DE REFERENCIA: SCORIO PJ 05.20.0500
A38: DESCRIÇÃO | B38: PREÇO UNITÁRIO | C38: UNIDADE | D38: ÍNDICE FGV - EDIFICAÇÕES (Col.35) | F38: CORREÇÃO | H38: PREÇO UNITÁRIO CORRIGIDO
D39: AGOSTO/2020 | E39: MAIO/2021
A40: 72850 - SINAPI- CARGA, MANOBRAS E DESCARGA DE MATERIAIS DIVERSOS, COM CAMINHAO CARROCERIA 9T (CARGA E DESCARGA MANUAIS) | B40: 9.26 | C40: t | D40: 805.356 | E40: 907.899 | F40: =E40/D40 -> 1.1273263 | H40: =B40*F40 -> 10.439042

Sheet C1343
A4: PREFEITURA DA SERRA
A5: SECRETARIA DE OBRAS
A6: DEPARTAMENTO DE PROJETOS DE OBRAS PÚBLICAS
A7: COMPOSIÇÃO ANALÍTICA DE PREÇO UNITÁRIO
A8: DESCRIÇÃO DO SERVIÇO | C8: ITEM | D8: UNIDADE | F8: DATA BASE
A9: GRAMA SINTÉTICA, COM FIOS DE 50MM DE ALTURA, AREIA ESPECIAL, GRANULOS DE BORRACHA. FORNECIMENTO E INSTALAÇÃO | C9: C1343 | D9: M2 | F9: MAIO/2021
A10: 1 - MÃO DE OBRA | B10: FONTE | C10: UNID | D10: COEFIC. | E10: PREÇOS | G10: TOTAL A
E11: UNITÁRIO | F11: TOTAL PARCIAL
A12: SERVENTE COM ENCARGOS COMPLEMENTARES | B12: 88316 - SINAPI | C12: H | D12: 0.1564 | E12: =16.5/1.1615 -> 14.205768 | F12: =ROUND(E12*D12,2) -> 2.22
A13: JARDINEIRO COM ENCARGOS COMPLEMENTARES | B13: 88441 - SINAPI | C13: H | D13: 0.0391 | E13: =22.58/1.1615 -> 19.440379 | F13: =ROUND(E13*D13,2) -> 0.76
A16: TOTAL A | G16: =SUM(F12:F13) -> 2.98
A17: 2 - MATERIAIS | B17: FONTE | C17: UNID | D17: COEFIC. | E17: PREÇOS | G17: TOTAL B
E18: UNITÁRIO | F18: TOTAL PARCIAL
A19: GRAMA SINTÉTICA, COM FIOS DE 50MM DE ALTURA, AREIA ESPECIAL, GRANULOS DE BORRACHA. FORNECIMENTO E INSTALAÇÃO | B19: SCO-RJ MAT064820 | C19: M2 | D19: 1 | E19: =G40 -> 120.8309 | F19: =ROUND(E19*D19,2) -> 120.83
A21: TOTAL B | G21: =ROUND(F19,2) -> 120.83
A22: 3 - EQUIPAMENTOS | B22: FONTE | C22: UNID | D22: COEFIC. | E22: PREÇOS | G22: TOTAL C
E23: UNITÁRIO | F23: TOTAL PARCIAL
A26: TOTAL C
A27: 4 - RESUMO - DISCRIMINAÇÃO | D27: TAXA | E27: TOTAL S/ BDI | F27: BDI
A28: MÃO DE OBRA - (TOTAL A) | E28: =ROUND(G16,2) -> 2.98
A29: ENCARGOS SOCIAIS - (S/ TOTAL A) % | D29: 1.1615 | E29: =(E28*D29) -> 3.46127
A30: TOTAL MÃO OBRA | E30: =SUM(E28:E29) -> 6.44127 | F30: =ROUND(E30*D35,2) -> 1.35 | G30: =ROUND(E30+F30,2) -> 7.79
A31: MATERIAIS - (TOTAL B) | E31: =ROUND(G21,2) -> 120.83
A32: EQUIPAMENTOS - (TOTAL C) | E32: =G26 -> 0
A33: TOTAL MATERIAIS E EQUIPAMENTOS | E33: =SUM(E31:E32) -> 120.83 | F33: =ROUND(E33*D35,2) -> 25.37 | G33: =ROUND(E33+F33,2) -> 146.2
A34: TOTAL (MÃO DE OBRA + MATERIAIS + EQUIPAMENTOS) | E34: =ROUND(E33+E30,2) -> 127.27
A35: BDI | D35: 0.21
A36: TOTAL DO SERVIÇO | G36: =G30+G33 -> 153.99
A38: DESCRIÇÃO | B38: PREÇO UNITÁRIO | C38: UNIDADE | D38: ÍNDICE FGV - EDIFICAÇÕES (Col.35) | F38: CORREÇÃO | G38: PREÇO UNITÁRIO CORRIGIDO
D39: OUTUBRO/2018 | E39: MAIO/2021
A40: SCO-RJ MAT064820- GRAMA SINTÉTICA, COM FIOS DE 50MM DE ALTURA, AREIA ESPECIAL, GRANULOS DE BORRACHA. FORNECIMENTO E INSTALAÇÃO | B40: 99 | C40: M2 | D40: 743.866 | E40: 907.899 | F40: =E40/D40 -> 1.2205142 | G40: =F40*B40 -> 120.8309 | H40: rever acesso ao SICRO-RJ

Sheet C2325
A4: PREFEITURA DA SERRA | I4: PREFEITURA DA SERRA | Q4: PREFEITURA DA SERRA | Y4: PREFEITURA DA SERRA
A5: SECRETARIA DE OBRAS | I5: SECRETARIA DE OBRAS | Q5: SECRETARIA DE OBRAS | Y5: SECRETARIA DE OBRAS
A6: DEPARTAMENTO DE PROJETOS DE OBRAS PÚBLICAS | I6: DEPARTAMENTO DE PROJETOS DE OBRAS PÚBLICAS | Q6: DEPARTAMENTO DE PROJETOS DE OBRAS PÚBLICAS | Y6: DEPARTAMENTO DE PROJETOS DE OBRAS PÚBLICAS
A7: COMPOSIÇÃO ANALÍTICA DE PREÇO UNITÁRIO | I7: COMPOSIÇÃO ANALÍTICA DE PREÇO UNITÁRIO | Q7: COMPOSIÇÃO ANALÍTICA DE PREÇO UNITÁRIO | Y7: COMPOSIÇÃO ANALÍTICA DE PREÇO UNITÁRIO
A8: DESCRIÇÃO DO SERVIÇO | C8: ITEM | D8: UNIDADE | F8: DATA BASE | I8: DESCRIÇÃO DO SERVIÇO | K8: ITEM | L8: UNIDADE | N8: DATA BASE | Q8: DESCRIÇÃO DO SERVIÇO | S8: ITEM | T8: UNIDADE | V8: DATA BASE | Y8: DESCRIÇÃO DO SERVIÇO | AA8: ITEM | AB8: UNIDADE | AD8: DATA BASE | AH8: tirar dúvida com Cláudio
A9: ALUGUEL/MANUTENÇÃO/DESMOBILIZAÇÃO BANHEIRO HIDRAULICO | C9: C459 | D9: MÊS | F9: NOVEMBRO/2015 | I9: ALUGUEL/MANUTENÇÃO/DESMOBILIZAÇÃO BANHEIRO HIDRAULICO | K9: C459 | L9: MÊS | N9: FEVEREIRO/2016 | Q9: ALUGUEL/MANUTENÇÃO/DESMOBILIZAÇÃO BANHEIRO HIDRAULICO | S9: C459 | T9: MÊS | V9: ABRIL/2016 | Y9: CAMADA DRENANTE COM AREIA FINA | AA9: C2325 | AB9: m3 | AD9: MARÇO/2021
A10: 1 - MÃO DE OBRA | B10: FONTE | C10: UNID | D10: COEFIC. | E10: PREÇOS | G10: TOTAL A | I10: 1 - MÃO DE OBRA | J10: FONTE | K10: UNID | L10: COEFIC. | M10: PREÇOS | O10: TOTAL A | Q10: 1 - MÃO DE OBRA | R10: FONTE | S10: UNID | T10: COEFIC. | U10: PREÇOS | W10: TOTAL A | Y10: 1 - MÃO DE OBRA | Z10: FONTE | AA10: UNID | AB10: COEFIC. | AC10: PREÇOS | AE10: TOTAL A
E11: UNITÁRIO | F11: TOTAL PARCIAL | M11: UNITÁRIO | N11: TOTAL PARCIAL | U11: UNITÁRIO | V11: TOTAL PARCIAL | AC11: UNITÁRIO | AD11: TOTAL PARCIAL
Y12: SERVENTE COM ENCARGOS COMPLEMENTARES | Z12: SINAPI-88316 | AA12: H | AB12: 1.3 | AC12: =16.5/1.1615 -> 14.205768 | AD12: =AC12*AB12 -> 18.467499
A14: TOTAL A | G14: =SUM(F12:F12) -> 0 | I14: TOTAL A | O14: =SUM(N12:N12) -> 0 | Q14: TOTAL A | W14: =SUM(V12:V12) -> 0 | Y14: TOTAL A | AE14: =SUM(AD12:AD12) -> 18.467499
A15: 2 - MATERIAIS | B15: FONTE | C15: UNID | D15: COEFIC. | E15: PREÇOS | G15: TOTAL B | I15: 2 - MATERIAIS | J15: FONTE | K15: UNID | L15: COEFIC. | M15: PREÇOS | O15: TOTAL B | Q15: 2 - MATERIAIS | R15: FONTE | S15: UNID | T15: COEFIC. | U15: PREÇOS | W15: TOTAL B | Y15: 2 - MATERIAIS | Z15: FONTE | AA15: UNID | AB15: COEFIC. | AC15: PREÇOS | AE15: TOTAL B
E16: UNITÁRIO | F16: TOTAL PARCIAL | M16: UNITÁRIO | N16: TOTAL PARCIAL | U16: UNITÁRIO | V16: TOTAL PARCIAL | AC16: UNITÁRIO | AD16: TOTAL PARCIAL
A17: =A9 -> ALUGUEL/MANUTENÇÃO/DESMOBILIZAÇÃO BANHEIRO HIDRAULICO | B17: MERCADO | C17: UNID | D17: 1 | E17: =#REF! -> #REF! | F17: =D17*E17 -> #REF! | I17: =I9 -> ALUGUEL/MANUTENÇÃO/DESMOBILIZAÇÃO BANHEIRO HIDRAULICO | J17: MERCADO | K17: UNID | L17: 1 | M17: =#REF! -> #REF! | N17: =L17*M17 -> #REF! | Q17: =Q9 -> ALUGUEL/MANUTENÇÃO/DESMOBILIZAÇÃO BANHEIRO HIDRAULICO | R17: MERCADO | S17: UNID | T17: 1 | U17: =#REF! -> #REF! | V17: =T17*U17 -> #REF! | Y17: AREIA FINA - POSTO JAZIDA/FORNECEDOR (RETIRADO NA JAZIDA, SEM TRANSPORTE) | Z17: SINAPI-366 | AA17: M3 | AB17: 1.1 | AC17: 51.67 | AD17: =AC17*AB17 -> 56.837
A19: TOTAL B | G19: =SUM(F17:F18) -> #REF! | I19: TOTAL B | O19: =SUM(N17:N18) -> #REF! | Q19: TOTAL B | W19: =SUM(V17:V18) -> #REF! | Y19: TOTAL B | AE19: =SUM(AD17:AD18) -> 56.837
A20: 3 - EQUIPAMENTOS | B20: FONTE | C20: UNID | D20: COEFIC. | E20: PREÇOS | G20: TOTAL C | I20: 3 - EQUIPAMENTOS | J20: FONTE | K20: UNID | L20: COEFIC. | M20: PREÇOS | O20: TOTAL C | Q20: 3 - EQUIPAMENTOS | R20: FONTE | S20: UNID | T20: COEFIC. | U20: PREÇOS | W20: TOTAL C | Y20: 3 - EQUIPAMENTOS | Z20: FONTE | AA20: UNID | AB20: COEFIC. | AC20: PREÇOS | AE20: TOTAL C
E21: UNITÁRIO | F21: TOTAL PARCIAL | M21: UNITÁRIO | N21: TOTAL PARCIAL | U21: UNITÁRIO | V21: TOTAL PARCIAL | AC21: UNITÁRIO | AD21: TOTAL PARCIAL
A24: TOTAL C | G24: =SUM(F22:F23) -> 0 | I24: TOTAL C | O24: =SUM(N22:N23) -> 0 | Q24: TOTAL C | W24: =SUM(V22:V23) -> 0 | Y24: TOTAL C | AE24: =SUM(AD22:AD23) -> 0
A25: 4 - RESUMO - DISCRIMINAÇÃO | D25: TAXA | E25: TOTAL S/ BDI | F25: BDI | G25: TOTAL | I25: 4 - RESUMO - DISCRIMINAÇÃO | L25: TAXA | M25: TOTAL S/ BDI | N25: BDI | O25: TOTAL | Q25: 4 - RESUMO - DISCRIMINAÇÃO | T25: TAXA | U25: TOTAL S/ BDI | V25: BDI | W25: TOTAL | Y25: 4 - RESUMO - DISCRIMINAÇÃO | AB25: TAXA | AC25: TOTAL S/ BDI | AD25: BDI | AE25: TOTAL
A26: MÃO DE OBRA - (TOTAL A) | E26: =G14 -> 0 | I26: MÃO DE OBRA - (TOTAL A) | M26: =O14 -> 0 | Q26: MÃO DE OBRA - (TOTAL A) | U26: =W14 -> 0 | Y26: MÃO DE OBRA - (TOTAL A) | AC26: =AE14 -> 18.467499
A27: ENCARGOS SOCIAIS - (S/ TOTAL A) % | E27: =(E26*D27) -> 0 | I27: ENCARGOS SOCIAIS - (S/ TOTAL A) % | M27: =(M26*L27) -> 0 | Q27: ENCARGOS SOCIAIS - (S/ TOTAL A) % | U27: =(U26*T27) -> 0 | Y27: ENCARGOS SOCIAIS - (S/ TOTAL A) % | AB27: 1.1615 | AC27: =(AC26*AB27) -> 21.45
A28: TOTAL MÃO OBRA | E28: =SUM(E26:E27) -> 0 | F28: =E28*D33 -> 0 | G28: =E28+F28 -> 0 | I28: TOTAL MÃO OBRA | M28: =SUM(M26:M27) -> 0 | N28: =M28*L33 -> 0 | O28: =M28+N28 -> 0 | Q28: TOTAL MÃO OBRA | U28: =SUM(U26:U27) -> 0 | V28: =U28*T33 -> 0 | W28: =U28+V28 -> 0 | Y28: TOTAL MÃO OBRA | AC28: =SUM(AC26:AC27) -> 39.917499 | AD28: =AC28*AB33 -> 8.3826748 | AE28: =AC28+AD28 -> 48.300174
A29: MATERIAIS - (TOTAL B) | E29: =G19 -> #REF! | I29: MATERIAIS - (TOTAL B) | M29: =O19 -> #REF! | Q29: MATERIAIS - (TOTAL B) | U29: =W19 -> #REF! | Y29: MATERIAIS - (TOTAL B) | AC29: =AE19 -> 56.837
A30: EQUIPAMENTOS - (TOTAL C) | E30: =G24 -> 0 | I30: EQUIPAMENTOS - (TOTAL C) | M30: =O24 -> 0 | Q30: EQUIPAMENTOS - (TOTAL C) | U30: =W24 -> 0 | Y30: EQUIPAMENTOS - (TOTAL C) | AC30: =AE24 -> 0
A31: TOTAL MATERIAIS E EQUIPAMENTOS | E31: =SUM(E29:E30) -> #REF! | F31: =E31*D33 -> #REF! | G31: =E31+F31 -> #REF! | I31: TOTAL MATERIAIS E EQUIPAMENTOS | M31: =SUM(M29:M30) -> #REF! | N31: =M31*L33 -> #REF! | O31: =M31+N31 -> #REF! | Q31: TOTAL MATERIAIS E EQUIPAMENTOS | U31: =SUM(U29:U30) -> #REF! | V31: =U31*T33 -> #REF! | W31: =U31+V31 -> #REF! | Y31: TOTAL MATERIAIS E EQUIPAMENTOS | AC31: =SUM(AC29:AC30) -> 56.837 | AD31: =AC31*AB33 -> 11.93577 | AE31: =AC31+AD31 -> 68.77277
A32: TOTAL (MÃO DE OBRA + MATERIAIS + EQUIPAMENTOS) | E32: =E31+E28 -> #REF! | I32: TOTAL (MÃO DE OBRA + MATERIAIS + EQUIPAMENTOS) | M32: =M31+M28 -> #REF! | Q32: TOTAL (MÃO DE OBRA + MATERIAIS + EQUIPAMENTOS) | U32: =U31+U28 -> #REF! | Y32: TOTAL (MÃO DE OBRA + MATERIAIS + EQUIPAMENTOS) | AC32: =AC31+AC28 -> 96.754499
A33: BDI | D33: 0.2764 | E33: =E32*D33 -> #REF! | I33: BDI | L33: 0.309 | M33: =M32*L33 -> #REF! | Q33: BDI | T33: 0.2963 | U33: =U32*T33 -> #REF! | Y33: BDI | AB33: 0.21 | AC33: =AC32*AB33 -> 20.318445
A34: TOTAL DO SERVIÇO | G34: =ROUND(G31+G28,2) -> #REF! | I34: TOTAL DO SERVIÇO | O34: =ROUND(O31+O28,2) -> #REF! | Q34: TOTAL DO SERVIÇO | W34: =ROUND(W31+W28,2) -> #REF! | Y34: TOTAL DO SERVIÇO | AE34: =ROUND(AE31+AE28,2) -> 117.07
A36: VISAUTO LOCAÇÃO (27)3244-6673 CONTATO: EDUARDO | Q36: VISAUTO LOCAÇÃO (27)3244-6673 CONTATO: EDUARDO | Y36: COMPOSIÇÃO REFERÊNCIA: 12764 ORSE

Sheet C2127
A4: PREFEITURA DA SERRA
A5: SECRETARIA DE OBRAS
A6: DEPARTAMENTO DE PROJETOS DE OBRAS PÚBLICAS
A7: COMPOSIÇÃO ANALÍTICA DE PREÇO UNITÁRIO
A8: DESCRIÇÃO DO SERVIÇO | D8: ITEM | E8: UNIDADE | G8: DATA BASE
A9: TRAVE PARA FUTEBOL SOCIETY EM TUBO DE AÇO GALVANIZADO 4" (100MM), MEDINDO 500X220CM, COM ACABAMENTO EM PINTURA ESMALTE NA COR BRANCA, SOBRE FUNDO ANTI-CORROSIVO, INCLUINDO FUNDAÇÃO + REDE EM FIO 4MM 100% NYLON COM PROTEÇÃO UV - PAR | D9: C2127 | E9: UNID | G9: MAIO/2021
A10: 1 - MÃO DE OBRA | C10: FONTE | D10: UNID | E10: COEFIC. | F10: PREÇOS | H10: TOTAL A
F11: UNITÁRIO | G11: TOTAL PARCIAL
A12: AJUDANTE ESPECIALIZADO COM ENCARGOS COMPLEMENTARES | C12: 88243 - SINAPI | D12: H | E12: 2 | F12: =19.71/1.1615 -> 16.969436 | G12: =ROUND(F12*E12,2) -> 33.94
A13: PINTOR COM ENCARGOS COMPLEMENTARES | C13: 88310 - SINAPI | D13: H | E13: 2 | F13: =24.36/1.1615 -> 20.97288 | G13: =ROUND(F13*E13,2) -> 41.95
A14: TOTAL A | H14: =ROUND(G12+G13,2) -> 75.89
A15: 2 - MATERIAIS | C15: FONTE | D15: UNID | E15: COEFIC. | F15: PREÇOS | H15: TOTAL B
F16: UNITÁRIO | G16: TOTAL PARCIAL
A17: TRAVE PARA FUTEBOL SOCIETY EM TUBO DE AÇO GALVANIZADO 4" (100MM), MEDINDO 500X220CM, COM ACABAMENTO EM PINTURA ESMALTE NA COR BRANCA, SOBRE FUNDO ANTI-CORROSIVO, INCLUINDO FUNDAÇÃO + REDE EM FIO 4MM 100% NYLON COM PROTEÇÃO UV | C17: MERCADO | E17: PAR | F17: =I40 -> 3772.2707 | G17: =F17 -> 3772.2707
A19: TOTAL B | H19: =G17 -> 3772.2707
A20: 3 - SERVIÇOS | C20: FONTE | D20: UNID | E20: COEFIC. | F20: PREÇOS | H20: TOTAL C
F21: UNITÁRIO | G21: TOTAL PARCIAL
A22: FORNECIMENTO, PREPARO E APLICAÇÃO DE CONCRETO FCK=15 MPA (BRITA 1 E 2) - (5% DE PERDAS JÁ INCLUÍDO NO CUSTO) | C22: 040233 - IOPES | D22: M3 | E22: 0.064 | F22: 501.74 | G22: =F22*E22 -> 32.11136
A23: ESCAVACAO MANUAL CAMPO ABERTO EM SOLO EXCETO ROCHA ATE 2,00M PROFUNDID | C23: 79480 - SINAPI | D23: M3 | E23: 0.2513 | F23: =I50 -> 2.356112 | G23: =ROUND(E23*F23,2) -> 0.59
A24: REATERRO MANUAL APILOADO COM SOQUETE. AF_10/2017 | C24: 96995 - SINAPI | D24: M3 | E24: 0.1502 | F24: 39.57 | G24: =ROUND(E24*F24,2) -> 5.94
A25: ÍNDICE DE PREÇO PARA REMOÇÃO DE ENTULHO DECORRENTE DA EXECUÇÃO DE OBRAS (CLASSE A CONAMA - NBR 10.004 - CLASSE II-B), INCLUINDO ALUGUEL DA CAÇAMBA, CARGA, TRANSPORTE E DESCARGA EM ÁREA LICENCIADA | C25: 030304 - IOPES | D25: M3 | E25: 0.0628 | F25: =51.77 -> 51.77 | G25: =F25*E25 -> 3.251156
A27: TOTAL C | H27: =SUM(G22:G25) -> 41.892516
A28: 4 - RESUMO - DISCRIMINAÇÃO | E28: TAXA | F28: TOTAL S/ BDI | G28: BDI
A29: MÃO DE OBRA - (TOTAL A) | F29: =ROUND(H14,2) -> 75.89
A30: ENCARGOS SOCIAIS - (S/ TOTAL A) % | E30: 1.5727 | F30: =(F29*E30) -> 119.3522
A31: TOTAL MÃO OBRA | F31: =SUM(F29:F30) -> 195.2422 | G31: =ROUND(F31*E36,2) -> 41 | H31: =ROUND(F31+G31,2) -> 236.24
A32: MATERIAIS - (TOTAL B) | F32: =ROUND(H19,2) -> 3772.27
A33: SERVIÇOS - (TOTAL C) | F33: =H27 -> 41.892516
A34: TOTAL MATERIAIS E EQUIPAMENTOS | F34: =SUM(F32:F33) -> 3814.1625 | G34: =ROUND(F34*E36,2) -> 800.97 | H34: =ROUND(F34+G34,2) -> 4615.13
A35: TOTAL (MÃO DE OBRA + MATERIAIS + EQUIPAMENTOS) | F35: =ROUND(F34+F31,2) -> 4009.4
A36: BDI | E36: 0.21
A37: TOTAL DO SERVIÇO | H37: =SUM(H34+H31) -> 4851.37
A39: COTAÇÃO DE MERCADO | B39: PREÇO UNITÁRIO (MARÇO/2019) | C39: MÉDIA PREÇOS | D39: PREÇO 2 TRAVES COM REDES | G39: ÍNDICE COL 35 (NOV/2019) | H39: ÍNDICE COL 35 (MAIO/2021) | I39: MÉDIA PREÇO 2 TRAVES COM REDES
A40: TRAVE COM REDE - JV | B40: 1878.53 | C40: =B40 -> 1878.53 | D40: =C40*2 -> 3757.06 | G40: 775.225 | H40: 907.899 | I40: =D44*(H40/G40) -> 3772.2707
A41: TRAVE SEM REDE - MERCADÃO ESPORTES | B41: =2369.52/2 -> 1184.76 | C41: =B41 -> 1184.76 | D41: =(B41*2)+C42 -> 2684.975
A42: REDE 5M FIO 4MM - GISMAR REDES | B42: 289 | C42: =AVERAGE(B42:B43) -> 315.455
A43: REDE 5M FIO 4MM - AMERICANAS | B43: 341.91
A44: PREÇO MÉDIO | D44: =AVERAGE(D40:D41) -> 3221.0175
A46: COMPOSIÇÃO DE REFERÊNCIA: COMP-02 (ITEM 7.1) - Orçamento padrão Campo Bom de Bola Sesport - Governo do Estado
A47: PREÇO CORRIGIDO PELO ÍNDICE DA Coluna 35 – Edificação FGV
...

Sheet PL ANALÍTICA REC. PRÓPRIO
D1: PREFEITURA MUNICIPAL DA SERRA | E1: OBRA: REFORMA DO CAMPO SOCIETY EM JARDIM CARAPINA
D2: DEPARTAMENTO DE PROJETOS DE OBRAS PÚBLICAS | E2: BDI: | F2: 0.21 | G2: SECRETARIA DE OBRAS
E3: LS: | F3: 1.1615
D4: PLANILHA ORÇAMENTÁRIA | E4: DATA BASE: MAIO 2021
A5: ITEM | B5: ÓRGÃO | C5: CÓDIGO | D5: DESCRIÇÃO SERVIÇO | E5: UNID | F5: QUANT. | G5: PREÇOS R$
G6: UNIT. C/ BDI | H6: TOTAL
A7: 3 | D7: GRAMADO | H7: =SUM(H8:H15) -> #REF!
A8: 3.1 | B8: SINAPI | C8: 83729 | D8: Fornecimento/instalacao de manta bidim rt-31 | E8: m² | F8: 1421 | G8: =14.4*(907.899/529.029)*(1+F2) -> 29.902391 | H8: =TRUNC(F8*G8,2) -> 42491.29
A9: 3.2 | B9: SINAPI | C9: 72961 | D9: Regularizacao e compactacao de subleito ate 20 cm de espessura | E9: m² | F9: 1421 | G9: =1.14*(907.899/529.029)*(1+F2) -> 2.3672726 | H9: =TRUNC(F9*G9,2) -> 3363.89
A10: 3.3 | B10: DER-ES | C10: 200306 | D10: Fornecimento e espalhamento de brita 1 ou 2 | E10: m³ | F10: 71.05 | G10: =145.03*(1+F2) -> 175.4863 | H10: =TRUNC(F10*G10,2) -> 12468.3
A11: 3.4 | B11: PMS | C11: C2325 | D11: CAMADA DRENANTE COM AREIA FINA | E11: m³ | F11: 71.05 | G11: ='C2325'!AE34 -> 117.07 | H11: =TRUNC(F11*G11,2) -> 8317.82
A12: 3.5 | B12: PMS | C12: C2119 - T100 | D12: Tubo corrugado dreno Ø100 mm 6 m para água pluvial | E12: unid | F12: 33 | G12: ='C2119 - T100'!G39 -> 55.4 | H12: =TRUNC(F12*G12,2) -> 1828.2
A13: 3.6 | B13: PMS | C13: C2119 | D13: Tubo corrugado dreno Ø150 mm 6 m para água pluvial | E13: unid | F13: 9 | G13: ='C2119'!G39 -> 93.47 | H13: =TRUNC(F13*G13,2) -> 841.23
A14: 3.7 | B14: SINAPI | C14: 73817/001 | D14: Embasamento de material granular - Pó de pedra | E14: m³ | F14: 28.42 | G14: =56.27*(907.899/529.029)*(1+F2) -> 116.84775 | H14: =TRUNC(F14*G14,2) -> 3320.81
A15: 3.8 | B15: PMS | C15: C1343 | D15: GRAMA SINTÉTICA, COM FIOS DE 50MM DE ALTURA, AREIA ESPECIAL, GRANULOS DE BORRACHA. FORNECIMENTO E INSTALAÇÃO | E15: m² | F15: =#REF! -> #REF! | G15: ='C1343'!G36 -> 153.99 | H15: =TRUNC(F15*G15,2) -> #REF!
A16: 4 | D16: ÁREA TÉCNICA - PISO | H16: =SUM(H17:H18) -> #REF!
A17: 4.1 | B17: SINAPI | C17: 72961 | D17: Regularizacao e compactacao de subleito ate 20 cm de espessura | E17: m² | F17: =#REF! -> #REF! | G17: =1.14*(907.899/529.029)*(1+F2) -> 2.3672726 | H17: =TRUNC(F17*G17,2) -> #REF!
A18: 4.2 | B18: DER-ES | C18: 130112 | D18: Lastro de concreto não estrutural, espessura de 6 cm | E18: m² | F18: =#REF! -> #REF! | G18: =39.4*(1+F2) -> 47.674 | H18: =G18*F18 -> #REF!
A19: TOTAL | H19: =H7+H16 -> #REF!
D24: Carlos Henrique Gabriel Magnago
D25: CREA ES 46204/D

Sheet PL ANALÍTICA CEF
D1: PREFEITURA MUNICIPAL DA SERRA | E1: OBRA: REFORMA DO CAMPO SOCIETY EM JARDIM CARAPINA
D2: DEPARTAMENTO DE PROJETOS DE OBRAS PÚBLICAS | E2: BDI: | F2: 0.21 | G2: SECRETARIA DE OBRAS
E3: LS: | F3: 1.1615
D4: PLANILHA ORÇAMENTÁRIA | E4: DATA BASE: MAIO 2021
A5: ITEM | B5: ÓRGÃO | C5: CÓDIGO | D5: DESCRIÇÃO SERVIÇO | E5: UNID | F5: QUANT. | G5: PREÇOS R$
G6: UNIT. C/ BDI | H6: TOTAL
A7: 1 | D7: INSTALAÇÃO DO CANTEIRO DE OBRAS | H7: =SUM(H8:H11) -> #REF!
A8: 1.1 | B8: PMS | C8: C459 | D8: ALUGUEL/MANUTENÇÃO/DESMOBILIZAÇÃO BANHEIRO HIDRÁULICO | E8: mês | F8: =#REF! -> #REF! | G8: ='C459'!W33 -> 1391.35 | H8: =F8*G8 -> #REF!
A9: 1.2 | B9: DER-ES | C9: 020305 | D9: Placa de obra nas dimensões de 2.0 x 4.0 m, padrão IOPES | E9: m² | F9: =#REF! -> #REF! | G9: 346.5803 | H9: =F9*G9 -> #REF!
A10: 1.3 | B10: DER-ES | C10: 020356 | D10: Aluguel mensal container para almoxarifado, incl. porta, 2 janelas, 1 pt iluminação, Isolamento térmico (teto), piso em comp. Naval pintado, cert. NR18, incl. laudo descontaminação. | E10: mês | F10: =#REF! -> #REF! | G10: =529*(1+F2) -> 640.09 | H10: =F10*G10 -> #REF!
A11: 1.4 | B11: DER-ES | C11: 020344 | D11: Mobilização e desmobilização de conteiner locado para barracão de obra | E11: und | F11: =#REF! -> #REF! | G11: 1253.1607 | H11: =F11*G11 -> #REF!
A12: 2 | D12: SERVIÇOS PRELIMINARES | H12: =SUM(H13:H16) -> #REF!
A13: 2.1 | B13: PMS | C13: C2126 | D13: Retirada de grama sintética, inclusive carga, descarga e transporte a 30km | E13: m² | F13: =#REF! -> #REF! | G13: ='C2126'!I33 -> 19.13 | H13: =F13*G13 -> #REF!
A14: 2.2 | B14: DER-ES | C14: 030101 | D14: Escavação manual em material de 1a. categoria, até 1.50 m de profundidade | E14: m³ | F14: =#REF! -> #REF! | G14: =45.66*(1+F2) -> 55.2486 | H14: =G14*F14 -> #REF!
A15: 2.3 | B15: DER-ES | C15: 010210 | D15: Demolição manual de concreto simples (EMOP 05.001.001) | E15: m³ | F15: =#REF! -> #REF! | G15: =224.8*(1+F2) -> 272.008 | H15: =G15*F15 -> #REF!
A16: 2.4 | B16: DER-ES | C16: 030304 | D16: Índice de preço para remoção de entulho decorrente da execução de obras (Classe A CONAMA - NBR 10.004 - Classe II-B), incluindo aluguel da caçamba, carga, transporte e descarga em área licenciada | E16: m³ | F16: =#REF! -> #REF! | G16: =52.35*(1+F2) -> 63.3435 | H16: =G16*F16 -> #REF!
A17: 3 | D17: FECHAMENTO | H17: =SUM(H18:H19) -> #REF!
A18: 3.1 | B18: PMS | C18: C2375 | D18: Fornecimento, Recuperação e Instalação de tubulações galvanizadas de fechamento de campo esportivo e portão com dimensões h=2,60m, seção de 250x250cm) | E18: m² | F18: 1249.6 | G18: =#REF! -> #REF! | H18: =G18*F18 -> #REF!
A19: 3.2 | B19: DER-ES | C19: 020339 | D19: Locação de andaime metálico para trabalho em fachada de edifíco (aluguel de 1 m² por 1 mês) inclusive frete, montagem e desmontagem | E19: m² | F19: 1249.6 | G19: =12.61*(1+F2) -> 15.2581 | H19: =G19*F19 -> 19066.522
A20: 4 | D20: LIMPEZA GERAL DA OBRA | H20: =SUM(H21) -> #REF!
A21: 4.1 | B21: DER-ES | C21: 200402 | D21: Limpeza geral de obras (quadras, praças e jardins) | E21: m² | F21: =#REF! -> #REF! | G21: =0.98*(1+F2) -> 1.1858 | H21: =F21*G21 -> #REF!
A22: 5 | D22: ADMINISTRAÇÃO LOCAL | H22: =H23 -> #REF!
A23: 5.1 | B23: PMS | C23: C1482 | D23: =#REF! -> #REF! | E23: und | F23: =#REF! -> #REF! | G23: =#REF! -> #REF! | H23: =F23*G23 -> #REF! | I23: Recursos próprios + CEF
A24: TOTAL | H24: =H22+H20+H17+H12+H7 -> #REF! | I24: =H24+'PL ANALÍTICA REC. PRÓPRIO'!H19 -> #REF!
H31: =G23/H24 -> #REF!

Sheet Resumo da Proposta
A4: Vila Velha, 30 de março de 2022
A6: PREFEITURA MUNICIPAL DA SERRA
A7: SECRETARIA DE OBRAS - SEOB | D7: BDI = 31,96%
A8: COMISSÃO PERMANENTE DE LICITAÇÃO DE OBRAS E SERVIÇOS DE ENGENHARIA - CPL | D8: Data Base: Outubro 2021
A9: REFERÊNCIA: CONCORRÊNCIA PÚBLICA Nº 008/2022
A10: PROCESSO ADMINISTRATIVO: Nº 3412/2022
A11: OBJETO: EXECUÇÃO DE ÁREA ESPORTIVA NO BAIRRO VALPARAÍSO, NESTE MUNICÍPIO DE SERRA/ES.
A12: Local: SERRA - ES
A13: ITEM | B13: SERVIÇO | C13: TOTAL | D13: PESO
A15: 1 | B15: ='Medição 14 DP Cobilândia'!B19 -> SERVIÇOS PRELIMINARES | C15: ='Medição 14 DP Cobilândia'!#REF! -> #REF! | D15: =C15/$C$32 -> #REF!
A16: 2 | B16: ='Medição 14 DP Cobilândia'!B34 -> Sub total 01 | C16: ='Medição 14 DP Cobilândia'!F39 -> 6001.6 | D16: =C16/$C$32 -> #REF!
A17: 3 | B17: ='Medição 14 DP Cobilândia'!B40 -> Aluguel mensal container para refeitorio, incl. porta, 2 janelas, abert p/ ar cond., 2 pt iluminação, 2 tomadas elét. e 1 tomada telef. Isolamento térmico (paredes e teto), piso em comp. Naval pintado, cert. NR18, incl. laudo des | C17: ='Medição 14 DP Cobilândia'!#REF! -> #REF! | D17: =C17/$C$32 -> #REF!
A18: 4 | B18: ='Medição 14 DP Cobilândia'!#REF! -> #REF! | C18: ='Medição 14 DP Cobilândia'!F49 -> 339.95 | D18: =C18/$C$32 -> #REF!
A19: 5 | B19: ='Medição 14 DP Cobilândia'!B50 -> Sub total 03 | C19: ='Medição 14 DP Cobilândia'!#REF! -> #REF! | D19: =C19/$C$32 -> #REF!
A20: 6 | B20: ='Medição 14 DP Cobilândia'!#REF! -> #REF! | C20: ='Medição 14 DP Cobilândia'!F59 -> 0.05 | D20: =C20/$C$32 -> #REF!
A21: 7 | B21: ='Medição 14 DP Cobilândia'!B60 -> Aplicação de Sika Top 108 Armatec ou equivalente, nas ferragens a serem recuperadas | C21: ='Medição 14 DP Cobilândia'!#REF! -> #REF! | D21: =C21/$C$32 -> #REF!
A22: 8 | B22: ='Medição 14 DP Cobilândia'!#REF! -> #REF! | C22: ='Medição 14 DP Cobilândia'!#REF! -> #REF! | D22: =C22/$C$32 -> #REF!
A23: 9 | B23: ='Medição 14 DP Cobilândia'!B72 -> Sub total 05 | C23: ='Medição 14 DP Cobilândia'!F75 -> 478.23 | D23: =C23/$C$32 -> #REF!
A24: 10 | B24: ='Medição 14 DP Cobilândia'!B76 -> Marco de madeira de lei de 1ª (Peroba, Ipê, Angelim Pedra ou equivalente) com 15x3 cm de batente, nas dimensões de 0.60 x 2.10 m | C24: ='Medição 14 DP Cobilândia'!F82 -> 13042.95 | D24: =C24/$C$32 -> #REF!
A25: 11 | B25: ='Medição 14 DP Cobilândia'!#REF! -> #REF! | C25: ='Medição 14 DP Cobilândia'!F105 -> 17601.81 | D25: =C25/$C$32 -> #REF!
A26: 12 | B26: ='Medição 14 DP Cobilândia'!#REF! -> #REF! | C26: ='Medição 14 DP Cobilândia'!#REF! -> #REF! | D26: =C26/$C$32 -> #REF!
A27: 13 | B27: ='Medição 14 DP Cobilândia'!#REF! -> #REF! | C27: ='Medição 14 DP Cobilândia'!#REF! -> #REF! | D27: =C27/$C$32 -> #REF!
A28: 14 | B28: ='Medição 14 DP Cobilândia'!#REF! -> #REF! | C28: ='Medição 14 DP Cobilândia'!F120 -> 547.05 | D28: =C28/$C$32 -> #REF!
A29: 15 | B29: ='Medição 14 DP Cobilândia'!B121 -> Pastilha cerâmica branca 5 x 5 cm, assentada com argamassa de cimento colante e rejunte pré-fabricado, marcas de referência Atlas, Jatobá, NGK ou equivalentwe | C29: ='Medição 14 DP Cobilândia'!#REF! -> #REF! | D29: =C29/$C$32 -> #REF!
A30: 16 | B30: ='Medição 14 DP Cobilândia'!#REF! -> #REF! | C30: ='Medição 14 DP Cobilândia'!#REF! -> #REF! | D30: =C30/$C$32 -> #REF!
A32: TOTAL GLOBAL | C32: =SUM(C15:C30) -> #REF! | D32: =SUM(D15:D30) -> #REF!

Sheet Planilha com Valor
A2: Vila Velha, 27 de janeiro de 2022
A3: Governo do Estado do Espírito Santo
A4: Secretaria Estadual de Educação - SEDU
A5: Comissão Permanente de Licitação de Obras e Serviços de Engenharia 1 - CPLOSE 1
A6: Concorrência Pública Nº 022/2022
A7: Objeto: REFORMA NA EEEFM ADOLFINA ZAMPROGNO, LOCALIZADA NO MUNICÍPIO DE VILA VELHA/ES
E9: Data Base: julho/2022
A10: PLANILHA ORÇAMENTÁRIA
A11: Item | B11: Descrição dos serviços | C11: Unid. | D11: Quant. | E11: Valor Unit | F11: Valor Total
B13: PLANILHA 01 - CANTEIRO DE OBRAS
A14: 01 | B14: INSTALAÇÃO DO CANTEIRO DE OBRAS
A15: 0101 | B15: TAPUMES, BARRACÕES E COBERTURAS
A16: 010101 | B16: Placa de obra nas dimensões de 2.0 x 4.0 m, padrão SEDU | C16: m2 | D16: 8 | E16: 305.91 | F16: 2447.28
A17: 010102 | B17: Tapume Telha Metálica Ondulada em aço galvalume 0.50mm Branca H=2.20m, incl. montagem estrutura de madeira 8"x8", inclusive faixas pintura esmalte sintético cores azul c/ h=30cm e rosa c/ h=10cm (Reaproveitamento 2x) | C17: m | D17: 42.8 | E17: 218.03 | F17: 9331.68
A18: 010103 | B18: Portão em telha metálica ondulada 0.50mm branca, montagem estrut. de mad. 8"x8", incl. faixas pint. esmalte sintético azul h=30cm e rosa h=10cm, dobrad. de ferro, fecho de aço p/ portão e cadeado em latão 40mm (2 utilizações) | C18: m2 | D18: 17.6 | E18: 135.56 | F18: 2385.86
A19: 010104 | B19: Tapume de chapa de compensado resinado esp. 6 mm, 2.20 x 1.10 m dispondo de abertura e portão, com 2.20 m de altura , inclusive pintura | C19: m | D19: 12.5 | E19: 290.62 | F19: 3632.75
A20: 010105 | B20: Andaime metálico para trabalho em fachada de edifício, inclusive frete, montagem, desmontagem, fornecimento e instalação de proteção para andaime fachadeiro considerando plataforma, rodapé e guarda-corpo em madeira | C20: m2 | D20: 2147.28 | E20: 13.6 | F20: 29203.01
A21: 010106 | B21: Locação de andaime tipo torre para trabalhos nos ambientes internos (serviço medido após entrega dos ambientes concluídos e limpos) | C21: und | D21: 1 | E21: 3050.14 | F21: 3050.14
A22: 010107 | B22: Placa para inauguração de obra em alumínio polido e=4mm, dimensões 40 x 50 cm, gravação em baixo relevo, inclusive pintura e fixação | C22: und | D22: 1 | E22: 946.77 | F22: 946.77
A23: 0102 | B23: INSTALAÇÃO DO CANTEIRO DE OBRAS (UTILIZAÇÃO 1 VEZ), PROJETO PADRÃO LABOR - NR.18 (OBRAS COM PRAZO DE EXECUÇÃO SUPERIOR A 12 MESES)
A24: 010201 | B24: Barracão para escritório com sanitário área de 14.50 m2, de chapa de compens. 12mm e pontalete 8x8cm, piso cimentado e cobertura de telha de fibroc. 6mm, incl. ponto de luz e cx. de inspeção, conf. projeto (1 utilização) | C24: m2 | D24: 14.5 | E24: 995.74 | F24: 14438.23
A25: 010202 | B25: Barracão para almoxarifado área de 10.90m2, de chapa de compensado de 12mm e pontalete 8x8cm, piso cimentado e cobertura de telhas de fibrocimento de 6mm, incl. ponto de luz, conf. projeto (1 utilização) | C25: m2 | D25: 10.9 | E25: 748.71 | F25: 8160.94
A26: 010203 | B26: Barracão para depósito de cimento área de 10.90m2, de chapa de compensado 12mm e pontaletes 8x8cm, piso cimentado e cobertura de telhas de fibrocimento de 6mm, inclusive ponto de luz, conf. projeto (1 utilização) | C26: m2 | D26: 10.9 | E26: 656.38 | F26: 7154.54
A27: 010204 | B27: Refeitório com paredes de chapa de compens. 12mm e pontaletes 8x8cm, piso ciment. e cob. de telhas fibroc. 6mm, incl. ponto de luz e cx. de inspeção (cons. 1.21 m2/func./turno), conf. projeto (1 utilização) | C27: m2 | D27: 24.2 | E27: 574.16 | F27: 13894.67
A28: 010205 | B28: Unidade de sanitário e vestiário de 20 a 40 func. área 25.40m2, paredes de chapa compens. 12mm e pontalete 8x8cm, piso cimentado, cobert. telha fibroc. 6mm, incl. inst. de luz e cx. de inspeção, conf. projeto (1 utilização) | C28: und | D28: 1 | E28: 28704.08 | F28: 28704.08
A29: 010206 | B29: Galpão para serraria e carpintaria área 12.00m2, em peça de madeira 8x8cm e contraventamento de 5x7cm, cobertura de telha de fibroc. de 6mm, inclusive ponto e cabo de alimentação da máquina, conf. projeto (1 utilização) | C29: m2 | D29: 12 | E29: 272.42 | F29: 3269.04
A30: 010207 | B30: Galpão para corte e armação com área de 6.00m2, em peças de madeira 8x8cm e contraventamento de 5x7cm, cobertura de telhas de fibroc. de 6mm, inclusive ponto e cabo de alimentação da máquina, conf. projeto (1 utilização) | C30: m2 | D30: 6 | E30: 357.08 | F30: 2142.48
A31: 010208 | B31: Reservatório de poliestileno de 1000 L, incl. suporte em madeira de 7x12cm e 8x7cm, elevado de 4m, conf. projeto (1 utilização) | C31: und | D31: 1 | E31: 2844.18 | F31: 2844.18
A32: 010209 | B32: Rede de água com padrão de entrada d'água diâm. 3/4", conf. espec. CESAN, incl. tubos e conexões para alimentação, distribuição, extravasor e limpeza, cons. o padrão a 25m, conf. projeto (1 utilização) | C32: m | D32: 25 | E32: 57.14 | F32: 1428.5
A33: 010210 | B33: Rede de luz incluindo cabo PP 4x10 mm2, de ligação até o quadro de distribuição dos barracões, disjuntores, quadro de distrib. e disj. geral bipolar 40A, considerando dist. alimentação do cabo a aprox. 50m (1 utilização) | C33: m | D33: 50 | E33: 33.55 | F33: 1677.5
A34: 010211 | B34: Tubo PVC rígido para esgoto no diâmetro de 150mm incluindo escavação e aterro com areia | C34: m | D34: 50 | E34: 118.41 | F34: 5920.5
B35: Sub total 01 | F35: =SUM(F15:F34) -> 140632.15
B36: Total Planilha 01 | F36: =SUM(F35) -> 140632.15
B37: PLANILHA 02 - BANHEIROS
A38: 01 | B38: SERVIÇOS PRELIMINARES
A39: 0101 | B39: DEMOLIÇÕES E RETIRADAS
A40: 010101 | B40: Demolição de piso revestido com cerâmica inclusive lastro de concreto | C40: m2 | D40: 5.76 | E40: 27.94 | F40: 160.93
A41: 010102 | B41: Demolição de revestimento com azulejos | C41: m2 | D41: 40.8 | E41: 49.88 | F41: 2035.1
A42: 010103 | B42: Retirada de revestimento antigo em reboco | C42: m2 | D42: 40.8 | E42: 9.97 | F42: 406.78
A43: 010104 | B43: Demolição de alvenaria | C43: m3 | D43: 0.42 | E43: 59.86 | F43: 25.14
...

Sheet MPL 005 - Cobertura e Quadra
A2: Vila Velha, 15 de março de 2024
A3: Governo do Estado do Espírito Santo
A4: Secretaria Estadual de Educação - SEDU
A5: Comissão Permanente de Licitação de Obras e Serviços de Engenharia 1 - CPLOSE 1
A6: Concorrência Pública Nº 022/2022
A7: Objeto: REFORMA NA EEEFM ADOLFINA ZAMPROGNO, LOCALIZADA NO MUNICÍPIO DE VILA VELHA/ES
A10: PLANILHA 05 - COBERTURA E QUADRA DE ESPORTES MEMÓRIA DE CÁLCULO CIVIL
A12: 1 | B12: SERVIÇOS PRELIMINARES
A13: 101 | B13: DEMOLIÇÕES E RETIRADAS
A14: 10101 | B14: Retirada de revestimento antigo em reboco
A15: Local | C15: C (m) | D15: L (m) | E15: Desc.(m2) | I15: Total (m2)
A16: Muro aos fundos da Quadra (parte superior ao muro de pedra ) | C16: 12.6 | D16: 4.07 | E16: 27.25 | I16: =C16*D16-E16 -> 24.032
A17: Parede lateral da quadra de esportes (Local abaixo das esquadrias) | C17: 15.63 | D17: 1.45 | I17: =C17*D17-E17 -> 22.6635
A19: Total = | I19: =SUM(I16:I17) -> 46.6955
A21: 10102 | B21: Demolição de alvenaria
A22: Local | C22: C (m) | D22: L (m) | E22: H (m) | F22: Qtd. | I22: Total (m3)
A23: Paredes sobre a cobertura das salas de aula 10 a 16, onde serão montadas as novas tesouras estruturais | C23: 0.4 | D23: 0.2 | E23: 1 | F23: 13 | I23: =C23*D23*E23*F23 -> 1.04 | J23: 26.23 | K23: 0.3 | L23: =J23*K23 -> 7.869
A24: Abertura para escoamento de águas pluviais sobre lona nas extremidades da cobertura sobre as salas de aula 10 a 16 | C24: 0.2 | D24: 0.2 | E24: 0.15 | F24: 27 | I24: =C24*D24*E24*F24 -> 0.162
A25: Abertura para escoamento de águas pluviais sobre lona nas extremidades da cobertura sobre as salas de aula 17 a 18 | C25: 0.2 | D25: 0.2 | E25: 0.15 | F25: 10 | I25: =C25*D25*E25*F25 -> 0.06
A26: Paredes sobre a cobertura dos banheiros, onde serão montadas as novas tesouras estruturais | C26: 0.4 | D26: 0.2 | E26: 1 | F26: 3 | I26: =C26*D26*E26*F26 -> 0.24
A27: Abertura para escoamento de águas pluviais sobre lona nas extremidades da cobertura sobre os banheiros | C27: 0.2 | D27: 0.2 | E27: 0.15 | F27: 6 | I27: =C27*D27*E27*F27 -> 0.036
A28: Paredes sobre a cobertura das salas de aula 01 à 05, onde serão montadas as novas tesouras estruturais | C28: 0.4 | D28: 0.2 | E28: 1 | F28: 14 | I28: =C28*D28*E28*F28 -> 1.12
A29: Abertura para escoamento de águas pluviais sobre lona nas extremidades da cobertura sobre as salas de aula 01 à 05 | C29: 0.2 | D29: 0.2 | E29: 0.15 | F29: 28 | I29: =C29*D29*E29*F29 -> 0.168
A30: Platibanda sobre a cobertura das salas de aula 01 à 05, onde serão montadas as novas tesouras estruturais (somente se necessário) | C30: 99.4 | D30: 0.2 | E30: 0.4 | F30: 1 | I30: =C30*D30*E30*F30 -> 7.952
A31: Paredes sobre a cobertura do depósito da biblioteca onde serão montadas as novas tesouras estruturais | C31: 25.6 | D31: 0.2 | E31: 1.5 | F31: 1 | I31: =C31*D31*E31*F31 -> 7.68
A32: Abertura para escoamento de águas pluviais sobre lona nas extremidades da cobertura sobre o depósito da biblioteca | C32: 0.2 | D32: 0.2 | E32: 0.15 | F32: 6 | I32: =C32*D32*E32*F32 -> 0.036
A33: Paredes sobre a cobertura dos depósitos - em frente à escada do 1º para 2º pavimento - bloco 01 (somente se necessário) | C33: 32.9 | D33: 0.2 | E33: 1.5 | F33: 1 | I33: =C33*D33*E33*F33 -> 9.87
A34: Abertura para escoamento de águas pluviais sobre lona nas extremidades da cobertura sobre os depósitos - em frente à escada do 1º para 2º pavimento - bloco 01 | C34: 0.2 | D34: 0.2 | E34: 0.15 | F34: 4 | I34: =C34*D34*E34*F34 -> 0.024
A35: Mureta na entrada da quadra poliesportiva | C35: 12.15 | D35: 0.15 | E35: 0.85 | F35: 1 | I35: =C35*D35*E35*F35 -> 1.549125
A37: Total = | I37: =SUM(I23:I35) -> 29.937125
A39: 10103 | B39: Lixamento de parede com pintura antiga PVA para recebimento de nova camada de tinta
A40: Local | C40: C (m) | D40: L (m) | E40: Desc.(m2) | I40: Total (m2)
A41: Muro aos fundos da quadra poliesportiva | C41: 12.6 | D41: 4.07 | I41: =C41*D41-E41 -> 51.282
A42: Muro lateral - bloco 02 (quadra poliesportiva) | C42: 29.25 | D42: 3.5 | I42: =C42*D42-E42 -> 102.375
A43: Mureta na entrada da quadra poliesportiva | C43: 7.3 | D43: 0.85 | I43: =C43*D43-E43 -> 6.205
A44: Parede Lateral - bloco 01 (quadra poliesportiva) | C44: 27.46 | D44: 4 | E44: 37.89 | I44: =C44*D44-E44 -> 71.95
A46: Total = | I46: =SUM(I41:I44) -> 231.812
A48: 10104 | B48: Remoção de telhas cerâmica, inclusive cumeeira
A49: Local | C49: C (m) | D49: L (m) | I49: Total (m2)
A50: Cobertura sobre as salas de aula 10 à 16 | C50: 58.83 | D50: 9.67 | I50: =C50*D50 -> 568.8861 | J50: 26.23 | K50: 9.67 | L50: =J50*K50 -> 253.6441
...

Sheet Medição 14 DP Cobilândia
E1: POLÍCIA CIVIL DO ESTADO DO ESPÍRITO SANTO
E2: Superintendência de Apoio Logístico e Engenharia
E3: Divisão de Engenharia e Manutenção Predial
A7: PLANILHA DE MEDIÇÃO
A8: CLIENTE: POLÍCIA CIVIL DO ESTADO DO ESPIRITO SANTO | E8: TOMADA DE PREÇO: nº01/2023 | K8: ORDEM DE SERVIÇO: 09/08/2024
A9: OBRA: CONTRATAÇÃO DE EMPRESA PARA EXECUÇÃO DA OBRA DE SERVIÇOS DE REFORMA E ADEQUAÇÕES PREDIAIS DO 9º DISTRITO POLICIAL DE COBILÂNDIA - PCES | E9: CONTRATO: nº 2024.000046.45102.01 | K9: PRAZO: 14 meses
A10: CONTRATADA: DUAL ENGENHARIA | E10: E-DOCS 2022-N45T1 | K10: TÉRMINO PREVISTO: 10/10/2025
A17: ITEM | B17: DESCRIÇÃO DOS SERVIÇOS | C17: UND | D17: QUANT. | E17: VALOR UNITÁRIO | F17: TOTAL | G17: ADITIVO | I17: CONTRATO+ADITIVO | K17: ACUMULADO
G18: QTDE ADITIVO | H18: VL ADITIVO | I18: QTDE CT+AD | J18: VL CT+AD01 | K18: QTD. ACUM. | L18: VALOR
A19: 01 | B19: SERVIÇOS PRELIMINARES
A20: 102 | B20: DEMOLIÇÕES E RETIRADAS
A21: 10202 | B21: Demolição de piso revestido com cerâmica inclusive lastro de concreto | C21: m2 | D21: 20.6 | E21: 25.53 | F21: =ROUND(D21*E21,2) -> 525.92 | H21: 0 | I21: 20.6 | J21: 525.92 | K21: 20.6 | L21: 525.92
A22: 10203 | B22: Demolição de revestimento com azulejos | C22: m2 | D22: 30.87 | E22: 41.68 | F22: =ROUND(D22*E22,2) -> 1286.66 | G22: 17 | H22: 708.56 | I22: 47.87 | J22: 1995.22 | K22: 47.87 | L22: 1995.22
A23: 10204 | B23: Retirada de revestimento antigo em reboco | C23: m2 | D23: 318.31 | E23: 9.17 | F23: =ROUND(D23*E23,2) -> 2918.9 | G23: 438.99 | H23: 4025.54 | I23: 757.3 | J23: 6944.44 | K23: 757.3 | L23: 6944.44
A24: 10206 | B24: Demolição manual de concreto simples (EMOP 05.001.001) | C24: m3 | D24: 0.00798 | E24: 260.49 | F24: =D24*E24 -> 2.0787102 | G24: 1.3 | H24: 338.64 | I24: 1.30798 | J24: 340.72 | K24: 1.30798 | L24: 340.72
A25: 10207 | B25: Retirada manual de blocos pré-moldados de concreto (Blokret), inclusive empilhamento para reaproveitamento | C25: m2 | D25: 128.2 | E25: 12.5 | F25: =ROUND(D25*E25,2) -> 1602.5 | G25: 400.8 | H25: 5010 | I25: 529 | J25: 6612.5 | K25: 529 | L25: 6612.5
A26: 10208 | B26: Retirada de portas e janelas de madeira, inclusive batentes | C26: m2 | D26: 3.15 | E26: 14.59 | F26: =ROUND(D26*E26,2) -> 45.96 | H26: 0 | I26: 3.15 | J26: 45.96 | K26: 3.15 | L26: 45.96
A27: 10209 | B27: Retirada de esquadrias metálicas | C27: m2 | D27: 6 | E27: 9.38 | F27: =ROUND(D27*E27,2) -> 56.28 | H27: 0 | I27: 6 | J27: 56.28 | K27: 6 | L27: 56.28
A28: 10213 | B28: Retirada de aparelhos sanitários | C28: und | D28: 2 | E28: 18.75 | F28: =ROUND(D28*E28,2) -> 37.5 | H28: 0 | I28: 2 | J28: 37.5 | K28: 2 | L28: 37.5
A29: 10214 | B29: Retirada de grades, gradis, alambrados, cercas e portões | C29: m2 | D29: 32.85 | E29: 15.63 | F29: =ROUND(D29*E29,2) -> 513.45 | H29: 0 | I29: 32.85 | J29: 513.45 | K29: 32.85 | L29: 513.45
A30: 10219 | B30: Retirada de rodapé de madeira ou cerâmica | C30: m | D30: 13.38 | E30: 2.08 | F30: =ROUND(D30*E30,2) -> 27.83 | H30: 0 | I30: 13.38 | J30: 27.83 | K30: 13.38 | L30: 27.83
A31: 10222 | B31: Demolição de muro em alvenaria, inclusive estrutura em concreto armado (pilares cintas e vigas) | C31: m3 | D31: 10.62 | E31: 625.16 | F31: =ROUND(D31*E31,2) -> 6639.2 | H31: 0 | I31: 10.62 | J31: 6639.2 | K31: 0 | L31: 0
A32: 10224 | B32: Demolição de estrutura de madeira para telhado | C32: m2 | D32: 125 | E32: 26.05 | F32: =ROUND(D32*E32,2) -> 3256.25 | H32: 0 | I32: 125 | J32: 3256.25 | K32: 40 | L32: 1042
A33: 10225 | B33: Demolição de piso, soleira, peitoris e escadas em mármore ou granito, exclusive regularização | C33: m2 | D33: 0.75 | E33: 9.9 | F33: =ROUND(D33*E33,2) -> 7.43 | H33: 0 | I33: 0.75 | J33: 7.43 | K33: 0.75 | L33: 7.43
B34: Sub total 01 | F34: =SUM(F20:F33) -> 16919.959 | H34: 10082.74 | J34: 27002.7 | L34: 18149.25
A35: 2 | B35: INSTALAÇÃO DO CANTEIRO DE OBRAS
A36: 201 | B36: TAPUMES, BARRACÕES E COBERTURAS | I36: 0 | J36: 0
A37: 20103 | B37: Fechamento de andaime com tela de nylon | C37: m2 | D37: 150 | E37: 31.26 | F37: =ROUND(D37*E37,2) -> 4689 | H37: 0 | I37: 150 | J37: 4689 | K37: 150 | L37: 4689
